BEGIN:VCALENDAR
VERSION:2.0
PRODID:-//Destination Bedford - ECPv6.8.3//NONSGML v1.0//EN
CALSCALE:GREGORIAN
METHOD:PUBLISH
X-WR-CALNAME:Destination Bedford
X-ORIGINAL-URL:https://destinationbedfordva.com
X-WR-CALDESC:Events for Destination Bedford
REFRESH-INTERVAL;VALUE=DURATION:PT1H
X-Robots-Tag:noindex
X-PUBLISHED-TTL:PT1H
BEGIN:VTIMEZONE
TZID:America/New_York
BEGIN:DAYLIGHT
TZOFFSETFROM:-0500
TZOFFSETTO:-0400
TZNAME:EDT
DTSTART:20160313T070000
END:DAYLIGHT
BEGIN:STANDARD
TZOFFSETFROM:-0400
TZOFFSETTO:-0500
TZNAME:EST
DTSTART:20161106T060000
END:STANDARD
END:VTIMEZONE
BEGIN:VEVENT
DTSTART;TZID=America/New_York:20160520T073000
DTEND;TZID=America/New_York:20160520T133000
DTSTAMP:20260423T020656
CREATED:20160107T003043Z
LAST-MODIFIED:20160107T003043Z
UID:10045887-1463729400-1463751000@destinationbedfordva.com
SUMMARY:Bedford Farmers Friday Market
DESCRIPTION:
URL:https://destinationbedfordva.com/event/bedford-farmers-friday-market/2016-05-20/
LOCATION:Washington and Center Streets\, Bedford\, VA\, 24523\, United States
CATEGORIES:Featured
GEO:37.3343079;-79.5230877
END:VEVENT
BEGIN:VEVENT
DTSTART;TZID=America/New_York:20160520T113000
DTEND;TZID=America/New_York:20160520T133000
DTSTAMP:20260423T020656
CREATED:20160511T174233Z
LAST-MODIFIED:20160511T174233Z
UID:10045931-1463743800-1463751000@destinationbedfordva.com
SUMMARY:Food Truck Fridays
DESCRIPTION:  \nA variety of local and regional Food Trucks at and during the Bedford Farmers Market.
URL:https://destinationbedfordva.com/event/food-truck-fridays/2016-05-20/
LOCATION:VA
END:VEVENT
END:VCALENDAR