BEGIN:VCALENDAR
VERSION:2.0
PRODID:-//Destination Bedford - ECPv6.8.3//NONSGML v1.0//EN
CALSCALE:GREGORIAN
METHOD:PUBLISH
X-ORIGINAL-URL:https://destinationbedfordva.com
X-WR-CALDESC:Events for Destination Bedford
REFRESH-INTERVAL;VALUE=DURATION:PT1H
X-Robots-Tag:noindex
X-PUBLISHED-TTL:PT1H
BEGIN:VTIMEZONE
TZID:America/New_York
BEGIN:DAYLIGHT
TZOFFSETFROM:-0500
TZOFFSETTO:-0400
TZNAME:EDT
DTSTART:20160313T070000
END:DAYLIGHT
BEGIN:STANDARD
TZOFFSETFROM:-0400
TZOFFSETTO:-0500
TZNAME:EST
DTSTART:20161106T060000
END:STANDARD
BEGIN:DAYLIGHT
TZOFFSETFROM:-0500
TZOFFSETTO:-0400
TZNAME:EDT
DTSTART:20170312T070000
END:DAYLIGHT
BEGIN:STANDARD
TZOFFSETFROM:-0400
TZOFFSETTO:-0500
TZNAME:EST
DTSTART:20171105T060000
END:STANDARD
END:VTIMEZONE
BEGIN:VEVENT
DTSTART;VALUE=DATE:20161116
DTEND;VALUE=DATE:20170101
DTSTAMP:20260422T015456
CREATED:20161128T174345Z
LAST-MODIFIED:20161128T174345Z
UID:10046324-1479254400-1483228799@destinationbedfordva.com
SUMMARY:A Bedford Christmas ~ Christmas Happenings ~
DESCRIPTION:
URL:https://destinationbedfordva.com/event/a-bedford-christmas-christmas-happenings/
LOCATION:VA
CATEGORIES:Featured
END:VEVENT
BEGIN:VEVENT
DTSTART;TZID=America/New_York:20161116T090000
DTEND;TZID=America/New_York:20161231T120000
DTSTAMP:20260422T015456
CREATED:20150406T232223Z
LAST-MODIFIED:20150406T232223Z
UID:10045862-1479286800-1483185600@destinationbedfordva.com
SUMMARY:8th Annual Festival of Trees
DESCRIPTION:The theme this year is “Down Home Country Christmas”.   Come and see all the different decorated trees inside. You can also vote for your favorite tree\, voting is just $1.00 per vote.  All proceeds of the winning trees will be donated to their selected charities. \nThe Welcome Center will be closed Thanksgiving\, Christmas Eve\, and Christmas Day.   \nThe Welcome Center will be closing at 12 noon on New Year’s Eve and will be closed on New Year’s Day.    \nSpecial Hours: Open until 9:00pm on Friday\, December 2\, 2016\, Friday\, December 9\, 2016\, Saturday\, December 10\, 2016\, Sunday\, December 11\, 2016 and Friday\, December 16\, 2016.
URL:https://destinationbedfordva.com/event/7th-annual-festival-of-trees/
LOCATION:Bedford Welcome Center\, 816 Burks Hill Road\, Bedford\, VA\, 24523\, United States
CATEGORIES:Featured
GEO:37.3252067;-79.5316819
X-APPLE-STRUCTURED-LOCATION;VALUE=URI;X-ADDRESS=Bedford Welcome Center 816 Burks Hill Road Bedford VA 24523 United States;X-APPLE-RADIUS=500;X-TITLE=816 Burks Hill Road:geo:-79.5316819,37.3252067
END:VEVENT
BEGIN:VEVENT
DTSTART;TZID=America/New_York:20161118T120000
DTEND;TZID=America/New_York:20161223T170000
DTSTAMP:20260422T015456
CREATED:20150918T193830Z
LAST-MODIFIED:20150918T193830Z
UID:10045874-1479470400-1482512400@destinationbedfordva.com
SUMMARY:Christmas Time’s A’Coming Open House at Peaks of Otter Winery
DESCRIPTION:Warm apple cinnamon wine and cider will be in the wine tasting room. Gift packs of wine and canned products will make wonderful Christmas gifts.  Also\, Picnic and enjoy visiting our many farm animals.
URL:https://destinationbedfordva.com/event/christmas-times-acoming-open-house-at-peaks-of-otter-winery/2016-11-18/
LOCATION:Peaks of Otter Winery\, 2122 Sheep Creek Road\, Bedford\, VA\, 24523\, United States
CATEGORIES:Featured
GEO:37.400246;-79.6237392
X-APPLE-STRUCTURED-LOCATION;VALUE=URI;X-ADDRESS=Peaks of Otter Winery 2122 Sheep Creek Road Bedford VA 24523 United States;X-APPLE-RADIUS=500;X-TITLE=2122 Sheep Creek Road:geo:-79.6237392,37.400246
END:VEVENT
BEGIN:VEVENT
DTSTART;VALUE=DATE:20161125
DTEND;VALUE=DATE:20170116
DTSTAMP:20260422T015456
CREATED:20150210T010215Z
LAST-MODIFIED:20150210T010215Z
UID:10045861-1480032000-1484524799@destinationbedfordva.com
SUMMARY:Model Train Exhibit at Bedford Museum and Genealogical Library
DESCRIPTION:  \n  \nThe Museum is open Monday through Saturday from 10:00 am to 5:00 pm. Christmas Eve open 10:00am to 5:00pm.
URL:https://destinationbedfordva.com/event/model-train-exhibit-at-bedford-museum-and-genealogical-library/
LOCATION:Bedford Museum and Genealogical Library\, 201 East Main Street\, Bedford\, VA\, 24523\, United States
CATEGORIES:Featured
GEO:37.3341734;-79.5218999
X-APPLE-STRUCTURED-LOCATION;VALUE=URI;X-ADDRESS=Bedford Museum and Genealogical Library 201 East Main Street Bedford VA 24523 United States;X-APPLE-RADIUS=500;X-TITLE=201 East Main Street:geo:-79.5218999,37.3341734
END:VEVENT
BEGIN:VEVENT
DTSTART;VALUE=DATE:20161201
DTEND;VALUE=DATE:20161218
DTSTAMP:20260422T015456
CREATED:20160212T210642Z
LAST-MODIFIED:20160212T210642Z
UID:10045922-1480550400-1482019199@destinationbedfordva.com
SUMMARY:Holiday Candlelight Tours
DESCRIPTION:Ring in the holidays with a magical candlelit tour of Mr. Jefferson’s cherished villa retreat dressed for the holidays with 19th-century panache. These very popular—and often sold out—after-hours tours offer an intimate look at what Thomas Jefferson and his family’s evenings might have been like. As visitors walk through the octagonal house\, they’ll be entertained by anecdotes gathered from Jefferson’s letters and diaries. \nTours are offered at 5:30 p.m. only on the following evenings: \n—Thursday\, December 1\n—Thursday\, December 8\n—Thursday\, December 15 \nTours are offered at 5:30 and 6:30 p.m. on the following evenings:\n—Friday\, December 2\n—Saturday\, December 3\n—Friday\, December 9\n—Saturday\, December 10\n—Friday\, December 16\n—Saturday\, December 17 \nAdmission is $20 per person. Reservations are required and can be made by calling the Museum Shop at 434.534.8120.
URL:https://destinationbedfordva.com/event/candlelight-tours/
LOCATION:Thomas Jefferson’s Poplar Forest\, 687 Poplar Forest Dr.\, Forest\, VA\, 24551\, United States
CATEGORIES:Featured
GEO:37.3589053;-79.2680641
X-APPLE-STRUCTURED-LOCATION;VALUE=URI;X-ADDRESS=Thomas Jefferson’s Poplar Forest 687 Poplar Forest Dr. Forest VA 24551 United States;X-APPLE-RADIUS=500;X-TITLE=687 Poplar Forest Dr.:geo:-79.2680641,37.3589053
END:VEVENT
BEGIN:VEVENT
DTSTART;TZID=America/New_York:20161203T110000
DTEND;TZID=America/New_York:20161210T150000
DTSTAMP:20260422T015456
CREATED:20160212T210442Z
LAST-MODIFIED:20160212T210442Z
UID:10045920-1480762800-1481382000@destinationbedfordva.com
SUMMARY:Saturday Holiday Events
DESCRIPTION:Crafts\, Father Christmas\, Cooking Demonstrations\, Dancing Demonstrations \n 
URL:https://destinationbedfordva.com/event/saturday-holiday-events/2016-12-03/
LOCATION:Thomas Jefferson’s Poplar Forest\, 687 Poplar Forest Dr.\, Forest\, VA\, 24551\, United States
GEO:37.3589053;-79.2680641
X-APPLE-STRUCTURED-LOCATION;VALUE=URI;X-ADDRESS=Thomas Jefferson’s Poplar Forest 687 Poplar Forest Dr. Forest VA 24551 United States;X-APPLE-RADIUS=500;X-TITLE=687 Poplar Forest Dr.:geo:-79.2680641,37.3589053
END:VEVENT
BEGIN:VEVENT
DTSTART;TZID=America/New_York:20161204T113000
DTEND;TZID=America/New_York:20161204T153000
DTSTAMP:20260422T015456
CREATED:20161205T181711Z
LAST-MODIFIED:20161205T181711Z
UID:10046335-1480851000-1480865400@destinationbedfordva.com
SUMMARY:Peaks of Otter Lodge Sunday Brunch Buffet
DESCRIPTION:December 4\, 2016 – March 12\, 2017\n11:30 am – 3:30 pm\n$18.95 Adults\n$9.95 Children (12 & under) \n  \nSALAD BAR Sautéed Apples Fresh Fruit Seasonal Fresh Vegetables Rice Pilaf or Chef’s Choice Potatoes Assorted Salads Peaks Famous Fried Chicken 2 Chef’s Choice Proteins Bacon or Sausage Scrambled Eggs Gravy & Biscuits \nMADE TO ORDER OMELETS STATION WAFFLE STATION\n CHEF’S CHOICE OF DESSERTS\n \nGroups of 6 or more are encouraged to call ahead\, 540-586-1081.\n 
URL:https://destinationbedfordva.com/event/peaks-of-otter-lodge-sunday-brunch-buffet/
LOCATION:Peaks of Otter Lodge\, 85554 Blue Ridge Parkway\, Bedford\, VA\, 24523\, United States
GEO:37.448364;-79.604359
X-APPLE-STRUCTURED-LOCATION;VALUE=URI;X-ADDRESS=Peaks of Otter Lodge 85554 Blue Ridge Parkway Bedford VA 24523 United States;X-APPLE-RADIUS=500;X-TITLE=85554 Blue Ridge Parkway:geo:-79.604359,37.448364
END:VEVENT
BEGIN:VEVENT
DTSTART;TZID=America/New_York:20161204T130000
DTEND;TZID=America/New_York:20161204T170000
DTSTAMP:20260422T015456
CREATED:20161123T175704Z
LAST-MODIFIED:20161123T175704Z
UID:10046322-1480856400-1480870800@destinationbedfordva.com
SUMMARY:Paintings and Calendar Featured at Goose Creek for Studio and Gallery Tour
DESCRIPTION:As part of the 5th Annual Art Studio and Gallery Tour in the Town of Bedford – Sunday\, December 4\, 1-5 pm – Goose Creek Studio will be presenting a special exhibit by local folk art painter Carol Burnett.  Burnett has selected 13 of her paintings – one for each month of the year plus one for the cover – to be included in a 2017 wall calendar.  The exhibit\, titled “Through the Year\,” will feature the original paintings which\, along with the calendars\, will be for sale. \n Carol Burnett was always drawing as a child. At the age of 60\, and after many years of running local antique shops\, she decided to return to painting.  Burnett calls the style of her work a naïve type of folk art.  She works in a variety of mediums that include both drawings and paintings in a mixed palette of pen and ink\, watercolor\, marker\, acrylic and pastel.  Much of her work celebrates the nostalgia of the country landscape\, family life or women’s fashions. \n Goose Creek Studio is located at 302 Court Street in Bedford.  For more information\, see or call (540) 586-8482. \n       
URL:https://destinationbedfordva.com/event/paintings-and-calendar-featured-at-goose-creek-for-studio-and-gallery-tour/
LOCATION:Goose Creek Studio Gallery\, 302 Court Street\, Bedford\, VA\, United States
GEO:37.334857;-79.521451
X-APPLE-STRUCTURED-LOCATION;VALUE=URI;X-ADDRESS=Goose Creek Studio Gallery 302 Court Street Bedford VA United States;X-APPLE-RADIUS=500;X-TITLE=302 Court Street:geo:-79.521451,37.334857
END:VEVENT
END:VCALENDAR