BEGIN:VCALENDAR
VERSION:2.0
PRODID:-//Destination Bedford - ECPv6.8.3//NONSGML v1.0//EN
CALSCALE:GREGORIAN
METHOD:PUBLISH
X-WR-CALNAME:Destination Bedford
X-ORIGINAL-URL:https://destinationbedfordva.com
X-WR-CALDESC:Events for Destination Bedford
REFRESH-INTERVAL;VALUE=DURATION:PT1H
X-Robots-Tag:noindex
X-PUBLISHED-TTL:PT1H
BEGIN:VTIMEZONE
TZID:America/New_York
BEGIN:DAYLIGHT
TZOFFSETFROM:-0500
TZOFFSETTO:-0400
TZNAME:EDT
DTSTART:20180311T070000
END:DAYLIGHT
BEGIN:STANDARD
TZOFFSETFROM:-0400
TZOFFSETTO:-0500
TZNAME:EST
DTSTART:20181104T060000
END:STANDARD
END:VTIMEZONE
BEGIN:VEVENT
DTSTART;TZID=America/New_York:20180409T100000
DTEND;TZID=America/New_York:20180409T110000
DTSTAMP:20260424T020234
CREATED:20180110T195931Z
LAST-MODIFIED:20180110T195931Z
UID:10046490-1523268000-1523271600@destinationbedfordva.com
SUMMARY:National D-Day Memorial - WWII Book Club
DESCRIPTION:In our ongoing effort to raise awareness of the epic struggle that was World War II\, the National D-Day Memorial is pleased to continue our WWII Book Club in early 2018. \nWe will meet to discuss a fascinating volume dealing with the war\, sharing our individual perspective and reflecting on the meaning. \nBooks will be announced on Facebook and updated on our website a month prior to the next meeting. \nParticipants also receive a 10% discount on purchases from Happycoffee during WWII Book Club meetings.
URL:https://destinationbedfordva.com/event/national-d-day-memorial-wwii-book-club/
LOCATION:Happy Coffee\, 104 North Bridge Street\, Bedford\, VA\, 24523\, United States
END:VEVENT
END:VCALENDAR