BEGIN:VCALENDAR
VERSION:2.0
PRODID:-//Destination Bedford - ECPv6.8.3//NONSGML v1.0//EN
CALSCALE:GREGORIAN
METHOD:PUBLISH
X-ORIGINAL-URL:https://destinationbedfordva.com
X-WR-CALDESC:Events for Destination Bedford
REFRESH-INTERVAL;VALUE=DURATION:PT1H
X-Robots-Tag:noindex
X-PUBLISHED-TTL:PT1H
BEGIN:VTIMEZONE
TZID:America/New_York
BEGIN:DAYLIGHT
TZOFFSETFROM:-0500
TZOFFSETTO:-0400
TZNAME:EDT
DTSTART:20180311T070000
END:DAYLIGHT
BEGIN:STANDARD
TZOFFSETFROM:-0400
TZOFFSETTO:-0500
TZNAME:EST
DTSTART:20181104T060000
END:STANDARD
END:VTIMEZONE
BEGIN:VEVENT
DTSTART;TZID=America/New_York:20180421T080000
DTEND;TZID=America/New_York:20180421T120000
DTSTAMP:20260424T160734
CREATED:20160602T195440Z
LAST-MODIFIED:20160602T195440Z
UID:10046051-1524297600-1524312000@destinationbedfordva.com
SUMMARY:Forest Farmers Market
DESCRIPTION:Virginia Grown Produce\, meats\, honey\, flowers along with breads for locals to enjoy.   The market is open the last week in April until the last week in Oct.  Please come and enjoy the local food from our area.
URL:https://destinationbedfordva.com/event/forest-farmers-market/2018-04-21/
LOCATION:Forest Farmers Market\, 15583 Forest Road\, Forest\, VA\, 24523\, United States
GEO:37.3649641;-79.2850156
X-APPLE-STRUCTURED-LOCATION;VALUE=URI;X-ADDRESS=Forest Farmers Market 15583 Forest Road Forest VA 24523 United States;X-APPLE-RADIUS=500;X-TITLE=15583 Forest Road:geo:-79.2850156,37.3649641
END:VEVENT
BEGIN:VEVENT
DTSTART;TZID=America/New_York:20180421T090000
DTEND;TZID=America/New_York:20180421T160000
DTSTAMP:20260424T160734
CREATED:20180112T171103Z
LAST-MODIFIED:20180112T171103Z
UID:10046517-1524301200-1524326400@destinationbedfordva.com
SUMMARY:Olde Liberty Fibre Faire
DESCRIPTION:Come and join the fun – it’s our 10th Anniversary!\n\nThe Olde Liberty Fibre Faire of Bedford\, Virginia is a celebration of the fibre arts.  We embrace and enjoy spinning\, knitting\, weaving\, felting and all things fibre-related.\n\n \nThe 2018 festival date is Saturday\, April 21st and if you are interested in being a vendor\, please\n\ndownload a copy of our application.\n\n \nOur mission is simple:  charity and education.  For 2018\, we have partnered with both Project Linus and From the Heart to create handmade goods for people in need.\n\n \nIf you have any questions\, please do not hesitate to contact Dana or Dianne.\nClick here for more information on this event.\n\n \nAdmission is $5.00 and children under 12 are free.\n 
URL:https://destinationbedfordva.com/event/olde-liberty-fibre-faire-2/
LOCATION:Bedford Lions Club\, 1577 East Lynchburg Salem Turnpike\, Bedford\, VA\, 24523\, United States
END:VEVENT
BEGIN:VEVENT
DTSTART;TZID=America/New_York:20180421T100000
DTEND;TZID=America/New_York:20180421T150000
DTSTAMP:20260424T160734
CREATED:20180110T200150Z
LAST-MODIFIED:20180110T200150Z
UID:10046491-1524304800-1524322800@destinationbedfordva.com
SUMMARY:Prelude to Invasion: Living History Day at The National D-Day Memorial
DESCRIPTION:D-Day history will come to life as we go back in time to World War II! \nCome encounter costumed interpreters who tell tales of the war: workers on the homefront at local factories; members of Eisenhower’s staff who helped plan the invasion; liberated French residents; and the soldiers\, sailors\, and airmen who landed on the beaches of Normandy on June 6\, 1944. \nWWII-era encampments will be scattered throughout the grounds and WWII veterans will be on hand to share their personal experiences in the war. \nRegular admission fees apply. \nContact the Memorial’s Education Department at (540) 586-3329 ext. 111 or education@dday.org for more information.
URL:https://destinationbedfordva.com/event/prelude-to-invasion-living-history-day-at-the-national-d-day-memorial/
LOCATION:National D-Day Memorial\, 3 Overlord Circle\, Bedford\, VA\, 24523\, United States
GEO:37.3277294;-79.5346964
X-APPLE-STRUCTURED-LOCATION;VALUE=URI;X-ADDRESS=National D-Day Memorial 3 Overlord Circle Bedford VA 24523 United States;X-APPLE-RADIUS=500;X-TITLE=3 Overlord Circle:geo:-79.5346964,37.3277294
END:VEVENT
BEGIN:VEVENT
DTSTART;TZID=America/New_York:20180421T100000
DTEND;TZID=America/New_York:20180421T150000
DTSTAMP:20260424T160734
CREATED:20180321T171958Z
LAST-MODIFIED:20180321T171958Z
UID:10046564-1524304800-1524322800@destinationbedfordva.com
SUMMARY:Earth Day Celebration
DESCRIPTION:Bedford Get Together is planning a celebration of Earth Day in Bedford on April 21 from 10:00 am to 3:00 pm.   This year’s theme for Earth Day is to end plastic pollution\, a very ambitious goal but one that we can all begin.  Bedford Central Library\, Wharton Garden and Bower Center for the Arts will be the main sites for the exhibits and activities.  In case of rain the activities will move into the Library and Bower Center. \nAt least 12 additional groups have expressed interest in joining the event and are planning hands on activities or displays that will be free to the public.  They include Land and Table\, Master Gardeners\, Citizens Climate Lobby\, Claytor Nature Studies Center\, Bedford Urban Gardens\, Bedford County Solid Waste Management and Friends of the Bedford Central Library.   Examples of the some of the activities include creating artwork from recycled book pages\, and planting seeds in planters made from recycled paper rolls. Bedford Get Together will also give away oak trees to the first 100 people attending! \nNot only can you and your family participate in these fun activities\, but Azul and Town Kitchen Provisions will be open and serving Earth Day food.  For your enjoyment\, the band The Freaks of Odder will perform that day.  The Freaks play rock music from contemporary artists to punk and alternative bands such as MMJ\, Deer Tick\, and Clash\, to name a few. \nIf you or your group would like to offer something appropriate for the event\, contact Bedford Get Together at bedfordgettogether@gmail.com for more information. \n(Bedford Get Together is a 501c3 grassroots organization dedicated to strengthening community through celebrating our shared values\, providing learning opportunities about issues important to our life together\, and raising awareness about the wealth of support resources in Bedford.  For more information about Bedford Get Together\, visit www.bedfordgettogether.com.)
URL:https://destinationbedfordva.com/event/earth-day-celebration/
END:VEVENT
BEGIN:VEVENT
DTSTART;TZID=America/New_York:20180421T150000
DTEND;TZID=America/New_York:20180421T220000
DTSTAMP:20260424T160734
CREATED:20180321T193954Z
LAST-MODIFIED:20180321T193954Z
UID:10046583-1524322800-1524348000@destinationbedfordva.com
SUMMARY:Emergence Festival
DESCRIPTION:After a long cold winter\, everyone is ready to emerge into spring! Come set your imagination free on our sprawling 250 acre farm.  Come frolic in the blossoms of spring as you enjoy eclectic vendors\, four amazing Virginia bands\, belly dancers\, and street performers.  There will also be yoga\, drum circles and healing arts offered.  After a long day of entertainment\, join us for overnight camping down by the creek.
URL:https://destinationbedfordva.com/event/emergence-festival/
LOCATION:Peaks of Otter Winery\, 2122 Sheep Creek Road\, Bedford\, VA\, 24523\, United States
GEO:37.400246;-79.6237392
X-APPLE-STRUCTURED-LOCATION;VALUE=URI;X-ADDRESS=Peaks of Otter Winery 2122 Sheep Creek Road Bedford VA 24523 United States;X-APPLE-RADIUS=500;X-TITLE=2122 Sheep Creek Road:geo:-79.6237392,37.400246
END:VEVENT
END:VCALENDAR