BEGIN:VCALENDAR
VERSION:2.0
PRODID:-//Destination Bedford - ECPv6.8.3//NONSGML v1.0//EN
CALSCALE:GREGORIAN
METHOD:PUBLISH
X-WR-CALNAME:Destination Bedford
X-ORIGINAL-URL:https://destinationbedfordva.com
X-WR-CALDESC:Events for Destination Bedford
REFRESH-INTERVAL;VALUE=DURATION:PT1H
X-Robots-Tag:noindex
X-PUBLISHED-TTL:PT1H
BEGIN:VTIMEZONE
TZID:America/New_York
BEGIN:DAYLIGHT
TZOFFSETFROM:-0500
TZOFFSETTO:-0400
TZNAME:EDT
DTSTART:20180311T070000
END:DAYLIGHT
BEGIN:STANDARD
TZOFFSETFROM:-0400
TZOFFSETTO:-0500
TZNAME:EST
DTSTART:20181104T060000
END:STANDARD
END:VTIMEZONE
BEGIN:VEVENT
DTSTART;TZID=America/New_York:20180422T110000
DTEND;TZID=America/New_York:20180422T170000
DTSTAMP:20260424T032433
CREATED:20180321T194423Z
LAST-MODIFIED:20180321T194423Z
UID:10046584-1524394800-1524416400@destinationbedfordva.com
SUMMARY:Earth Day Celebration at Peaks of Otter
DESCRIPTION:Guided hikes and walks; interactive stations with NPS starting at 11 a.m. in the Main Lodge.  Sunday Brunch will be served 11:30 a.m. – 3 p.m.  Succulents & Sips at 1 p.m. Volunteer cleanup will be 1-5 p.m. – meet at Sharp Top Store.  A special Earth Day menu for dinner will be served beginning at 4:30 p.m. \n  \n 
URL:https://destinationbedfordva.com/event/earth-day-celebration-at-peaks-of-otter/
LOCATION:Peaks of Otter Lodge\, 85554 Blue Ridge Parkway\, Bedford\, VA\, 24523\, United States
GEO:37.448364;-79.604359
X-APPLE-STRUCTURED-LOCATION;VALUE=URI;X-ADDRESS=Peaks of Otter Lodge 85554 Blue Ridge Parkway Bedford VA 24523 United States;X-APPLE-RADIUS=500;X-TITLE=85554 Blue Ridge Parkway:geo:-79.604359,37.448364
END:VEVENT
BEGIN:VEVENT
DTSTART;TZID=America/New_York:20180422T110000
DTEND;TZID=America/New_York:20180422T210000
DTSTAMP:20260424T032433
CREATED:20180419T145230Z
LAST-MODIFIED:20180419T145230Z
UID:10046601-1524394800-1524430800@destinationbedfordva.com
SUMMARY:Earth Day at Peaks of Otter Lodge
DESCRIPTION:Celebrate Earth Day at Peaks of Otter Lodge with a variety of activities and events hosted by the lodge and the National Park Service. Enjoy delicious food\, guided walks and NPS programs\, Succulents & Sips at the Lodge\, Volunteer Clean-up of Sharp Top Mountain\, a bicycle rack dedication\, and more! \nEvent Link: https://www.peaksofotter.com/things-to-do/events-calendar
URL:https://destinationbedfordva.com/event/earth-day-at-peaks-of-otter-lodge/
LOCATION:Peaks of Otter Lodge\, 85554 Blue Ridge Parkway\, Bedford\, VA\, 24523\, United States
GEO:37.448364;-79.604359
X-APPLE-STRUCTURED-LOCATION;VALUE=URI;X-ADDRESS=Peaks of Otter Lodge 85554 Blue Ridge Parkway Bedford VA 24523 United States;X-APPLE-RADIUS=500;X-TITLE=85554 Blue Ridge Parkway:geo:-79.604359,37.448364
END:VEVENT
END:VCALENDAR