BEGIN:VCALENDAR
VERSION:2.0
PRODID:-//Destination Bedford - ECPv6.8.3//NONSGML v1.0//EN
CALSCALE:GREGORIAN
METHOD:PUBLISH
X-ORIGINAL-URL:https://destinationbedfordva.com
X-WR-CALDESC:Events for Destination Bedford
REFRESH-INTERVAL;VALUE=DURATION:PT1H
X-Robots-Tag:noindex
X-PUBLISHED-TTL:PT1H
BEGIN:VTIMEZONE
TZID:America/New_York
BEGIN:DAYLIGHT
TZOFFSETFROM:-0500
TZOFFSETTO:-0400
TZNAME:EDT
DTSTART:20180311T070000
END:DAYLIGHT
BEGIN:STANDARD
TZOFFSETFROM:-0400
TZOFFSETTO:-0500
TZNAME:EST
DTSTART:20181104T060000
END:STANDARD
END:VTIMEZONE
BEGIN:VEVENT
DTSTART;VALUE=DATE:20180428
DTEND;VALUE=DATE:20180429
DTSTAMP:20260424T045724
CREATED:20180112T173351Z
LAST-MODIFIED:20180112T173351Z
UID:10046525-1524873600-1524959999@destinationbedfordva.com
SUMMARY:Conversations with Thomas Jefferson
DESCRIPTION:Experience a moment in American history at Poplar Forest’s 17th annual presentation of Conversations with Thomas Jefferson. Sit in on a private and wide-ranging conversation between Jefferson\, as portrayed by actor Bill Barker\, and one of his compatriots as they discuss their shared experiences as revolutionaries\, political colleagues\, friends and neighbors. Past guests have included Eliza Schuyler Hamilton\, James Monroe and Andrew Jackson to name but a few. Presented in two performances only: \nMatinee performance at 2:15 p.m.\, preceded by a reception at 1:30 p.m. \nEvening performance at 7:30 p.m.\, preceded by a reception at 6:30 p.m. \nTickets for the matinee performance include a pre-theater reception: $32 for adults (over 16) and $14 for youth (ages 6 – 16). House tours can be added at the reduced rate of $9 per person. Tickets for the evening performance include a pre-theater reception and house tour: $37 for adults (over 16) and $14 for youth (ages 6 – 16); reservations are suggested.
URL:https://destinationbedfordva.com/event/conversations-with-thomas-jefferson/
LOCATION:Thomas Jefferson’s Poplar Forest\, 687 Poplar Forest Dr.\, Forest\, VA\, 24551\, United States
GEO:37.3589053;-79.2680641
X-APPLE-STRUCTURED-LOCATION;VALUE=URI;X-ADDRESS=Thomas Jefferson’s Poplar Forest 687 Poplar Forest Dr. Forest VA 24551 United States;X-APPLE-RADIUS=500;X-TITLE=687 Poplar Forest Dr.:geo:-79.2680641,37.3589053
END:VEVENT
BEGIN:VEVENT
DTSTART;TZID=America/New_York:20180428T080000
DTEND;TZID=America/New_York:20180428T120000
DTSTAMP:20260424T045724
CREATED:20160602T195440Z
LAST-MODIFIED:20160602T195440Z
UID:10046052-1524902400-1524916800@destinationbedfordva.com
SUMMARY:Forest Farmers Market
DESCRIPTION:Virginia Grown Produce\, meats\, honey\, flowers along with breads for locals to enjoy.   The market is open the last week in April until the last week in Oct.  Please come and enjoy the local food from our area.
URL:https://destinationbedfordva.com/event/forest-farmers-market/2018-04-28/
LOCATION:Forest Farmers Market\, 15583 Forest Road\, Forest\, VA\, 24523\, United States
GEO:37.3649641;-79.2850156
X-APPLE-STRUCTURED-LOCATION;VALUE=URI;X-ADDRESS=Forest Farmers Market 15583 Forest Road Forest VA 24523 United States;X-APPLE-RADIUS=500;X-TITLE=15583 Forest Road:geo:-79.2850156,37.3649641
END:VEVENT
BEGIN:VEVENT
DTSTART;TZID=America/New_York:20180428T080000
DTEND;TZID=America/New_York:20180428T120000
DTSTAMP:20260424T045724
CREATED:20180301T190458Z
LAST-MODIFIED:20180301T190458Z
UID:10046559-1524902400-1524916800@destinationbedfordva.com
SUMMARY:Opening Day for the 2018 Forest Farmer's Market Season
DESCRIPTION:Starting our 8th season\, the Forest Farmer’s Market will have wonderful fresh local produce from area farmers along with meat\, eggs\, fish\, baked goods and coffee. There will be a variety of artisans selling one of a kind products. The Forest Farmer’s Market is a producer-only market\, there is no reselling allowed. Farmer’s Market is located behind the Forest Library.
URL:https://destinationbedfordva.com/event/opening-day-for-the-2018-forest-farmers-market-season/
LOCATION:Forest Farmers Market\, 15583 Forest Road\, Forest\, VA\, 24523\, United States
GEO:37.3649641;-79.2850156
X-APPLE-STRUCTURED-LOCATION;VALUE=URI;X-ADDRESS=Forest Farmers Market 15583 Forest Road Forest VA 24523 United States;X-APPLE-RADIUS=500;X-TITLE=15583 Forest Road:geo:-79.2850156,37.3649641
END:VEVENT
BEGIN:VEVENT
DTSTART;TZID=America/New_York:20180428T100000
DTEND;TZID=America/New_York:20180428T130000
DTSTAMP:20260424T045724
CREATED:20180405T161102Z
LAST-MODIFIED:20180405T161102Z
UID:10046597-1524909600-1524920400@destinationbedfordva.com
SUMMARY:Taste of the Trails
DESCRIPTION:Experience the Bedford Trails in this brand new event series!  There will be a 5K and two mountain bike rides at each location.   The series kicks off on April 28 and will conclude on September 29.  Bedford County Parks & Recreation is proud to partner with Beale’s Brewery on this new event which will take you through the trail system at all four Bedford County Parks!  Registration is available online.
URL:https://destinationbedfordva.com/event/taste-of-the-trails/
LOCATION:disc-golf
END:VEVENT
BEGIN:VEVENT
DTSTART;TZID=America/New_York:20180428T100000
DTEND;TZID=America/New_York:20180428T140000
DTSTAMP:20260424T045724
CREATED:20180420T210818Z
LAST-MODIFIED:20180420T210818Z
UID:10046606-1524909600-1524924000@destinationbedfordva.com
SUMMARY:Community Science Day at Claytor Nature Study Center
DESCRIPTION:
URL:https://destinationbedfordva.com/event/community-science-day-at-claytor-nature-study-center/
LOCATION:VA
END:VEVENT
BEGIN:VEVENT
DTSTART;TZID=America/New_York:20180428T100000
DTEND;TZID=America/New_York:20180428T150000
DTSTAMP:20260424T045724
CREATED:20180321T202237Z
LAST-MODIFIED:20180321T202237Z
UID:10046591-1524909600-1524927600@destinationbedfordva.com
SUMMARY:Makers Brunch at the Bower Center for the Arts
DESCRIPTION:The Bower Center is hosting its first Makers Brunch to celebrate local and regional artisans\, providing an opportunity to offer their handcrafted goods for purchase.  Shoppers will enjoy sipping mimosas\, breakfast beers\, brunch and live jazz while browsing at our “Urban Indoor Makers Market”!  Food trucks will be parked around the building offering varieties of tasty brunch fare. \n 
URL:https://destinationbedfordva.com/event/makers-brunch-at-the-bower-center-for-the-arts/
LOCATION:VA
END:VEVENT
BEGIN:VEVENT
DTSTART;TZID=America/New_York:20180428T113000
DTEND;TZID=America/New_York:20180428T170000
DTSTAMP:20260424T045724
CREATED:20180116T173953Z
LAST-MODIFIED:20180116T173953Z
UID:10046541-1524915000-1524934800@destinationbedfordva.com
SUMMARY:Sedalia Blues & BBQ
DESCRIPTION:The Sedalia Center presents the annual BBQ & Blues Festival on April 28th!!  Tastin’ starts at high noon! Gates open at 11:30am rain or shine.  Live Music by: John Emil\, Jump Street\, & IV Shades of Blue!!\n \nAdvance tickets are $10 and available at the Bedford Area Welcome Center.  At the gate: $15.  Children under 12 are free.\n \nBBQ TEAMS WANTED – ​Team Application \nCampers welcome!
URL:https://destinationbedfordva.com/event/bbq-blues/
LOCATION:The Sedalia Center\, 1108 Sedalia School Road\, Big Island\, VA\, United States
GEO:37.4905574;-79.4430828
X-APPLE-STRUCTURED-LOCATION;VALUE=URI;X-ADDRESS=The Sedalia Center 1108 Sedalia School Road Big Island VA United States;X-APPLE-RADIUS=500;X-TITLE=1108 Sedalia School Road:geo:-79.4430828,37.4905574
END:VEVENT
BEGIN:VEVENT
DTSTART;TZID=America/New_York:20180428T120000
DTEND;TZID=America/New_York:20180428T150000
DTSTAMP:20260424T045724
CREATED:20180313T170239Z
LAST-MODIFIED:20180313T170239Z
UID:10046563-1524916800-1524927600@destinationbedfordva.com
SUMMARY:Wounded Warrior Amputee Softball Game
DESCRIPTION:The Wounded Warrior Amputee Softball Team (WWAST) will conduct a tour of Virginia in April playing multiple cities\, with the grand finale event happening in Bedford with an exciting double-header vs. Bedford County First Responders. The opening ceremony will begin at 12 p.m. on Saturday\, April 28 with the first game starting at 1 p.m. \nThe WWAST consists of men and women\, both veterans and active duty soldiers\, from all service branches\, who have sustained injuries resulting in amputation. Through extensive rehabilitation\, they have become competitive athletes\, playing against teams across the country in competitive\, celebrity\, and exhibition games. Come out and help honor our heroes and cheer them on as they travel the Commonwealth. \nThis is a family-friendly event and helps the WWAST raise awareness and funds for their signature event\, the WWAST Kids Camp\, which empowers young boys and girls with amputations. Watch this 60 second video by WWAST: https://www.youtube.com/watch?v=s-sZPLsRKqQ \nAdmission is free to attend. Follow the Facebook event page for more details and updates.
URL:https://destinationbedfordva.com/event/wounded-warrior-amputee-softball-game/
LOCATION:Bedford  Moose Lodge\, 2986 W Lynchburg Salem Turnpike\, Bedford\, VA\, 24523\, United States
GEO:37.347221;-79.591745
X-APPLE-STRUCTURED-LOCATION;VALUE=URI;X-ADDRESS=Bedford  Moose Lodge 2986 W Lynchburg Salem Turnpike Bedford VA 24523 United States;X-APPLE-RADIUS=500;X-TITLE=2986 W Lynchburg Salem Turnpike:geo:-79.591745,37.347221
END:VEVENT
BEGIN:VEVENT
DTSTART;TZID=America/New_York:20180428T160000
DTEND;TZID=America/New_York:20180428T190000
DTSTAMP:20260424T045724
CREATED:20180405T161319Z
LAST-MODIFIED:20180405T161319Z
UID:10046598-1524931200-1524942000@destinationbedfordva.com
SUMMARY:Cruise-In Downtown Bedford
DESCRIPTION:
URL:https://destinationbedfordva.com/event/cruise-in-downtown-bedford/
LOCATION:Bedford Main Street\, Bedford\, VA\, 24523\, United States
GEO:37.3002291;-79.5153773
END:VEVENT
BEGIN:VEVENT
DTSTART;TZID=America/New_York:20180428T193000
DTEND;TZID=America/New_York:20180429T000000
DTSTAMP:20260424T045724
CREATED:20180321T183646Z
LAST-MODIFIED:20180321T183646Z
UID:10046567-1524943800-1524960000@destinationbedfordva.com
SUMMARY:Moonlight Trail Ride
DESCRIPTION:Reba Farm Inn is hosting a Moonlight Trail Ride! \nComplimentary refreshments and bonfire following the ride! \n$42/person \nCall (540) 586-1906 or (540) 583-1906 for more information.
URL:https://destinationbedfordva.com/event/moonlight-trail-ride-2/
LOCATION:Reba Farm Inn and Saddle Soar Equitainment\, 1099 Reba Farm Lane\, Bedford\, VA\, 24523\, United States
GEO:37.409982;-79.636243
X-APPLE-STRUCTURED-LOCATION;VALUE=URI;X-ADDRESS=Reba Farm Inn and Saddle Soar Equitainment 1099 Reba Farm Lane Bedford VA 24523 United States;X-APPLE-RADIUS=500;X-TITLE=1099 Reba Farm Lane:geo:-79.636243,37.409982
END:VEVENT
END:VCALENDAR