BEGIN:VCALENDAR
VERSION:2.0
PRODID:-//Destination Bedford - ECPv6.8.3//NONSGML v1.0//EN
CALSCALE:GREGORIAN
METHOD:PUBLISH
X-WR-CALNAME:Destination Bedford
X-ORIGINAL-URL:https://destinationbedfordva.com
X-WR-CALDESC:Events for Destination Bedford
REFRESH-INTERVAL;VALUE=DURATION:PT1H
X-Robots-Tag:noindex
X-PUBLISHED-TTL:PT1H
BEGIN:VTIMEZONE
TZID:America/New_York
BEGIN:DAYLIGHT
TZOFFSETFROM:-0500
TZOFFSETTO:-0400
TZNAME:EDT
DTSTART:20180311T070000
END:DAYLIGHT
BEGIN:STANDARD
TZOFFSETFROM:-0400
TZOFFSETTO:-0500
TZNAME:EST
DTSTART:20181104T060000
END:STANDARD
END:VTIMEZONE
BEGIN:VEVENT
DTSTART;TZID=America/New_York:20180505T080000
DTEND;TZID=America/New_York:20180505T120000
DTSTAMP:20260420T084423
CREATED:20160602T195440Z
LAST-MODIFIED:20160602T195440Z
UID:10046053-1525507200-1525521600@destinationbedfordva.com
SUMMARY:Forest Farmers Market
DESCRIPTION:Virginia Grown Produce\, meats\, honey\, flowers along with breads for locals to enjoy.   The market is open the last week in April until the last week in Oct.  Please come and enjoy the local food from our area.
URL:https://destinationbedfordva.com/event/forest-farmers-market/2018-05-05/
LOCATION:Forest Farmers Market\, 15583 Forest Road\, Forest\, VA\, 24523\, United States
GEO:37.3649641;-79.2850156
X-APPLE-STRUCTURED-LOCATION;VALUE=URI;X-ADDRESS=Forest Farmers Market 15583 Forest Road Forest VA 24523 United States;X-APPLE-RADIUS=500;X-TITLE=15583 Forest Road:geo:-79.2850156,37.3649641
END:VEVENT
BEGIN:VEVENT
DTSTART;TZID=America/New_York:20180505T090000
DTEND;TZID=America/New_York:20180505T120000
DTSTAMP:20260420T084423
CREATED:20180321T200453Z
LAST-MODIFIED:20180321T200453Z
UID:10046589-1525510800-1525521600@destinationbedfordva.com
SUMMARY:Appalachian Power Smith Mountain Lake Triathlon
DESCRIPTION:Test your endurance while swimming\, cycling\, and running through one of Virginia’s most beautiful State Parks. \nFor more information: (540) 297-6066 or http://www.vtsmts.com/smithmountainlakesprint/ \nFor registration: https://runsignup.com/Race/VA/Huddleston/SmithMountainLakeSprintTriathlon \n \n 
URL:https://destinationbedfordva.com/event/appalachian-power-smith-mountain-lake-triathlon/
LOCATION:Button Text
END:VEVENT
BEGIN:VEVENT
DTSTART;TZID=America/New_York:20180505T090000
DTEND;TZID=America/New_York:20180505T130000
DTSTAMP:20260420T084423
CREATED:20180426T210827Z
LAST-MODIFIED:20180426T210827Z
UID:10046570-1525510800-1525525200@destinationbedfordva.com
SUMMARY:First Saturday at Bedford Farmer's Market
DESCRIPTION:Offering fresh local and seasonal fruit\, vegetables and so much more!  The First Saturday Markets are a community gathering of family\, children activities\, music\, ready-to-eat food\, local artisans\, and more!  You might see a demonstration by one of our talented local chefs\, or enjoy wine sampling with one of our local vineyards. \nFor the May First Saturday\, enjoy music by Keith Campbell\, pottery demonstrations by McKeever Pottery\, and the children can make Market bags with the Bower Center for the Arts. \nBuy Local\, Buy Bedford Farmer’s Market. \n 
URL:https://destinationbedfordva.com/event/first-saturday-at-bedford-farmers-market/
LOCATION:Bedford Farmers Market\, Washington and Center Streets\, Bedford\, VA\, 24523\, United States
GEO:37.3337321;-79.5252117
X-APPLE-STRUCTURED-LOCATION;VALUE=URI;X-ADDRESS=Bedford Farmers Market Washington and Center Streets Bedford VA 24523 United States;X-APPLE-RADIUS=500;X-TITLE=Washington and Center Streets:geo:-79.5252117,37.3337321
END:VEVENT
BEGIN:VEVENT
DTSTART;TZID=America/New_York:20180505T163000
DTEND;TZID=America/New_York:20180505T200000
DTSTAMP:20260420T084423
CREATED:20180309T002407Z
LAST-MODIFIED:20180309T002407Z
UID:10046561-1525537800-1525550400@destinationbedfordva.com
SUMMARY:Derby Day Party At Historic Avenel
DESCRIPTION:
URL:https://destinationbedfordva.com/event/derby-day-party-at-historic-avenel-2/
LOCATION:Historic Avenel\, 413 Avenel Avenue\, Bedford\, VA\, 24523\, United States
GEO:37.338447;-79.524547
X-APPLE-STRUCTURED-LOCATION;VALUE=URI;X-ADDRESS=Historic Avenel 413 Avenel Avenue Bedford VA 24523 United States;X-APPLE-RADIUS=500;X-TITLE=413 Avenel Avenue:geo:-79.524547,37.338447
END:VEVENT
END:VCALENDAR