BEGIN:VCALENDAR
VERSION:2.0
PRODID:-//Destination Bedford - ECPv6.8.3//NONSGML v1.0//EN
CALSCALE:GREGORIAN
METHOD:PUBLISH
X-ORIGINAL-URL:https://destinationbedfordva.com
X-WR-CALDESC:Events for Destination Bedford
REFRESH-INTERVAL;VALUE=DURATION:PT1H
X-Robots-Tag:noindex
X-PUBLISHED-TTL:PT1H
BEGIN:VTIMEZONE
TZID:America/New_York
BEGIN:DAYLIGHT
TZOFFSETFROM:-0500
TZOFFSETTO:-0400
TZNAME:EDT
DTSTART:20180311T070000
END:DAYLIGHT
BEGIN:STANDARD
TZOFFSETFROM:-0400
TZOFFSETTO:-0500
TZNAME:EST
DTSTART:20181104T060000
END:STANDARD
END:VTIMEZONE
BEGIN:VEVENT
DTSTART;TZID=America/New_York:20180512T080000
DTEND;TZID=America/New_York:20180512T120000
DTSTAMP:20260420T084417
CREATED:20160602T195440Z
LAST-MODIFIED:20160602T195440Z
UID:10046054-1526112000-1526126400@destinationbedfordva.com
SUMMARY:Forest Farmers Market
DESCRIPTION:Virginia Grown Produce\, meats\, honey\, flowers along with breads for locals to enjoy.   The market is open the last week in April until the last week in Oct.  Please come and enjoy the local food from our area.
URL:https://destinationbedfordva.com/event/forest-farmers-market/2018-05-12/
LOCATION:Forest Farmers Market\, 15583 Forest Road\, Forest\, VA\, 24523\, United States
GEO:37.3649641;-79.2850156
X-APPLE-STRUCTURED-LOCATION;VALUE=URI;X-ADDRESS=Forest Farmers Market 15583 Forest Road Forest VA 24523 United States;X-APPLE-RADIUS=500;X-TITLE=15583 Forest Road:geo:-79.2850156,37.3649641
END:VEVENT
BEGIN:VEVENT
DTSTART;TZID=America/New_York:20180512T090000
DTEND;TZID=America/New_York:20180512T120000
DTSTAMP:20260420T084417
CREATED:20180223T212528Z
LAST-MODIFIED:20180223T212528Z
UID:10046553-1526115600-1526126400@destinationbedfordva.com
SUMMARY:Hike for Hope
DESCRIPTION:Bedford’s first ever Hike for Hope!  Help raise awareness for suicide prevention\, stop the stigma associated with mental illness\, and fundraise for the American Foundation for Suicide Prevention. Families\, individuals\, and teams are encouraged to participate.  For more details\, registration\, and updates on the event\, follow on Facebook at  www.facebook.com/bedfordhikeforhope \n 
URL:https://destinationbedfordva.com/event/hike-for-hope/
LOCATION:Falling Creek Park\, 1257 County Farm Road\, Bedford\, VA\, 24523\, United States
GEO:37.305294;-79.501901
X-APPLE-STRUCTURED-LOCATION;VALUE=URI;X-ADDRESS=Falling Creek Park 1257 County Farm Road Bedford VA 24523 United States;X-APPLE-RADIUS=500;X-TITLE=1257 County Farm Road:geo:-79.501901,37.305294
END:VEVENT
BEGIN:VEVENT
DTSTART;TZID=America/New_York:20180512T090000
DTEND;TZID=America/New_York:20180512T140000
DTSTAMP:20260420T084417
CREATED:20180510T153317Z
LAST-MODIFIED:20180510T153317Z
UID:10046590-1526115600-1526133600@destinationbedfordva.com
SUMMARY:YART Sale
DESCRIPTION:On Saturday\, May 12\, 9 am-2 pm\, Goose Creek Studio and The Electric Company will be holding a spring YART Sale.  Artists and artisans associated with both businesses are cleaning out their studios (and closets and basements and attics) for this event.  \nVisitors will find lots of treasures – ART (paintings\, drawings\, pottery\, wood\, notecards\, metal\, photography\, etc.)\, anything art-related (art supplies\, art books\, obvious art materials\, on-so-obvious art materials\, etc.)\, anything artsy (prints\, frames\, home décor\, furnishings\, accessories\, etc.) Think yard sale without the junk. \nGoose Creek Studio is located at 302 Court Street and The Electric Company is located at 207 E. Depot Street in Bedford.
URL:https://destinationbedfordva.com/event/yart-sale/
LOCATION:Goose Creek Studio Gallery\, 302 Court Street\, Bedford\, VA\, United States
GEO:37.334857;-79.521451
X-APPLE-STRUCTURED-LOCATION;VALUE=URI;X-ADDRESS=Goose Creek Studio Gallery 302 Court Street Bedford VA United States;X-APPLE-RADIUS=500;X-TITLE=302 Court Street:geo:-79.521451,37.334857
END:VEVENT
BEGIN:VEVENT
DTSTART;TZID=America/New_York:20180512T100000
DTEND;TZID=America/New_York:20180512T160000
DTSTAMP:20260420T084417
CREATED:20180222T220142Z
LAST-MODIFIED:20180222T220142Z
UID:10046550-1526119200-1526140800@destinationbedfordva.com
SUMMARY:Bloom Fest at Liberty Landscape Supply
DESCRIPTION:**Please note – this event was originally scheduled for April 7 but was changed to May 12 due to inclement weather.** \nKick off Spring Gardening Season with some free family fun at Liberty Landscape Supply!! Pick up the plants you will need to make your landscape pop this season\, or simply browse and get some ideas. We will have craft vendors\, food trucks\, games for the kids and more!! Come celebrate Spring with us!!
URL:https://destinationbedfordva.com/event/bloom-fest-at-liberty-landscape-supply/
LOCATION:VA
END:VEVENT
BEGIN:VEVENT
DTSTART;TZID=America/New_York:20180512T110000
DTEND;TZID=America/New_York:20180512T153000
DTSTAMP:20260420T084417
CREATED:20180112T173544Z
LAST-MODIFIED:20180112T173544Z
UID:10046526-1526122800-1526139000@destinationbedfordva.com
SUMMARY:Architectural Restoration Talk & Tour at Poplar Forest
DESCRIPTION:Explore the architectural design\, history and restoration of Jefferson’s retreat home on this hour-long\, behind-the-scenes tour guided by Travis McDonald\, Poplar Forest’s Director of Architectural Restoration. Discover how the restoration architects and architectural historians and craftsmen are meticulously restoring Jefferson’s vision for the “best dwelling house in the state…” Admission to the Architectural Restoration Talk and Tour is included with general admission to Poplar Forest. Reservations encouraged. \nTours at 11 a.m. and 2 p.m.
URL:https://destinationbedfordva.com/event/architectural-restoration-talk-tour-at-poplar-forest/
LOCATION:Thomas Jefferson’s Poplar Forest\, 687 Poplar Forest Dr.\, Forest\, VA\, 24551\, United States
GEO:37.3589053;-79.2680641
X-APPLE-STRUCTURED-LOCATION;VALUE=URI;X-ADDRESS=Thomas Jefferson’s Poplar Forest 687 Poplar Forest Dr. Forest VA 24551 United States;X-APPLE-RADIUS=500;X-TITLE=687 Poplar Forest Dr.:geo:-79.2680641,37.3589053
END:VEVENT
BEGIN:VEVENT
DTSTART;TZID=America/New_York:20180512T193000
DTEND;TZID=America/New_York:20180512T213000
DTSTAMP:20260420T084417
CREATED:20180426T205457Z
LAST-MODIFIED:20180426T205457Z
UID:10046568-1526153400-1526160600@destinationbedfordva.com
SUMMARY:Lenny Marcus Trio at the Bower Center
DESCRIPTION:From Roanoke\, Virginia\, Lenny Marcus Trio is not simply a local jazz group. With the success of three albums\, “Sun Ray: A Tribute to Ray Bryant\,” “Tonk: A Tribute to Ray Bryant\, Vol. 2” and the recent “Second Set\,” Marcus and his band are scoring some high-class gigs. All three CDs have sold well and made jazz radio playlists. \nThe act has traveled internationally\, backing such artists as Sonny Fortune and Frank Foster at the Barbados Jazz Festival and the Spice Jazz Festival\, in Grenada. \nTickets are $15. Purchase online at:\nhttps://www.bowercenter.org/events/lenny-marcus-trio \n  \n 
URL:https://destinationbedfordva.com/event/lenny-marcus-trio-at-the-bower-center/
LOCATION:VA
END:VEVENT
END:VCALENDAR