BEGIN:VCALENDAR
VERSION:2.0
PRODID:-//Destination Bedford - ECPv6.8.3//NONSGML v1.0//EN
CALSCALE:GREGORIAN
METHOD:PUBLISH
X-ORIGINAL-URL:https://destinationbedfordva.com
X-WR-CALDESC:Events for Destination Bedford
REFRESH-INTERVAL;VALUE=DURATION:PT1H
X-Robots-Tag:noindex
X-PUBLISHED-TTL:PT1H
BEGIN:VTIMEZONE
TZID:America/New_York
BEGIN:DAYLIGHT
TZOFFSETFROM:-0500
TZOFFSETTO:-0400
TZNAME:EDT
DTSTART:20180311T070000
END:DAYLIGHT
BEGIN:STANDARD
TZOFFSETFROM:-0400
TZOFFSETTO:-0500
TZNAME:EST
DTSTART:20181104T060000
END:STANDARD
END:VTIMEZONE
BEGIN:VEVENT
DTSTART;TZID=America/New_York:20180513T100000
DTEND;TZID=America/New_York:20180513T160000
DTSTAMP:20260420T113837
CREATED:20180112T173718Z
LAST-MODIFIED:20180112T173718Z
UID:10046527-1526205600-1526227200@destinationbedfordva.com
SUMMARY:Mother's Day at Poplar Forest
DESCRIPTION:Treat mom to a guided tour of Poplar Forest on her special day. Thomas Jefferson considered parental love the “strongest affection known\,” and cherished the family time he shared with his granddaughters at Poplar Forest. Tour the octagonal villa—from Mr. Jefferson’s kitchen to the rooftop deck where he and his granddaughters took their nightly stroll—and learn how the Jefferson family and the enslaved families spent their days at Poplar Forest. \nAdmission is free for mothers all day!
URL:https://destinationbedfordva.com/event/mothers-day-at-poplar-forest/
LOCATION:Thomas Jefferson’s Poplar Forest\, 687 Poplar Forest Dr.\, Forest\, VA\, 24551\, United States
GEO:37.3589053;-79.2680641
X-APPLE-STRUCTURED-LOCATION;VALUE=URI;X-ADDRESS=Thomas Jefferson’s Poplar Forest 687 Poplar Forest Dr. Forest VA 24551 United States;X-APPLE-RADIUS=500;X-TITLE=687 Poplar Forest Dr.:geo:-79.2680641,37.3589053
END:VEVENT
BEGIN:VEVENT
DTSTART;TZID=America/New_York:20180513T110000
DTEND;TZID=America/New_York:20180513T160000
DTSTAMP:20260420T113837
CREATED:20180419T150039Z
LAST-MODIFIED:20180419T150039Z
UID:10046602-1526209200-1526227200@destinationbedfordva.com
SUMMARY:Mother's Day Brunch at Peaks of Otter Lodge
DESCRIPTION:Give the special women in your life the treat they deserve by bringing the family to Peaks of Otter Lodge for our annual Mother’s Day Brunch\, and letting us do the cooking! Enjoy a delicious buffet featuring Omelets & Waffles\, Slow Roasted Prime Rib with Au Jus and Creamy Horseradish Sauce\, Grilled Chicken Saltimbocca\, Roasted Pork Loin with Fresh Sage Gravy\, and more. This popular event often sells out\, so reservations are strongly encouraged; call 866-387-9905 to make yours today!\n\n \nEvent Link: https://www.peaksofotter.com/dine/holiday-events/mothers-day
URL:https://destinationbedfordva.com/event/mothers-day-brunch-at-peaks-of-otter-lodge/
LOCATION:Peaks of Otter Lodge\, 85554 Blue Ridge Parkway\, Bedford\, VA\, 24523\, United States
GEO:37.448364;-79.604359
X-APPLE-STRUCTURED-LOCATION;VALUE=URI;X-ADDRESS=Peaks of Otter Lodge 85554 Blue Ridge Parkway Bedford VA 24523 United States;X-APPLE-RADIUS=500;X-TITLE=85554 Blue Ridge Parkway:geo:-79.604359,37.448364
END:VEVENT
BEGIN:VEVENT
DTSTART;TZID=America/New_York:20180513T130000
DTEND;TZID=America/New_York:20180513T173000
DTSTAMP:20260420T113837
CREATED:20180321T184625Z
LAST-MODIFIED:20180321T184625Z
UID:10046578-1526216400-1526232600@destinationbedfordva.com
SUMMARY:Mother's Day Trail Ride and Cowgirl Tea
DESCRIPTION:Treat your mom to a trail ride in the countryside followed with a “Cowgirl Tea Time” at the barn.  $60/person. Family rates available. \nCall (540) 586-1906 or (540) 583-1906 for more information.
URL:https://destinationbedfordva.com/event/mothers-day-trail-ride-and-cowgirl-tea/
LOCATION:Reba Farm Inn and Saddle Soar Equitainment\, 1099 Reba Farm Lane\, Bedford\, VA\, 24523\, United States
GEO:37.409982;-79.636243
X-APPLE-STRUCTURED-LOCATION;VALUE=URI;X-ADDRESS=Reba Farm Inn and Saddle Soar Equitainment 1099 Reba Farm Lane Bedford VA 24523 United States;X-APPLE-RADIUS=500;X-TITLE=1099 Reba Farm Lane:geo:-79.636243,37.409982
END:VEVENT
END:VCALENDAR