BEGIN:VCALENDAR
VERSION:2.0
PRODID:-//Destination Bedford - ECPv6.8.3//NONSGML v1.0//EN
CALSCALE:GREGORIAN
METHOD:PUBLISH
X-ORIGINAL-URL:https://destinationbedfordva.com
X-WR-CALDESC:Events for Destination Bedford
REFRESH-INTERVAL;VALUE=DURATION:PT1H
X-Robots-Tag:noindex
X-PUBLISHED-TTL:PT1H
BEGIN:VTIMEZONE
TZID:America/New_York
BEGIN:DAYLIGHT
TZOFFSETFROM:-0500
TZOFFSETTO:-0400
TZNAME:EDT
DTSTART:20180311T070000
END:DAYLIGHT
BEGIN:STANDARD
TZOFFSETFROM:-0400
TZOFFSETTO:-0500
TZNAME:EST
DTSTART:20181104T060000
END:STANDARD
END:VTIMEZONE
BEGIN:VEVENT
DTSTART;TZID=America/New_York:20180526T080000
DTEND;TZID=America/New_York:20180526T120000
DTSTAMP:20260420T084417
CREATED:20160602T195440Z
LAST-MODIFIED:20160602T195440Z
UID:10046056-1527321600-1527336000@destinationbedfordva.com
SUMMARY:Forest Farmers Market
DESCRIPTION:Virginia Grown Produce\, meats\, honey\, flowers along with breads for locals to enjoy.   The market is open the last week in April until the last week in Oct.  Please come and enjoy the local food from our area.
URL:https://destinationbedfordva.com/event/forest-farmers-market/2018-05-26/
LOCATION:Forest Farmers Market\, 15583 Forest Road\, Forest\, VA\, 24523\, United States
GEO:37.3649641;-79.2850156
X-APPLE-STRUCTURED-LOCATION;VALUE=URI;X-ADDRESS=Forest Farmers Market 15583 Forest Road Forest VA 24523 United States;X-APPLE-RADIUS=500;X-TITLE=15583 Forest Road:geo:-79.2850156,37.3649641
END:VEVENT
BEGIN:VEVENT
DTSTART;TZID=America/New_York:20180526T100000
DTEND;TZID=America/New_York:20180526T120000
DTSTAMP:20260420T084417
CREATED:20180426T212618Z
LAST-MODIFIED:20180426T212618Z
UID:10046575-1527328800-1527336000@destinationbedfordva.com
SUMMARY:Taste of the Trails at Moneta Park
DESCRIPTION:Experience the Bedford Trails in this brand new event series!  There will be a 5K and two mountain bike rides.  The series kicks off on April 28 and will conclude on September 29.  Bedford County Parks & Recreation is proud to partner with Beale’s Brewery on this new event which will take you through the trail system at all four Bedford County Parks!  Registration is available online. \nAfter-party is at Beale’s starting at 1 p.m. and the raffle for participants starts at 1:30 p.m.
URL:https://destinationbedfordva.com/event/taste-of-the-trails-at-moneta-park/
LOCATION:Moneta Park\, Rucker Road\, Moneta\, VA\, 24121\, United States
GEO:37.20926;-79.6149475
X-APPLE-STRUCTURED-LOCATION;VALUE=URI;X-ADDRESS=Moneta Park Rucker Road Moneta VA 24121 United States;X-APPLE-RADIUS=500;X-TITLE=Rucker Road:geo:-79.6149475,37.20926
END:VEVENT
BEGIN:VEVENT
DTSTART;TZID=America/New_York:20180526T120000
DTEND;TZID=America/New_York:20180526T180000
DTSTAMP:20260420T084417
CREATED:20180420T211405Z
LAST-MODIFIED:20180420T211405Z
UID:10046610-1527336000-1527357600@destinationbedfordva.com
SUMMARY:Grapes & Grains at Mariners Landing
DESCRIPTION:Virginia Wine\, Craft Beer & Cider Festival! \nMusic by the Rendezvous Band\, Art & Craft Vendors\, Gourmet Food\, and more!  Bring your bathing suit and enjoy Mariners amenities for free (Beach\, Pool\, Tennis\, Pickleball\, Walking Trails & More!) \nAdvance tickets available at www.Mariners-Resort.com. \n$15 Advance Tasting Ticket \n$5 Advance Non-Tasting Ticket \n$20 At the Gate Tasting Ticket \n$10 At the Gate Non-Tasting Ticket \n$10 Entry for Mariners Club Members at Gate
URL:https://destinationbedfordva.com/event/grapes-grains-at-mariners-landing/
LOCATION:VA
END:VEVENT
BEGIN:VEVENT
DTSTART;TZID=America/New_York:20180526T120000
DTEND;TZID=America/New_York:20180526T180000
DTSTAMP:20260420T084417
CREATED:20180522T214227Z
LAST-MODIFIED:20180522T214227Z
UID:10046609-1527336000-1527357600@destinationbedfordva.com
SUMMARY:Beale's Oyster Roast
DESCRIPTION:Roasted oysters will be sold by the dozen\, limited Honey White beer release\, and live music by the Whiskey Shakes! \n  \n 
URL:https://destinationbedfordva.com/event/beales-oyster-roast/
LOCATION:Beale’s Brewery\, 510 Grove Street\, Bedford\, VA\, 24523\, United States
GEO:37.3356288;-79.5169923
X-APPLE-STRUCTURED-LOCATION;VALUE=URI;X-ADDRESS=Beale’s Brewery 510 Grove Street Bedford VA 24523 United States;X-APPLE-RADIUS=500;X-TITLE=510 Grove Street:geo:-79.5169923,37.3356288
END:VEVENT
END:VCALENDAR