BEGIN:VCALENDAR
VERSION:2.0
PRODID:-//Destination Bedford - ECPv6.8.3//NONSGML v1.0//EN
CALSCALE:GREGORIAN
METHOD:PUBLISH
X-WR-CALNAME:Destination Bedford
X-ORIGINAL-URL:https://destinationbedfordva.com
X-WR-CALDESC:Events for Destination Bedford
REFRESH-INTERVAL;VALUE=DURATION:PT1H
X-Robots-Tag:noindex
X-PUBLISHED-TTL:PT1H
BEGIN:VTIMEZONE
TZID:America/New_York
BEGIN:DAYLIGHT
TZOFFSETFROM:-0500
TZOFFSETTO:-0400
TZNAME:EDT
DTSTART:20180311T070000
END:DAYLIGHT
BEGIN:STANDARD
TZOFFSETFROM:-0400
TZOFFSETTO:-0500
TZNAME:EST
DTSTART:20181104T060000
END:STANDARD
END:VTIMEZONE
BEGIN:VEVENT
DTSTART;TZID=America/New_York:20180528T110000
DTEND;TZID=America/New_York:20180528T120000
DTSTAMP:20260420T084423
CREATED:20180110T201731Z
LAST-MODIFIED:20180110T201731Z
UID:10046495-1527505200-1527508800@destinationbedfordva.com
SUMMARY:Remembering Their Sacrifice: Memorial Day Ceremony
DESCRIPTION:This special Memorial Day ceremony officially recognizes the men and women who have sacrificed their lives for our freedoms. \nThe program begins at 11a.m. Admission is free until noon. \nThe keynote speaker is Brigadier General John “Jack” W. Mountcastle. BG Mountcastle is the former Chief of Military History for the Army\, a veteran of Vietnam\, and taught at the US Military Academy at West Point. \nSpecial music by Brass 5. \nThe latest installment of veteran bricks will also be dedicated. \nGuests are asked to bring their own chair. \nCall (540) 586-3329 or visit www.dday.org for more information.
URL:https://destinationbedfordva.com/event/remembering-their-sacrifice-memorial-day-ceremony/
LOCATION:National D-Day Memorial\, 3 Overlord Circle\, Bedford\, VA\, 24523\, United States
GEO:37.3277294;-79.5346964
X-APPLE-STRUCTURED-LOCATION;VALUE=URI;X-ADDRESS=National D-Day Memorial 3 Overlord Circle Bedford VA 24523 United States;X-APPLE-RADIUS=500;X-TITLE=3 Overlord Circle:geo:-79.5346964,37.3277294
END:VEVENT
END:VCALENDAR