BEGIN:VCALENDAR
VERSION:2.0
PRODID:-//Destination Bedford - ECPv6.8.3//NONSGML v1.0//EN
CALSCALE:GREGORIAN
METHOD:PUBLISH
X-WR-CALNAME:Destination Bedford
X-ORIGINAL-URL:https://destinationbedfordva.com
X-WR-CALDESC:Events for Destination Bedford
REFRESH-INTERVAL;VALUE=DURATION:PT1H
X-Robots-Tag:noindex
X-PUBLISHED-TTL:PT1H
BEGIN:VTIMEZONE
TZID:America/New_York
BEGIN:DAYLIGHT
TZOFFSETFROM:-0500
TZOFFSETTO:-0400
TZNAME:EDT
DTSTART:20180311T070000
END:DAYLIGHT
BEGIN:STANDARD
TZOFFSETFROM:-0400
TZOFFSETTO:-0500
TZNAME:EST
DTSTART:20181104T060000
END:STANDARD
END:VTIMEZONE
BEGIN:VEVENT
DTSTART;VALUE=DATE:20180613
DTEND;VALUE=DATE:20180701
DTSTAMP:20260424T201509
CREATED:20180524T155625Z
LAST-MODIFIED:20180524T155625Z
UID:10046612-1528848000-1530403199@destinationbedfordva.com
SUMMARY:Itsy Bitsy Artwork
DESCRIPTION:The Electric Company Art Gallery will hold its 5th Annual Exhibition of Itsy Bitsy Artwork from June 1st – June 30th. This is an exhibition of small works (image size 6”x6” or smaller). \nThe Gallery is open Wed.-Sat.\, 11 a.m. – 5 p.m. \nThe Gallery is proud to share the talented works for the month of June and a reception will be held on: June 8th\, 2nd Friday from 5 PM to 8 PM.
URL:https://destinationbedfordva.com/event/itsy-bitsy-artwork/
LOCATION:ElectricCoArt\, 207 East Depot Street\, Bedford\, VA\, United States
GEO:37.335291;-79.522402
X-APPLE-STRUCTURED-LOCATION;VALUE=URI;X-ADDRESS=ElectricCoArt 207 East Depot Street Bedford VA United States;X-APPLE-RADIUS=500;X-TITLE=207 East Depot Street:geo:-79.522402,37.335291
END:VEVENT
BEGIN:VEVENT
DTSTART;TZID=America/New_York:20180623T080000
DTEND;TZID=America/New_York:20180623T120000
DTSTAMP:20260424T201509
CREATED:20160602T195440Z
LAST-MODIFIED:20160602T195440Z
UID:10046060-1529740800-1529755200@destinationbedfordva.com
SUMMARY:Forest Farmers Market
DESCRIPTION:Virginia Grown Produce\, meats\, honey\, flowers along with breads for locals to enjoy.   The market is open the last week in April until the last week in Oct.  Please come and enjoy the local food from our area.
URL:https://destinationbedfordva.com/event/forest-farmers-market/2018-06-23/
LOCATION:Forest Farmers Market\, 15583 Forest Road\, Forest\, VA\, 24523\, United States
GEO:37.3649641;-79.2850156
X-APPLE-STRUCTURED-LOCATION;VALUE=URI;X-ADDRESS=Forest Farmers Market 15583 Forest Road Forest VA 24523 United States;X-APPLE-RADIUS=500;X-TITLE=15583 Forest Road:geo:-79.2850156,37.3649641
END:VEVENT
BEGIN:VEVENT
DTSTART;TZID=America/New_York:20180623T100000
DTEND;TZID=America/New_York:20180623T150000
DTSTAMP:20260424T201509
CREATED:20180110T203711Z
LAST-MODIFIED:20180110T203711Z
UID:10046501-1529748000-1529766000@destinationbedfordva.com
SUMMARY:WWII In Miniature
DESCRIPTION:Treat yourself to a one-of-a-kind display featuring miniature World War II model planes\, tanks\, ships\, jeeps\, historic figures\, and more. \nYounger visitors can create miniature WWII vehicles and battle scenes in our Lego brick building contest from 10:00 a.m. to 2:00 p.m. \nRegistration is required for the contest\, but a free-play area is available for all to enjoy! Contest participants do not have to be present for the 2:00 p.m. judging to win.
URL:https://destinationbedfordva.com/event/wwii-in-miniature/
LOCATION:National D-Day Memorial\, 3 Overlord Circle\, Bedford\, VA\, 24523\, United States
GEO:37.3277294;-79.5346964
X-APPLE-STRUCTURED-LOCATION;VALUE=URI;X-ADDRESS=National D-Day Memorial 3 Overlord Circle Bedford VA 24523 United States;X-APPLE-RADIUS=500;X-TITLE=3 Overlord Circle:geo:-79.5346964,37.3277294
END:VEVENT
BEGIN:VEVENT
DTSTART;TZID=America/New_York:20180623T120000
DTEND;TZID=America/New_York:20180623T220000
DTSTAMP:20260424T201509
CREATED:20180426T205223Z
LAST-MODIFIED:20180426T205223Z
UID:10046611-1529755200-1529791200@destinationbedfordva.com
SUMMARY:Beale's One Year Anniversary
DESCRIPTION:The one year anniversary of Beale’s is here! The Low Low Chariot will perform from 4pm-7pm. More to be announced!
URL:https://destinationbedfordva.com/event/beales-one-year-anniversary/
LOCATION:Beale’s Brewery\, 510 Grove Street\, Bedford\, VA\, 24523\, United States
GEO:37.3356288;-79.5169923
X-APPLE-STRUCTURED-LOCATION;VALUE=URI;X-ADDRESS=Beale’s Brewery 510 Grove Street Bedford VA 24523 United States;X-APPLE-RADIUS=500;X-TITLE=510 Grove Street:geo:-79.5169923,37.3356288
END:VEVENT
BEGIN:VEVENT
DTSTART;TZID=America/New_York:20180623T190000
DTEND;TZID=America/New_York:20180623T203000
DTSTAMP:20260424T201509
CREATED:20180613T183606Z
LAST-MODIFIED:20180613T183606Z
UID:10046632-1529780400-1529785800@destinationbedfordva.com
SUMMARY:Hamiltunes at Bower Center for the Arts
DESCRIPTION:Love the musical Hamilton? Know the songs? Or just like to sing? Join us at the Bower Center for the Arts for “Hamiltunes”\, a Karaoke-style sing-a-long of songs from the Tony Award-winning musical! \nCheck the part list at spectrumartsociety.org/hamiltunes and choose which song and the part you would like to perform. You may sign up for a single part and be paired with others at the event\, or get a group of friends and sign up for a song together! \nIf signing up with friends\, please use only one submission with all information including all names and who’s performing which part. \nSee you in the room where it happens! \n*Tickets are free* \nEnjoy our cash bar and sing your heart out! \nMake sure you check out the website and sign up here:  www.spectrumartsociety.org/hamiltunes
URL:https://destinationbedfordva.com/event/hamiltunes-at-bower-center-for-the-arts/
LOCATION:Bower Center for the Arts\, 305 North Bridge Street\, Bedford\, VA\, 24523\, United States
GEO:37.3365706;-79.5229491
X-APPLE-STRUCTURED-LOCATION;VALUE=URI;X-ADDRESS=Bower Center for the Arts 305 North Bridge Street Bedford VA 24523 United States;X-APPLE-RADIUS=500;X-TITLE=305 North Bridge Street:geo:-79.5229491,37.3365706
END:VEVENT
BEGIN:VEVENT
DTSTART;TZID=America/New_York:20180623T200000
DTEND;TZID=America/New_York:20180623T220000
DTSTAMP:20260424T201509
CREATED:20180606T130122Z
LAST-MODIFIED:20180606T130122Z
UID:10046628-1529784000-1529791200@destinationbedfordva.com
SUMMARY:Movies in the Park
DESCRIPTION:Come join Bedford County Parks and Recreation for Movie night in the Park.\nThe featured movie is Beauty and the Beast.\nPlease bring your own blanket or chair to sit on… Admission and parking are free.
URL:https://destinationbedfordva.com/event/movies-in-the-park/
LOCATION:Falling Creek Park\, 1257 County Farm Road\, Bedford\, VA\, 24523\, United States
GEO:37.305294;-79.501901
X-APPLE-STRUCTURED-LOCATION;VALUE=URI;X-ADDRESS=Falling Creek Park 1257 County Farm Road Bedford VA 24523 United States;X-APPLE-RADIUS=500;X-TITLE=1257 County Farm Road:geo:-79.501901,37.305294
END:VEVENT
END:VCALENDAR