BEGIN:VCALENDAR
VERSION:2.0
PRODID:-//Destination Bedford - ECPv6.8.3//NONSGML v1.0//EN
CALSCALE:GREGORIAN
METHOD:PUBLISH
X-ORIGINAL-URL:https://destinationbedfordva.com
X-WR-CALDESC:Events for Destination Bedford
REFRESH-INTERVAL;VALUE=DURATION:PT1H
X-Robots-Tag:noindex
X-PUBLISHED-TTL:PT1H
BEGIN:VTIMEZONE
TZID:America/New_York
BEGIN:DAYLIGHT
TZOFFSETFROM:-0500
TZOFFSETTO:-0400
TZNAME:EDT
DTSTART:20180311T070000
END:DAYLIGHT
BEGIN:STANDARD
TZOFFSETFROM:-0400
TZOFFSETTO:-0500
TZNAME:EST
DTSTART:20181104T060000
END:STANDARD
END:VTIMEZONE
BEGIN:VEVENT
DTSTART;VALUE=DATE:20180613
DTEND;VALUE=DATE:20180701
DTSTAMP:20260423T224954
CREATED:20180524T155625Z
LAST-MODIFIED:20180524T155625Z
UID:10046612-1528848000-1530403199@destinationbedfordva.com
SUMMARY:Itsy Bitsy Artwork
DESCRIPTION:The Electric Company Art Gallery will hold its 5th Annual Exhibition of Itsy Bitsy Artwork from June 1st – June 30th. This is an exhibition of small works (image size 6”x6” or smaller). \nThe Gallery is open Wed.-Sat.\, 11 a.m. – 5 p.m. \nThe Gallery is proud to share the talented works for the month of June and a reception will be held on: June 8th\, 2nd Friday from 5 PM to 8 PM.
URL:https://destinationbedfordva.com/event/itsy-bitsy-artwork/
LOCATION:ElectricCoArt\, 207 East Depot Street\, Bedford\, VA\, United States
GEO:37.335291;-79.522402
X-APPLE-STRUCTURED-LOCATION;VALUE=URI;X-ADDRESS=ElectricCoArt 207 East Depot Street Bedford VA United States;X-APPLE-RADIUS=500;X-TITLE=207 East Depot Street:geo:-79.522402,37.335291
END:VEVENT
BEGIN:VEVENT
DTSTART;TZID=America/New_York:20180628T193000
DTEND;TZID=America/New_York:20180630T193000
DTSTAMP:20260423T224954
CREATED:20180112T174613Z
LAST-MODIFIED:20180112T174613Z
UID:10046530-1530214200-1530387000@destinationbedfordva.com
SUMMARY:1776\, the Concert Musical at Poplar Forest
DESCRIPTION:Revel in the revolutionary spirit of America’s Founding Fathers at Poplar Forest’s annual presentation of 1776—the Tony Award-winning musical comedy by Sherman Edwards and Peter Stone based on the events leading up to the drafting and signing of the Declaration of Independence. Get acquainted with Ben (Franklin)\, Richard Henry (Lee)\, John (Adams) and Tom (Jefferson); and celebrate their brilliant contributions to our country’s history.  Bring a picnic dinner\, sit back and enjoy theater under the stars. Rain date is Sunday\, July 1. \nTickets to 1776 are $17.76 for adults (ages 18+); $13 for students (ages 6 – 17 and college); and $4 for children (ages 5 and under). \nPerformances at 7:30 p.m. each evening \nNote: Any weather related postponement call will be made by 5 p.m. the day of the performance and will be posted to the website and social media.
URL:https://destinationbedfordva.com/event/1776-the-concert-musical-at-poplar-forest/
LOCATION:Thomas Jefferson’s Poplar Forest\, 687 Poplar Forest Dr.\, Forest\, VA\, 24551\, United States
GEO:37.3589053;-79.2680641
X-APPLE-STRUCTURED-LOCATION;VALUE=URI;X-ADDRESS=Thomas Jefferson’s Poplar Forest 687 Poplar Forest Dr. Forest VA 24551 United States;X-APPLE-RADIUS=500;X-TITLE=687 Poplar Forest Dr.:geo:-79.2680641,37.3589053
END:VEVENT
BEGIN:VEVENT
DTSTART;TZID=America/New_York:20180629T080000
DTEND;TZID=America/New_York:20180630T150000
DTSTAMP:20260423T224954
CREATED:20180613T194804Z
LAST-MODIFIED:20180613T194804Z
UID:10046633-1530259200-1530370800@destinationbedfordva.com
SUMMARY:Blossman Gas Summer Open House
DESCRIPTION:Blossman Gas in Bedford\, VA is hosting a Summer Open House on Friday\, June 29th from 8am to 7pm\, and Saturday\, June 30th from 10am to 3pm at their store located at 1088 Moneta Road\, Bedford. This event is focused on raising awareness and funds for “Team Gigi” at Lynchburg’s Walk to End Alzheimer’s. \nIn addition to the fundraising efforts\, the community is invited to Blossman to enjoy a free cookout\, discounts on grills\, $5 grill cylinder fills (call store for details) and other great promotions throughout the store.\nFor more information\, please call Tony Franko at (540) 587-5400 or email afranko@blossmangas.com. \nFor more about Team Gigi and the Walk to End Alzheimer’s: 2018 Walk to End Alzheimer’s.
URL:https://destinationbedfordva.com/event/blossman-gas-summer-open-house/
LOCATION:Blossman Gas\, 1088 Moneta Road\, Bedford\, VA\, 24523
END:VEVENT
BEGIN:VEVENT
DTSTART;TZID=America/New_York:20180630T080000
DTEND;TZID=America/New_York:20180630T120000
DTSTAMP:20260423T224954
CREATED:20160602T195440Z
LAST-MODIFIED:20160602T195440Z
UID:10046061-1530345600-1530360000@destinationbedfordva.com
SUMMARY:Forest Farmers Market
DESCRIPTION:Virginia Grown Produce\, meats\, honey\, flowers along with breads for locals to enjoy.   The market is open the last week in April until the last week in Oct.  Please come and enjoy the local food from our area.
URL:https://destinationbedfordva.com/event/forest-farmers-market/2018-06-30/
LOCATION:Forest Farmers Market\, 15583 Forest Road\, Forest\, VA\, 24523\, United States
GEO:37.3649641;-79.2850156
X-APPLE-STRUCTURED-LOCATION;VALUE=URI;X-ADDRESS=Forest Farmers Market 15583 Forest Road Forest VA 24523 United States;X-APPLE-RADIUS=500;X-TITLE=15583 Forest Road:geo:-79.2850156,37.3649641
END:VEVENT
BEGIN:VEVENT
DTSTART;TZID=America/New_York:20180630T100000
DTEND;TZID=America/New_York:20180630T120000
DTSTAMP:20260423T224954
CREATED:20180530T160242Z
LAST-MODIFIED:20180530T160242Z
UID:10046613-1530352800-1530360000@destinationbedfordva.com
SUMMARY:Goat Yoga and Wine Tasting for Independence!
DESCRIPTION:Join us at Seven Doors Winery for goat yoga and wine tasting to celebrate Independence Day and benefit Saint Francis of Assisi Service Dog Foundation\, a Roanoke non profit that promotes independence for children and adults with disabilities.\nTickets include goat yoga\, wine tasting and snacks. \nNo alcohol tickets available.\nA portion of ticket sales will be donated to Saint Francis Service Dogs.\nMust be 21 or older to consume alcohol\, ID’s will be checked prior to serving any alcohol.\nRain or shine event – if rainy\, goat yoga will be held under cover.\nTicket holders will receive confirmation email with details the week of the event.\nFor more information or questions contact Sevendoorswinery@gmail.com.
URL:https://destinationbedfordva.com/event/goat-yoga-and-wine-tasting-for-independence/
LOCATION:Seven Doors Winery\, 5800 Johnson Mountain Road\, Huddleston\, 24104
GEO:37.184074;-79.38792
X-APPLE-STRUCTURED-LOCATION;VALUE=URI;X-ADDRESS=Seven Doors Winery 5800 Johnson Mountain Road Huddleston 24104;X-APPLE-RADIUS=500;X-TITLE=5800 Johnson Mountain Road:geo:-79.38792,37.184074
END:VEVENT
BEGIN:VEVENT
DTSTART;TZID=America/New_York:20180630T173000
DTEND;TZID=America/New_York:20180630T220000
DTSTAMP:20260423T224954
CREATED:20180530T202907Z
LAST-MODIFIED:20180530T202907Z
UID:10046618-1530379800-1530396000@destinationbedfordva.com
SUMMARY:FireWorx Fest 2018
DESCRIPTION:Enjoy a family friendly evening with live music by The Worx and then see our spectacular fireworks show! Food\, drinks\, children’s games and more will be available. All proceeds benefit Moneta Fire Department. \nGates open at 5:30pm. $10 admission. Kids 10 and under free.
URL:https://destinationbedfordva.com/event/5309/
LOCATION:VA
END:VEVENT
BEGIN:VEVENT
DTSTART;TZID=America/New_York:20180630T200000
DTEND;TZID=America/New_York:20180630T220000
DTSTAMP:20260423T224954
CREATED:20180615T132548Z
LAST-MODIFIED:20180615T132548Z
UID:10046634-1530388800-1530396000@destinationbedfordva.com
SUMMARY:Little Mountain Boys at Bower Center for the Arts
DESCRIPTION:A toe-tapping wholesome night of bluegrass\, country\, and gospel by the Little Mountain Boys! \nThe Little Mountain Boys are a bluegrass\, country\, and gospel band comprised of all acoustic instruments and playing the songs they grew up with and also songs they’ve composed. They take pride in providing good wholesome entertainment with their music. Some songs will make you reflect and relive memories of old\, while almost all will have you tapping your toes!\nDoors open at 7:30.
URL:https://destinationbedfordva.com/event/little-mountain-boys-at-bower-center-for-the-arts/
LOCATION:Bower Center for the Arts\, 305 North Bridge Street\, Bedford\, VA\, 24523\, United States
GEO:37.3365706;-79.5229491
X-APPLE-STRUCTURED-LOCATION;VALUE=URI;X-ADDRESS=Bower Center for the Arts 305 North Bridge Street Bedford VA 24523 United States;X-APPLE-RADIUS=500;X-TITLE=305 North Bridge Street:geo:-79.5229491,37.3365706
END:VEVENT
END:VCALENDAR