BEGIN:VCALENDAR
VERSION:2.0
PRODID:-//Destination Bedford - ECPv6.8.3//NONSGML v1.0//EN
CALSCALE:GREGORIAN
METHOD:PUBLISH
X-ORIGINAL-URL:https://destinationbedfordva.com
X-WR-CALDESC:Events for Destination Bedford
REFRESH-INTERVAL;VALUE=DURATION:PT1H
X-Robots-Tag:noindex
X-PUBLISHED-TTL:PT1H
BEGIN:VTIMEZONE
TZID:America/New_York
BEGIN:DAYLIGHT
TZOFFSETFROM:-0500
TZOFFSETTO:-0400
TZNAME:EDT
DTSTART:20180311T070000
END:DAYLIGHT
BEGIN:STANDARD
TZOFFSETFROM:-0400
TZOFFSETTO:-0500
TZNAME:EST
DTSTART:20181104T060000
END:STANDARD
END:VTIMEZONE
BEGIN:VEVENT
DTSTART;TZID=America/New_York:20180703T170000
DTEND;TZID=America/New_York:20180703T170000
DTSTAMP:20260423T224953
CREATED:20180531T141416Z
LAST-MODIFIED:20180531T141416Z
UID:10046620-1530637200-1530637200@destinationbedfordva.com
SUMMARY:Before The Works Independence Day Festival
DESCRIPTION:
URL:https://destinationbedfordva.com/event/before-the-works-independence-day-festival/
LOCATION:Liberty Lake Park\, 939 Burks Hill Road\, Bedford\, VA\, 24523\, United States
GEO:37.3146908;-79.5331863
X-APPLE-STRUCTURED-LOCATION;VALUE=URI;X-ADDRESS=Liberty Lake Park 939 Burks Hill Road Bedford VA 24523 United States;X-APPLE-RADIUS=500;X-TITLE=939 Burks Hill Road:geo:-79.5331863,37.3146908
END:VEVENT
BEGIN:VEVENT
DTSTART;TZID=America/New_York:20180703T200000
DTEND;TZID=America/New_York:20180703T220000
DTSTAMP:20260423T224953
CREATED:20180531T141141Z
LAST-MODIFIED:20180531T141141Z
UID:10046619-1530648000-1530655200@destinationbedfordva.com
SUMMARY:Independence Day Fireworks
DESCRIPTION:Show begins at dusk.\nParking available at Liberty Lake Park & Handicap Parking available at the Bedford Welcome Center.\nHosted by Town of Bedford & Bedford County \n 
URL:https://destinationbedfordva.com/event/independence-day-fireworks/
LOCATION:VA
END:VEVENT
END:VCALENDAR