BEGIN:VCALENDAR
VERSION:2.0
PRODID:-//Destination Bedford - ECPv6.8.3//NONSGML v1.0//EN
CALSCALE:GREGORIAN
METHOD:PUBLISH
X-ORIGINAL-URL:https://destinationbedfordva.com
X-WR-CALDESC:Events for Destination Bedford
REFRESH-INTERVAL;VALUE=DURATION:PT1H
X-Robots-Tag:noindex
X-PUBLISHED-TTL:PT1H
BEGIN:VTIMEZONE
TZID:America/New_York
BEGIN:DAYLIGHT
TZOFFSETFROM:-0500
TZOFFSETTO:-0400
TZNAME:EDT
DTSTART:20180311T070000
END:DAYLIGHT
BEGIN:STANDARD
TZOFFSETFROM:-0400
TZOFFSETTO:-0500
TZNAME:EST
DTSTART:20181104T060000
END:STANDARD
END:VTIMEZONE
BEGIN:VEVENT
DTSTART;TZID=America/New_York:20180704T100000
DTEND;TZID=America/New_York:20180704T160000
DTSTAMP:20260423T225004
CREATED:20180606T125214Z
LAST-MODIFIED:20180606T125214Z
UID:10046627-1530698400-1530720000@destinationbedfordva.com
SUMMARY:Independence Day Celebration at Poplar Forest
DESCRIPTION:Celebrate the indefatigable American spirit—and the 242nd anniversary of the Declaration of Independence—with a fun-filled day at Thomas Jefferson’s private retreat. Enjoy colonial-style entertainment; demonstrations by colonial artisans and craftsmen; colonial militia recruiting; archaeology displays; children’s activities; a dramatic reading of the Declaration of Independence; and more! \nAdmission to the Independence Day festivities is $9 for adults (ages 16+) and free for children (ages 15 and under).
URL:https://destinationbedfordva.com/event/independence-day-celebration-at-poplar-forest-2/
LOCATION:Thomas Jefferson’s Poplar Forest\, 687 Poplar Forest Dr.\, Forest\, VA\, 24551\, United States
GEO:37.3589053;-79.2680641
X-APPLE-STRUCTURED-LOCATION;VALUE=URI;X-ADDRESS=Thomas Jefferson’s Poplar Forest 687 Poplar Forest Dr. Forest VA 24551 United States;X-APPLE-RADIUS=500;X-TITLE=687 Poplar Forest Dr.:geo:-79.2680641,37.3589053
END:VEVENT
BEGIN:VEVENT
DTSTART;TZID=America/New_York:20180704T150000
DTEND;TZID=America/New_York:20180704T220000
DTSTAMP:20260423T225004
CREATED:20180530T203708Z
LAST-MODIFIED:20180530T203708Z
UID:10046614-1530716400-1530741600@destinationbedfordva.com
SUMMARY:SVFC Annual 4th of July Fireworks Celebration at Parkway Marina
DESCRIPTION:Join us at Parkway Marina and help raise money for the Saunders Volunteer Fire Company with a Fun-Filled Day of Music and Activities followed by spectacular Fireworks over the Lake!  This is one of the biggest fireworks displays in the region. \nThere will be food vendors\, live Music by The Worx\, children’s activities\, a beer garden\, and more! \nAdmission is $10. Gates open at 3pm. \nBenefits go to Saunders Volunteer Fire Company \n 
URL:https://destinationbedfordva.com/event/svfc-annual-4th-of-july-fireworks-celebration-at-parkway-marina/
LOCATION:Parkway Marina\, 16918 Smith Mountain Lake Parkway\, Huddleston\, VA\, 24101\, United States
GEO:37.050919;-79.584834
X-APPLE-STRUCTURED-LOCATION;VALUE=URI;X-ADDRESS=Parkway Marina 16918 Smith Mountain Lake Parkway Huddleston VA 24101 United States;X-APPLE-RADIUS=500;X-TITLE=16918 Smith Mountain Lake Parkway:geo:-79.584834,37.050919
END:VEVENT
END:VCALENDAR