BEGIN:VCALENDAR
VERSION:2.0
PRODID:-//Destination Bedford - ECPv6.8.3//NONSGML v1.0//EN
CALSCALE:GREGORIAN
METHOD:PUBLISH
X-ORIGINAL-URL:https://destinationbedfordva.com
X-WR-CALDESC:Events for Destination Bedford
REFRESH-INTERVAL;VALUE=DURATION:PT1H
X-Robots-Tag:noindex
X-PUBLISHED-TTL:PT1H
BEGIN:VTIMEZONE
TZID:America/New_York
BEGIN:DAYLIGHT
TZOFFSETFROM:-0500
TZOFFSETTO:-0400
TZNAME:EDT
DTSTART:20180311T070000
END:DAYLIGHT
BEGIN:STANDARD
TZOFFSETFROM:-0400
TZOFFSETTO:-0500
TZNAME:EST
DTSTART:20181104T060000
END:STANDARD
END:VTIMEZONE
BEGIN:VEVENT
DTSTART;TZID=America/New_York:20180707T080000
DTEND;TZID=America/New_York:20180707T120000
DTSTAMP:20260424T045617
CREATED:20160602T195440Z
LAST-MODIFIED:20160602T195440Z
UID:10046062-1530950400-1530964800@destinationbedfordva.com
SUMMARY:Forest Farmers Market
DESCRIPTION:Virginia Grown Produce\, meats\, honey\, flowers along with breads for locals to enjoy.   The market is open the last week in April until the last week in Oct.  Please come and enjoy the local food from our area.
URL:https://destinationbedfordva.com/event/forest-farmers-market/2018-07-07/
LOCATION:Forest Farmers Market\, 15583 Forest Road\, Forest\, VA\, 24523\, United States
GEO:37.3649641;-79.2850156
X-APPLE-STRUCTURED-LOCATION;VALUE=URI;X-ADDRESS=Forest Farmers Market 15583 Forest Road Forest VA 24523 United States;X-APPLE-RADIUS=500;X-TITLE=15583 Forest Road:geo:-79.2850156,37.3649641
END:VEVENT
BEGIN:VEVENT
DTSTART;TZID=America/New_York:20180707T200000
DTEND;TZID=America/New_York:20180707T220000
DTSTAMP:20260424T045617
CREATED:20180530T210345Z
LAST-MODIFIED:20180530T210345Z
UID:10046617-1530993600-1531000800@destinationbedfordva.com
SUMMARY:Mitchell's Point Marina Fireworks
DESCRIPTION:Fireworks display at Mitchell’s Point Marina – come by boat or car!\n*fireworks will be set off at dusk* \n \n 
URL:https://destinationbedfordva.com/event/mitchells-point-marina-fireworks/
LOCATION:Mitchell’s Point Marina\, 3553 Trading Post Road\, Huddleston\, VA\, 24104\, United States
END:VEVENT
END:VCALENDAR