BEGIN:VCALENDAR
VERSION:2.0
PRODID:-//Destination Bedford - ECPv6.8.3//NONSGML v1.0//EN
CALSCALE:GREGORIAN
METHOD:PUBLISH
X-ORIGINAL-URL:https://destinationbedfordva.com
X-WR-CALDESC:Events for Destination Bedford
REFRESH-INTERVAL;VALUE=DURATION:PT1H
X-Robots-Tag:noindex
X-PUBLISHED-TTL:PT1H
BEGIN:VTIMEZONE
TZID:America/New_York
BEGIN:DAYLIGHT
TZOFFSETFROM:-0500
TZOFFSETTO:-0400
TZNAME:EDT
DTSTART:20180311T070000
END:DAYLIGHT
BEGIN:STANDARD
TZOFFSETFROM:-0400
TZOFFSETTO:-0500
TZNAME:EST
DTSTART:20181104T060000
END:STANDARD
END:VTIMEZONE
BEGIN:VEVENT
DTSTART;TZID=America/New_York:20180710T110000
DTEND;TZID=America/New_York:20180811T160000
DTSTAMP:20260423T224955
CREATED:20180710T171155Z
LAST-MODIFIED:20180710T171155Z
UID:10046641-1531220400-1534003200@destinationbedfordva.com
SUMMARY:Exhibit: No Borders/No Boundaries
DESCRIPTION:In the wake of current and nearly continuous national disasters and man-made violence\, people all over the world have awakened and responded in the truest form of the spirit. We are seemingly at our best when confronted by our worst. \n“One day there will be no borders\, no boundaries\, no flags\, no countries and the only passport will be the heart.” – Carlos Santana\, musician \nIf that day were tomorrow\, where would your heart take you? \nJudge: Gina Louthian-Stanley \n*Our gallery is free and open to the public Tuesday-Saturday 11am-4pm
URL:https://destinationbedfordva.com/event/exhibit-no-borders-no-boundaries/
LOCATION:VA
END:VEVENT
BEGIN:VEVENT
DTSTART;TZID=America/New_York:20180727T180000
DTEND;TZID=America/New_York:20180728T190000
DTSTAMP:20260423T224955
CREATED:20180112T175020Z
LAST-MODIFIED:20180112T175020Z
UID:10046531-1532714400-1532804400@destinationbedfordva.com
SUMMARY:Barrels\, Bottles & Casks Summer Tours at Poplar Forest
DESCRIPTION:Bring your friends and family to Thomas Jefferson’s Poplar Forest for a refreshing look at history! Summertime Barrels\, Bottles & Casks tasting tours begin in Mr. Jefferson’s kitchen and progress through the villa with stops along the way to sample beverages while guides share insights about the foods and drinks that Jefferson and the enslaved residents consumed during the hot summer months. The tours conclude with an ice cream social in the lower level. \nAdmission to the Summertime Barrels\, Bottles & Casks tasting tour is $25 per person; reservations are required. \nTours Available at 6 p.m. and 7 p.m.
URL:https://destinationbedfordva.com/event/barrels-bottles-casks-summer-tours-at-poplar-forest/
LOCATION:Thomas Jefferson’s Poplar Forest\, 687 Poplar Forest Dr.\, Forest\, VA\, 24551\, United States
GEO:37.3589053;-79.2680641
X-APPLE-STRUCTURED-LOCATION;VALUE=URI;X-ADDRESS=Thomas Jefferson’s Poplar Forest 687 Poplar Forest Dr. Forest VA 24551 United States;X-APPLE-RADIUS=500;X-TITLE=687 Poplar Forest Dr.:geo:-79.2680641,37.3589053
END:VEVENT
END:VCALENDAR