BEGIN:VCALENDAR
VERSION:2.0
PRODID:-//Destination Bedford - ECPv6.8.3//NONSGML v1.0//EN
CALSCALE:GREGORIAN
METHOD:PUBLISH
X-ORIGINAL-URL:https://destinationbedfordva.com
X-WR-CALDESC:Events for Destination Bedford
REFRESH-INTERVAL;VALUE=DURATION:PT1H
X-Robots-Tag:noindex
X-PUBLISHED-TTL:PT1H
BEGIN:VTIMEZONE
TZID:America/New_York
BEGIN:DAYLIGHT
TZOFFSETFROM:-0500
TZOFFSETTO:-0400
TZNAME:EDT
DTSTART:20180311T070000
END:DAYLIGHT
BEGIN:STANDARD
TZOFFSETFROM:-0400
TZOFFSETTO:-0500
TZNAME:EST
DTSTART:20181104T060000
END:STANDARD
END:VTIMEZONE
BEGIN:VEVENT
DTSTART;TZID=America/New_York:20180909T150000
DTEND;TZID=America/New_York:20180909T200000
DTSTAMP:20260424T093040
CREATED:20180809T155138Z
LAST-MODIFIED:20180809T155138Z
UID:10046653-1536505200-1536523200@destinationbedfordva.com
SUMMARY:Bedford's Finest Fare
DESCRIPTION:A Street Festival offering the best of Bedford’s foods and breweries\, wine\, artisan crafts\, and live music. \nLots of great food\, music\, kids’ activities\, and fun for the entire family. \n“Touch-a-Truck” provided by the Bedford Fire Department. \n  \n  \nTickets $20 (including $10 value for food/beverages) Kids 12 and under free \nLimited exclusive VIP Tickets $40 (including $20 value for food/beverages and exclusive shaded area with tables and chairs) \nBedford’s Finest Fare will take place on North Bridge Street between Bower Center for the Arts and St. Johns Church. \nSponsored by Bedford Area Welcome Center and Bower Center for the Arts.
URL:https://destinationbedfordva.com/event/bedfords-finest-fare-2/
LOCATION:VA
CATEGORIES:Featured
END:VEVENT
END:VCALENDAR