BEGIN:VCALENDAR
VERSION:2.0
PRODID:-//Destination Bedford - ECPv6.8.3//NONSGML v1.0//EN
CALSCALE:GREGORIAN
METHOD:PUBLISH
X-WR-CALNAME:Destination Bedford
X-ORIGINAL-URL:https://destinationbedfordva.com
X-WR-CALDESC:Events for Destination Bedford
REFRESH-INTERVAL;VALUE=DURATION:PT1H
X-Robots-Tag:noindex
X-PUBLISHED-TTL:PT1H
BEGIN:VTIMEZONE
TZID:America/New_York
BEGIN:DAYLIGHT
TZOFFSETFROM:-0500
TZOFFSETTO:-0400
TZNAME:EDT
DTSTART:20180311T070000
END:DAYLIGHT
BEGIN:STANDARD
TZOFFSETFROM:-0400
TZOFFSETTO:-0500
TZNAME:EST
DTSTART:20181104T060000
END:STANDARD
END:VTIMEZONE
BEGIN:VEVENT
DTSTART;VALUE=DATE:20180914
DTEND;VALUE=DATE:20180924
DTSTAMP:20260422T180932
CREATED:20180912T170027Z
LAST-MODIFIED:20180912T170027Z
UID:10046668-1536883200-1537747199@destinationbedfordva.com
SUMMARY:Little Town Players:  The Dixie Swim Club
DESCRIPTION:Check out Little Town Players first show of the 43rd season! \nTHE DIXIE SWIM CLUB is the hilarious story of five unforgettable\, colorful women whose friendship began many years ago on their college swim team and who have a reunion every August to renew friendships and catch up on their lives. \nDirected by Kathe Everitt. \nShow dates are September 14\, 15\, 16\, 21\, 22\, 23 \nTicket Information \n 
URL:https://destinationbedfordva.com/event/5637/
LOCATION:Little Town Players\, 931 Ashland Avenue\, Bedford\, VA\, 24523\, United States
GEO:37.3434782;-79.5351962
X-APPLE-STRUCTURED-LOCATION;VALUE=URI;X-ADDRESS=Little Town Players 931 Ashland Avenue Bedford VA 24523 United States;X-APPLE-RADIUS=500;X-TITLE=931 Ashland Avenue:geo:-79.5351962,37.3434782
END:VEVENT
BEGIN:VEVENT
DTSTART;TZID=America/New_York:20180914T170000
DTEND;TZID=America/New_York:20180914T200000
DTSTAMP:20260422T180932
CREATED:20180910T142104Z
LAST-MODIFIED:20180910T142104Z
UID:10046665-1536944400-1536955200@destinationbedfordva.com
SUMMARY:(Re)setting the Table at Goose Creek Studio
DESCRIPTION:Over half a dozen local artisans have created new and unique furniture and furnishings for Goose Creek Studio’s September exhibit called (Re)setting the Table.  An opening reception with the artists will be held during 2nd Friday\, September 14\, 5-8 pm.   This exhibit features woodwork\, pottery\, glass\, mosaic\, and more.   \nOne centerpiece of the exhibit is a unique checkerboard table by woodworker Des Black and glass artist Janet Chalker.  Proceeds from the sale of this unique piece with spalted maple and inlaid glass tiles will benefit Bower Center for the Arts. \nGoose Creek Studio Gallery and Custom Framing is located at 302 Court Street in Bedford.  For more information see www.goosecreekstudio.com or call (540) 586-8482. \n 
URL:https://destinationbedfordva.com/event/resetting-the-table-at-goose-creek-studio/
LOCATION:Goose Creek Studio Gallery\, 302 Court Street\, Bedford\, VA\, United States
GEO:37.334857;-79.521451
X-APPLE-STRUCTURED-LOCATION;VALUE=URI;X-ADDRESS=Goose Creek Studio Gallery 302 Court Street Bedford VA United States;X-APPLE-RADIUS=500;X-TITLE=302 Court Street:geo:-79.521451,37.334857
END:VEVENT
END:VCALENDAR