BEGIN:VCALENDAR
VERSION:2.0
PRODID:-//Destination Bedford - ECPv6.8.3//NONSGML v1.0//EN
CALSCALE:GREGORIAN
METHOD:PUBLISH
X-ORIGINAL-URL:https://destinationbedfordva.com
X-WR-CALDESC:Events for Destination Bedford
REFRESH-INTERVAL;VALUE=DURATION:PT1H
X-Robots-Tag:noindex
X-PUBLISHED-TTL:PT1H
BEGIN:VTIMEZONE
TZID:America/New_York
BEGIN:DAYLIGHT
TZOFFSETFROM:-0500
TZOFFSETTO:-0400
TZNAME:EDT
DTSTART:20180311T070000
END:DAYLIGHT
BEGIN:STANDARD
TZOFFSETFROM:-0400
TZOFFSETTO:-0500
TZNAME:EST
DTSTART:20181104T060000
END:STANDARD
END:VTIMEZONE
BEGIN:VEVENT
DTSTART;TZID=America/New_York:20181027T080000
DTEND;TZID=America/New_York:20181027T120000
DTSTAMP:20260419T202653
CREATED:20160602T195440Z
LAST-MODIFIED:20160602T195440Z
UID:10046078-1540627200-1540641600@destinationbedfordva.com
SUMMARY:Forest Farmers Market
DESCRIPTION:Virginia Grown Produce\, meats\, honey\, flowers along with breads for locals to enjoy.   The market is open the last week in April until the last week in Oct.  Please come and enjoy the local food from our area.
URL:https://destinationbedfordva.com/event/forest-farmers-market/2018-10-27/
LOCATION:Forest Farmers Market\, 15583 Forest Road\, Forest\, VA\, 24523\, United States
GEO:37.3649641;-79.2850156
X-APPLE-STRUCTURED-LOCATION;VALUE=URI;X-ADDRESS=Forest Farmers Market 15583 Forest Road Forest VA 24523 United States;X-APPLE-RADIUS=500;X-TITLE=15583 Forest Road:geo:-79.2850156,37.3649641
END:VEVENT
BEGIN:VEVENT
DTSTART;TZID=America/New_York:20181027T080000
DTEND;TZID=America/New_York:20181027T220000
DTSTAMP:20260419T202653
CREATED:20181024T200533Z
LAST-MODIFIED:20181024T200533Z
UID:10046799-1540627200-1540677600@destinationbedfordva.com
SUMMARY:Halloween Dance with Fuzzy Logic
DESCRIPTION:Halloween dance\, open to the public\, costume contests\, refreshments
URL:https://destinationbedfordva.com/event/halloween-dance-with-fuzzy-logic/
LOCATION:Bedford Moose Lodge\, 2986 West Lynchburg Salem Turnpike\, Bedford\, VA\, 24523\, United States
GEO:37.347221;-79.591745
X-APPLE-STRUCTURED-LOCATION;VALUE=URI;X-ADDRESS=Bedford Moose Lodge 2986 West Lynchburg Salem Turnpike Bedford VA 24523 United States;X-APPLE-RADIUS=500;X-TITLE=2986 West Lynchburg Salem Turnpike:geo:-79.591745,37.347221
END:VEVENT
BEGIN:VEVENT
DTSTART;TZID=America/New_York:20181027T090000
DTEND;TZID=America/New_York:20181027T120000
DTSTAMP:20260419T202653
CREATED:20181025T192936Z
LAST-MODIFIED:20181025T192936Z
UID:10046802-1540630800-1540641600@destinationbedfordva.com
SUMMARY:Yoga Fundraiser for BUG
DESCRIPTION:Bedford Urban Gardens will be hosting a morning of yoga at Bower Center for the Arts (305 North Bridge Street in Bedford) on Saturday\, October 27\, 9 am-12 noon. Local yoga teachers Mitchell Bond\, Ellen Mackey\, and LeAndra Shepherd will each offer a 50-minute practice. Bond will offer a gentle flow practice beginning at 9 am. Mackey will follow with a healthy back practice beginning at 10 am. Shepherd will conclude the morning with a yin practice which includes holding supported poses for a full stretch and complete relaxation.  \nAll are welcome to attend any or all sessions.  Donations will be accepted to support Bedford Urban Gardens.  \nBedford Urban Gardens’ mission is to create a multi-use community center-piece for the Bedford area that will be an open and welcoming space that encourages individuals and families to not only sow the seeds of herbs and vegetables\, but to sow the seeds of community and creativity. For more information\, see www.bedfordurbangardens.org \n  \n 
URL:https://destinationbedfordva.com/event/yoga-fundraiser-for-bug/
LOCATION:VA
END:VEVENT
BEGIN:VEVENT
DTSTART;TZID=America/New_York:20181027T093000
DTEND;TZID=America/New_York:20181027T173000
DTSTAMP:20260419T202653
CREATED:20181001T165700Z
LAST-MODIFIED:20181001T165700Z
UID:10046726-1540632600-1540661400@destinationbedfordva.com
SUMMARY:Creepy Show Upstairs at Goose Creek Studio in October
DESCRIPTION:Local potter Sharon Kessler loves Halloween!  She enjoys the fun of dressing up in spooking costumes and entertaining friends on the holiday.  In addition\, when she is not making her signature hand built functional pottery and clay animal figures\, she also spends the months leading up to Halloween creating one-of-a-kind creepy décor to share with others.  Kessler has brought together many of her Halloween creations – zombie dolls\, spell books\, apothecary jars\, and more – for a Creepy Show in an upstairs room at Goose Creek Studio.  The Creepy Show will run for the month of October and will feature a reception with the artist during 2nd Friday in Bedford\, October 12\, 5:00-8:00 pm. \n Goose Creek Studio Gallery and Custom Framing is located at 302 Court Street in Bedford.  \nFor more information\, see www.goosecreekstudio.com or call (540) 586-8482. \n 
URL:https://destinationbedfordva.com/event/creepy-show-upstairs-at-goose-creek-studio-in-october/2018-10-27/
LOCATION:Goose Creek Studio Gallery\, 302 Court Street\, Bedford\, VA\, United States
GEO:37.334857;-79.521451
X-APPLE-STRUCTURED-LOCATION;VALUE=URI;X-ADDRESS=Goose Creek Studio Gallery 302 Court Street Bedford VA United States;X-APPLE-RADIUS=500;X-TITLE=302 Court Street:geo:-79.521451,37.334857
END:VEVENT
BEGIN:VEVENT
DTSTART;TZID=America/New_York:20181027T093000
DTEND;TZID=America/New_York:20181027T173000
DTSTAMP:20260419T202653
CREATED:20181010T144430Z
LAST-MODIFIED:20181010T144430Z
UID:10046747-1540632600-1540661400@destinationbedfordva.com
SUMMARY:“Domini Est Terra” at Goose Creek Studio
DESCRIPTION:“Domini Est Terra” – a new exhibit at Goose Creek Studio during the month of October – features work by over a dozen local artist and focuses on stewardship of natural resources and the impact of humans on our planet and the climate.  The exhibit title\, Latin for “The Earth is the Lord’s” and the opening line of Psalm 24\, suggests we are merely Earth’s caretakers and are entrusted with the health and sustainability it’s future.  Through a variety of media – including painting\, sculpture\, mosaic\, and fiber art – the works in this exhibit reflect these themes. \nAn opening reception with the artists will be held during 2nd Friday\, October 12\, 5-8 pm.  Goose Creek Studio is located at 302 Court Street in Bedford.  For more information\, see www.goosecreekstudio.com or call (540) 586-8482.
URL:https://destinationbedfordva.com/event/domini-est-terra-at-goose-creek-studio/2018-10-27/
LOCATION:Goose Creek Studio Gallery\, 302 Court Street\, Bedford\, VA\, United States
GEO:37.334857;-79.521451
X-APPLE-STRUCTURED-LOCATION;VALUE=URI;X-ADDRESS=Goose Creek Studio Gallery 302 Court Street Bedford VA United States;X-APPLE-RADIUS=500;X-TITLE=302 Court Street:geo:-79.521451,37.334857
END:VEVENT
BEGIN:VEVENT
DTSTART;TZID=America/New_York:20181027T110000
DTEND;TZID=America/New_York:20181027T160000
DTSTAMP:20260419T202653
CREATED:20180917T185524Z
LAST-MODIFIED:20180917T185524Z
UID:10046692-1540638000-1540656000@destinationbedfordva.com
SUMMARY:Russ Voelker & Randy Marling: A Brush with Color
DESCRIPTION:An invitational exhibit running Oct. 2- Nov. 10 at Bower Center for the Arts: gallery admission is always free. \nReception: Friday\, Oct. 12\, 5-8pm \nRuss Voelker\n“My life experiences were varied from an early age. Raised a “military brat\,” three years in one location was exceptional. So\, my impressions of life are derived from a myriad of faces\, places\, and adventures. After graduating from Utah State\, I embarked on a path as an art director and marketing executive. Now\, with my career tucked away in my younger past\, I embrace art as a course of contentment. I take my visions and experiences from my life’s journey and blend them with a seasoned imagination and … well\, to just have fun with a brush!”\n\nRandy Marling\n“Although I studied art in college\, my practice as an artist kicked in the day I retired. As a mature adult\, I have learned my craft through painting classes\, workshops\, and collaboration with artist friends. I am inspired by the outdoors and enjoy painting sights from the roadside and in the countryside. My hiking has provided me with a sense of color and values and I paint with my vision of what I’ve seen.”
URL:https://destinationbedfordva.com/event/russ-voelker-randy-marling-a-brush-with-color-3/2018-10-27/
LOCATION:Bower Center for the Arts\, 305 North Bridge Street\, Bedford\, VA\, 24523\, United States
GEO:37.3365706;-79.5229491
X-APPLE-STRUCTURED-LOCATION;VALUE=URI;X-ADDRESS=Bower Center for the Arts 305 North Bridge Street Bedford VA 24523 United States;X-APPLE-RADIUS=500;X-TITLE=305 North Bridge Street:geo:-79.5229491,37.3365706
END:VEVENT
BEGIN:VEVENT
DTSTART;TZID=America/New_York:20181027T170000
DTEND;TZID=America/New_York:20181027T190000
DTSTAMP:20260419T202653
CREATED:20181024T195445Z
LAST-MODIFIED:20181024T195445Z
UID:10046797-1540659600-1540666800@destinationbedfordva.com
SUMMARY:Spooktacular
DESCRIPTION:Costume Contest\nCandy\nFace Painting\nGames\nBalloon Twister\nFUN!
URL:https://destinationbedfordva.com/event/spooktacular-2/
LOCATION:Falling Creek Park\, 1257 County Farm Road\, Bedford\, VA\, 24523\, United States
GEO:37.305294;-79.501901
X-APPLE-STRUCTURED-LOCATION;VALUE=URI;X-ADDRESS=Falling Creek Park 1257 County Farm Road Bedford VA 24523 United States;X-APPLE-RADIUS=500;X-TITLE=1257 County Farm Road:geo:-79.501901,37.305294
END:VEVENT
BEGIN:VEVENT
DTSTART;TZID=America/New_York:20181027T180000
DTEND;TZID=America/New_York:20181027T210000
DTSTAMP:20260419T202653
CREATED:20181025T204037Z
LAST-MODIFIED:20181025T204037Z
UID:10046803-1540663200-1540674000@destinationbedfordva.com
SUMMARY:Nick Faulconer at Beales
DESCRIPTION:Nick Faulconer is a singer/songwriter/guitarist based in Richmond\, Virginia\, who writes and performs original bluesy rock and pop songs as well as covers. \n \n  \n 
URL:https://destinationbedfordva.com/event/nick-faulconer-at-beales/
LOCATION:Beale’s Brewery\, 510 Grove Street\, Bedford\, VA\, 24523\, United States
GEO:37.3356288;-79.5169923
X-APPLE-STRUCTURED-LOCATION;VALUE=URI;X-ADDRESS=Beale’s Brewery 510 Grove Street Bedford VA 24523 United States;X-APPLE-RADIUS=500;X-TITLE=510 Grove Street:geo:-79.5169923,37.3356288
END:VEVENT
BEGIN:VEVENT
DTSTART;TZID=America/New_York:20181027T193000
DTEND;TZID=America/New_York:20181027T213000
DTSTAMP:20260419T202653
CREATED:20181010T143514Z
LAST-MODIFIED:20181010T143514Z
UID:10046733-1540668600-1540675800@destinationbedfordva.com
SUMMARY:The Colleen Raney Band – Traditional Irish
DESCRIPTION:Join the Friends of the Bedford Public Library on Saturday\, October 27\, 2018 at 7:30 p.m. as they host in concert\, The Colleen Raney Band The concert\, held in the Bedford Room of Bedford Central Library is open to the public\, with a ticket price of $15.00 per person; collected at the door or purchased in advance through http://www.lynchburgtickets.com/ Seating is limited. \nFor more information\, call 540-586-8911\, or visit: www.friendsofbedfordlibrary.org.
URL:https://destinationbedfordva.com/event/the-colleen-raney-band-traditional-irish/
LOCATION:Bedford Public Library\, 305 North Bridge Street\, Bedford\, VA\, 24523\, United States
GEO:37.3362531;-79.5228245
X-APPLE-STRUCTURED-LOCATION;VALUE=URI;X-ADDRESS=Bedford Public Library 305 North Bridge Street Bedford VA 24523 United States;X-APPLE-RADIUS=500;X-TITLE=305 North Bridge Street:geo:-79.5228245,37.3362531
END:VEVENT
BEGIN:VEVENT
DTSTART;TZID=America/New_York:20181027T200000
DTEND;TZID=America/New_York:20181027T233000
DTSTAMP:20260419T202653
CREATED:20181016T175923Z
LAST-MODIFIED:20181016T175923Z
UID:10046786-1540670400-1540683000@destinationbedfordva.com
SUMMARY:Clam-O-Ween
DESCRIPTION:Costume party\nDoor prizes\nLive music\nFood spread\nCash bar\n\nMust be 21 and over \n  \n 
URL:https://destinationbedfordva.com/event/clam-o-ween/
LOCATION:Clam Diggers Pub and Eatery\, 109 South Bridge Street\, Bedford\, VA\, 24523\, United States
GEO:37.3340404;-79.52351
X-APPLE-STRUCTURED-LOCATION;VALUE=URI;X-ADDRESS=Clam Diggers Pub and Eatery 109 South Bridge Street Bedford VA 24523 United States;X-APPLE-RADIUS=500;X-TITLE=109 South Bridge Street:geo:-79.52351,37.3340404
END:VEVENT
END:VCALENDAR