BEGIN:VCALENDAR
VERSION:2.0
PRODID:-//Destination Bedford - ECPv6.8.3//NONSGML v1.0//EN
CALSCALE:GREGORIAN
METHOD:PUBLISH
X-WR-CALNAME:Destination Bedford
X-ORIGINAL-URL:https://destinationbedfordva.com
X-WR-CALDESC:Events for Destination Bedford
REFRESH-INTERVAL;VALUE=DURATION:PT1H
X-Robots-Tag:noindex
X-PUBLISHED-TTL:PT1H
BEGIN:VTIMEZONE
TZID:America/New_York
BEGIN:DAYLIGHT
TZOFFSETFROM:-0500
TZOFFSETTO:-0400
TZNAME:EDT
DTSTART:20190310T070000
END:DAYLIGHT
BEGIN:STANDARD
TZOFFSETFROM:-0400
TZOFFSETTO:-0500
TZNAME:EST
DTSTART:20191103T060000
END:STANDARD
END:VTIMEZONE
BEGIN:VEVENT
DTSTART;TZID=America/New_York:20190824T080000
DTEND;TZID=America/New_York:20190824T120000
DTSTAMP:20260425T224504
CREATED:20160602T195440Z
LAST-MODIFIED:20160602T195440Z
UID:10046121-1566633600-1566648000@destinationbedfordva.com
SUMMARY:Forest Farmers Market
DESCRIPTION:Virginia Grown Produce\, meats\, honey\, flowers along with breads for locals to enjoy.   The market is open the last week in April until the last week in Oct.  Please come and enjoy the local food from our area.
URL:https://destinationbedfordva.com/event/forest-farmers-market/2019-08-24/
LOCATION:Forest Farmers Market\, 15583 Forest Road\, Forest\, VA\, 24523\, United States
GEO:37.3649641;-79.2850156
X-APPLE-STRUCTURED-LOCATION;VALUE=URI;X-ADDRESS=Forest Farmers Market 15583 Forest Road Forest VA 24523 United States;X-APPLE-RADIUS=500;X-TITLE=15583 Forest Road:geo:-79.2850156,37.3649641
END:VEVENT
BEGIN:VEVENT
DTSTART;TZID=America/New_York:20190824T080000
DTEND;TZID=America/New_York:20190824T130000
DTSTAMP:20260425T224504
CREATED:20190815T140328Z
LAST-MODIFIED:20190815T140328Z
UID:10047388-1566633600-1566651600@destinationbedfordva.com
SUMMARY:Saturday at the Farmer Managed Market
DESCRIPTION:Lala’s Confections and more debuts at the saturday Market With handcrafted Rustic Whole Grain Boule Breads\, Whole Wheat Maple Loaves\, French Baguettes\, Lemon Pound Cake\, Blueberry Muffins\, 7-layer Cookies and more!
URL:https://destinationbedfordva.com/event/saturday-at-the-farmer-managed-market/2019-08-24/
LOCATION:Tractor Supply\, 1128 East Lynchburg Salem Turnpike\, Bedford\, VA\, 24523\, United States
END:VEVENT
BEGIN:VEVENT
DTSTART;TZID=America/New_York:20190824T160000
DTEND;TZID=America/New_York:20190824T200000
DTSTAMP:20260425T224504
CREATED:20190626T151329Z
LAST-MODIFIED:20190626T151329Z
UID:10047324-1566662400-1566676800@destinationbedfordva.com
SUMMARY:Battle of the Bands
DESCRIPTION:Come on out for Bedford’s first\, Battle of the Bands Summer Concert Series! This series is broken up into 3 different concerts where local talents will battle it out for a chance to play at Centerfest and also win a cash prize! Each of these nights\, you will get the chance to hear\, AND VOTE\, on your favorite band. The winner from each concert series will showcase their talents during Centerfest\, September 21st\, for a chance to win an awesome prize! Bring your lawn chair and enjoy an evening of music\, food trucks\, local craft beer and wine. Look for the other FB pages for the other concerts:\nRound 1\, June 29th – Liberty Lake Park\, 4pm – 8pm\nRound 2\, July 27th – TBA\, 4pm – 8pm\nRound 3\, August 24th – Liberty Lake Park\, 4pm – 8pm\nFINAL BATTLE – Centerfest\, September 21st 10am – 6pm \nIf you are a band that would like to perform\, contact Dianne Erb at Dianne@cvabc.org. Finale Winner at Centerfest will win $1\,000 cash and a FREE Living Local Segment through WFXR. \nThis concert series is hosted by Central Virginia Business Coalition. \n 
URL:https://destinationbedfordva.com/event/battle-of-the-bands-2019-08-24/
LOCATION:Liberty Lake Park\, 939 Burks Hill Road\, Bedford\, VA\, 24523\, United States
GEO:37.3146908;-79.5331863
X-APPLE-STRUCTURED-LOCATION;VALUE=URI;X-ADDRESS=Liberty Lake Park 939 Burks Hill Road Bedford VA 24523 United States;X-APPLE-RADIUS=500;X-TITLE=939 Burks Hill Road:geo:-79.5331863,37.3146908
END:VEVENT
BEGIN:VEVENT
DTSTART;TZID=America/New_York:20190824T163000
DTEND;TZID=America/New_York:20190824T193000
DTSTAMP:20260425T224504
CREATED:20190822T162244Z
LAST-MODIFIED:20190822T162244Z
UID:10047408-1566664200-1566675000@destinationbedfordva.com
SUMMARY:BBQ to Beat Breast Cancer
DESCRIPTION:BBQ to Beat Breast Cancer is an event hosted by Historic Avenel which benefits Centra Bedford Memorial Hospital’s “Just for Me” Mammography Program. This event will give the community\, along with Fighters and Survivors\, the ability to support the Just for Me Program\, which encourages women who have never had a mammogram to make their first appointment by offering that mammogram free of charge. Women 40 years or older who have inadequate or no insurance may also qualify for a mammogram free of charge. \n***BBQ & Slaw Catered by Porter House Catering*** \nTicket Information: ticket purchases will include BBQ\, Slaw\, Baked Beans\, Soft Drinks\, Desserts\, & Tour.\nTicket Prices: $15.00 in advance – $20.00 at the Door. Tickets for Kids ages 6-10 will be $10.00\, Ages 5-under $5.00. These proceeds will benefit the Just for Me Program & Historic Avenel.
URL:https://destinationbedfordva.com/event/bbq-to-beat-breast-cancer/
LOCATION:Historic Avenel\, 413 Avenel Avenue\, Bedford\, VA\, 24523\, United States
GEO:37.338447;-79.524547
X-APPLE-STRUCTURED-LOCATION;VALUE=URI;X-ADDRESS=Historic Avenel 413 Avenel Avenue Bedford VA 24523 United States;X-APPLE-RADIUS=500;X-TITLE=413 Avenel Avenue:geo:-79.524547,37.338447
END:VEVENT
BEGIN:VEVENT
DTSTART;TZID=America/New_York:20190824T180000
DTEND;TZID=America/New_York:20190824T210000
DTSTAMP:20260425T224504
CREATED:20190723T175556Z
LAST-MODIFIED:20190723T175556Z
UID:10047365-1566669600-1566680400@destinationbedfordva.com
SUMMARY:Magical Murder Mystery Saturday
DESCRIPTION:Experience Seven Doors Winery in a whole new way!\n••••••••••••••••••••••••••••••••••••••••••••••••••••••\nEnjoy this interactive murder mystery event (with a magical twist) where you will ask questions\, solve clues\, and buy or sell information using fake money. You will laugh\, talk\, eat\, and drink. In the end\, you will decide who committed the crime using your detective skills.\n••••••••••••••••••••••••••••••••••••••••••••••••••••••\nTickets are $40 per person and include light appetizers. Wine will be available to purchase on-site. \n(This event is 14 and up if accompanied by an adult!)
URL:https://destinationbedfordva.com/event/magical-murder-mystery-saturday/
LOCATION:Seven Doors Winery\, 5800 Johnson Mountain Road\, Huddleston\, 24104
GEO:37.184074;-79.38792
X-APPLE-STRUCTURED-LOCATION;VALUE=URI;X-ADDRESS=Seven Doors Winery 5800 Johnson Mountain Road Huddleston 24104;X-APPLE-RADIUS=500;X-TITLE=5800 Johnson Mountain Road:geo:-79.38792,37.184074
END:VEVENT
BEGIN:VEVENT
DTSTART;TZID=America/New_York:20190824T183000
DTEND;TZID=America/New_York:20190824T213000
DTSTAMP:20260425T224504
CREATED:20190719T150707Z
LAST-MODIFIED:20190719T150707Z
UID:10047359-1566671400-1566682200@destinationbedfordva.com
SUMMARY:Saturday evenings at the Peaks
DESCRIPTION:Acoustic music and entertainment from this award winning duo\, Route 2. Fiddle and guitar. Celtic\, Appalachian Old-time\, Blues\, original Americana and even some Nederlandse muziek.
URL:https://destinationbedfordva.com/event/saturday-evenings-at-the-peaks/2019-08-24/
LOCATION:Peaks of Otter Lodge\, 85554 Blue Ridge Parkway\, Bedford\, VA\, 24523\, United States
GEO:37.448364;-79.604359
X-APPLE-STRUCTURED-LOCATION;VALUE=URI;X-ADDRESS=Peaks of Otter Lodge 85554 Blue Ridge Parkway Bedford VA 24523 United States;X-APPLE-RADIUS=500;X-TITLE=85554 Blue Ridge Parkway:geo:-79.604359,37.448364
END:VEVENT
BEGIN:VEVENT
DTSTART;TZID=America/New_York:20190824T190000
DTEND;TZID=America/New_York:20190824T220000
DTSTAMP:20260425T224504
CREATED:20190820T125824Z
LAST-MODIFIED:20190820T125824Z
UID:10047395-1566673200-1566684000@destinationbedfordva.com
SUMMARY:Shakespeare Under the Stars: Twelfth Night
DESCRIPTION:Shakespearean theatre returns to Poplar Forest with Rogue Productions’ presentation of Twelfth Night\, the Bard’s hilarious comedy of love triangles and mistaken identities\, originally written as entertainment for the Twelfth Night celebration in 1602. Bring your friends and family\, your lawn chairs and a picnic dinner\, and experience the magic of Shakespeare’s verse. \n(Starting at 7 p.m. each evening; presented with one 15-minute intermission) \nNo outside alcohol is permitted\, but wine and/or beer will be available for purchase onsite every night. Tickets are $15 per person; available through Rogue Productions.
URL:https://destinationbedfordva.com/event/shakespeare-under-the-stars-twelfth-night/2019-08-24/
LOCATION:Thomas Jefferson’s Poplar Forest\, 687 Poplar Forest Dr.\, Forest\, VA\, 24551\, United States
GEO:37.3589053;-79.2680641
X-APPLE-STRUCTURED-LOCATION;VALUE=URI;X-ADDRESS=Thomas Jefferson’s Poplar Forest 687 Poplar Forest Dr. Forest VA 24551 United States;X-APPLE-RADIUS=500;X-TITLE=687 Poplar Forest Dr.:geo:-79.2680641,37.3589053
END:VEVENT
BEGIN:VEVENT
DTSTART;TZID=America/New_York:20190824T200000
DTEND;TZID=America/New_York:20190824T220000
DTSTAMP:20260425T224504
CREATED:20190822T161449Z
LAST-MODIFIED:20190822T161449Z
UID:10047407-1566676800-1566684000@destinationbedfordva.com
SUMMARY:Music in the Park
DESCRIPTION:Get ready for another great evening of bluegrass music. Bring the whole family and enjoy an evening of great music with the “Two Young\, Two Old” band. The Old Dominion Cloggers from Martinsville\, Va. will also entertain. Hot dogs\, sausages\, ice cream\, drinks and other refreshments will be for sale. $7 per person\, and children 12 and under get in free. Don’t forget lawn chairs. \nSponsored by Friends of Smith Mountain Lake State Park. For more information or to join the Friends group\, go to http://www.smlspfriends.com.
URL:https://destinationbedfordva.com/event/music-in-the-park/
LOCATION:Smith Mountain Lake State Park\, 1235 State Park Road\, Huddleston\, VA\, 24104\, United States
GEO:37.0916911;-79.592936
X-APPLE-STRUCTURED-LOCATION;VALUE=URI;X-ADDRESS=Smith Mountain Lake State Park 1235 State Park Road Huddleston VA 24104 United States;X-APPLE-RADIUS=500;X-TITLE=1235 State Park Road:geo:-79.592936,37.0916911
END:VEVENT
END:VCALENDAR