BEGIN:VCALENDAR
VERSION:2.0
PRODID:-//Destination Bedford - ECPv6.8.3//NONSGML v1.0//EN
CALSCALE:GREGORIAN
METHOD:PUBLISH
X-WR-CALNAME:Destination Bedford
X-ORIGINAL-URL:https://destinationbedfordva.com
X-WR-CALDESC:Events for Destination Bedford
REFRESH-INTERVAL;VALUE=DURATION:PT1H
X-Robots-Tag:noindex
X-PUBLISHED-TTL:PT1H
BEGIN:VTIMEZONE
TZID:America/New_York
BEGIN:DAYLIGHT
TZOFFSETFROM:-0500
TZOFFSETTO:-0400
TZNAME:EDT
DTSTART:20200308T070000
END:DAYLIGHT
BEGIN:STANDARD
TZOFFSETFROM:-0400
TZOFFSETTO:-0500
TZNAME:EST
DTSTART:20201101T060000
END:STANDARD
END:VTIMEZONE
BEGIN:VEVENT
DTSTART;TZID=America/New_York:20200220T110000
DTEND;TZID=America/New_York:20200220T160000
DTSTAMP:20260423T143136
CREATED:20200206T182756Z
LAST-MODIFIED:20200226T143248Z
UID:10047753-1582196400-1582214400@destinationbedfordva.com
SUMMARY:6th Annual Edna Curry John Bower Exhibition
DESCRIPTION:Gallery admission is always free! Open Tues-Sat\, 11am-4pm. \nFeaturing a diverse collection of artwork by many local and regional artists\, the Curry Bower exhibit honors the Center’s largest benefactors\, Edna Curry and John Bower\, whose generous contributions have made the Bower Center possible. \nThe exhibit’s unique open call for art brings in numerous artistic media\, including\, but not limited to painting\, collage\, photography\, sculpture\, fiber art\, mixed media\, mosaic\, stained or fused glass\, and more. \nEnjoy the rich art talents in our region\, on exhibit through March 14\, 2020. \nAwards:\nBest in Show $750 & solo exhibit\n2nd $400\n3rd $200\nMinimum of 3 Awards of Merit: $75 each \nAwards reception: Feb 14\, 5-8pm during 2nd Friday in Bedford\nPresentations/comments by judge at 6pm\nRefreshments served\, free and open to the public.
URL:https://destinationbedfordva.com/event/6th-annual-edna-curry-john-bower-exhibition/2020-02-20/
LOCATION:Bower Center for the Arts\, 309 North Bridge Street\, Bedford\, VA\, United States
ATTACH;FMTTYPE=image/jpeg:https://destinationbedfordva.com/wp-content/uploads/2020/02/6th-annual.jpg
GEO:37.336317;-79.522795
X-APPLE-STRUCTURED-LOCATION;VALUE=URI;X-ADDRESS=Bower Center for the Arts 309 North Bridge Street Bedford VA United States;X-APPLE-RADIUS=500;X-TITLE=309 North Bridge Street:geo:-79.522795,37.336317
END:VEVENT
BEGIN:VEVENT
DTSTART;TZID=America/New_York:20200220T120000
DTEND;TZID=America/New_York:20200220T130000
DTSTAMP:20260423T143136
CREATED:20200114T211758Z
LAST-MODIFIED:20200114T211758Z
UID:10047725-1582200000-1582203600@destinationbedfordva.com
SUMMARY:February Lunchbox Lecture
DESCRIPTION:Join the National D-Day Memorial on Thursday\, February 20\, 2020 at noon for the second installment of 2020’s Lunchbox Lecture series commemorating Black History Month with April Cheek-Messier\, the President and CEO of the National D-Day Memorial Foundation. \nAll lectures are free to the public\, livestreamed on Facebook\, and held at the Bedford Area Welcome Center’s Community Room located at 816 Burks Hill Road\, Bedford\, VA. Guests are welcome to bring a lunch to enjoy during the programs. \nLecture Description:\nDuring the course of World War II\, over 600\,000 African American women joined the American labor force to defeat tyranny abroad. Yet these women were mostly overlooked in the war time industry. Images of “Rosie the Riveter” have framed historical perceptions that distort the contributions of black women on the homefront by failing to acknowledge their service. In an effort to do their part for the war effort\, African American women encountered racist policies\, low pay\, and often the most undesirable occupations. Some industries refused to hire them at all. In spite of this\, African American women gained invaluable lessons and strength that would reveal itself in acts of resistance against segregation in the years to follow. During the war\, African American women found a collective spirit that enabled them to challenge the future and create better life for themselves and those who would follow. \nLearn more about upcoming lectures at www.dday.org/lunchbox-lecture-series.
URL:https://destinationbedfordva.com/event/february-lunchbox-lecture/
LOCATION:Bedford Area Welcome Center\, 816 Burks Hill Road\, Bedford\, VA\, 24523\, United States
GEO:37.3252279;-79.5316948
X-APPLE-STRUCTURED-LOCATION;VALUE=URI;X-ADDRESS=Bedford Area Welcome Center 816 Burks Hill Road Bedford VA 24523 United States;X-APPLE-RADIUS=500;X-TITLE=816 Burks Hill Road:geo:-79.5316948,37.3252279
END:VEVENT
END:VCALENDAR