BEGIN:VCALENDAR
VERSION:2.0
PRODID:-//Destination Bedford - ECPv6.8.3//NONSGML v1.0//EN
CALSCALE:GREGORIAN
METHOD:PUBLISH
X-ORIGINAL-URL:https://destinationbedfordva.com
X-WR-CALDESC:Events for Destination Bedford
REFRESH-INTERVAL;VALUE=DURATION:PT1H
X-Robots-Tag:noindex
X-PUBLISHED-TTL:PT1H
BEGIN:VTIMEZONE
TZID:America/New_York
BEGIN:DAYLIGHT
TZOFFSETFROM:-0500
TZOFFSETTO:-0400
TZNAME:EDT
DTSTART:20200308T070000
END:DAYLIGHT
BEGIN:STANDARD
TZOFFSETFROM:-0400
TZOFFSETTO:-0500
TZNAME:EST
DTSTART:20201101T060000
END:STANDARD
END:VTIMEZONE
BEGIN:VEVENT
DTSTART;TZID=America/New_York:20200808T070000
DTEND;TZID=America/New_York:20200808T130000
DTSTAMP:20260422T060253
CREATED:20200502T191139Z
LAST-MODIFIED:20200812T140036Z
UID:10047928-1596870000-1596891600@destinationbedfordva.com
SUMMARY:Bedford Farmer Managed Market
DESCRIPTION:Our mission is to establish and operate a community-supported Producer Only Farmers Market\, managed by Farmers\, that provides: Viable economic outlets for Bedford County farmers\, food producers\, artists and craftsmen\, and local access to farm fresh products. \nOpen on Saturdays\, 7 a.m. – 1 p.m.  (Weather permitting)
URL:https://destinationbedfordva.com/event/bedfords-finest-farmers-market-managed-by-farmers/2020-08-08/
LOCATION:Bedford Farmer Managed Market\, 1032 Triggs Road\, Bedford\, VA\, 24523\, United States
ORGANIZER;CN="Bedfords Finest Farmers Market - Managed by Farmers":MAILTO:thefarmermanagedmarket@gmail.com
END:VEVENT
BEGIN:VEVENT
DTSTART;TZID=America/New_York:20200808T080000
DTEND;TZID=America/New_York:20200808T120000
DTSTAMP:20260422T060253
CREATED:20160602T195440Z
LAST-MODIFIED:20160602T195440Z
UID:10046171-1596873600-1596888000@destinationbedfordva.com
SUMMARY:Forest Farmers Market
DESCRIPTION:Virginia Grown Produce\, meats\, honey\, flowers along with breads for locals to enjoy.   The market is open the last week in April until the last week in Oct.  Please come and enjoy the local food from our area.
URL:https://destinationbedfordva.com/event/forest-farmers-market/2020-08-08/
LOCATION:Forest Farmers Market\, 15583 Forest Road\, Forest\, VA\, 24523\, United States
GEO:37.3649641;-79.2850156
X-APPLE-STRUCTURED-LOCATION;VALUE=URI;X-ADDRESS=Forest Farmers Market 15583 Forest Road Forest VA 24523 United States;X-APPLE-RADIUS=500;X-TITLE=15583 Forest Road:geo:-79.2850156,37.3649641
END:VEVENT
BEGIN:VEVENT
DTSTART;TZID=America/New_York:20200808T110000
DTEND;TZID=America/New_York:20200808T130000
DTSTAMP:20260422T060253
CREATED:20200710T191806Z
LAST-MODIFIED:20200710T191806Z
UID:10048054-1596884400-1596891600@destinationbedfordva.com
SUMMARY:Drifter's Saturday Special
DESCRIPTION:You know you want ’em so come and get ’em… Buy 2\, Get 1 Free Crab Leg Clusters every Saturday from 11-1pm!
URL:https://destinationbedfordva.com/event/drifters-saturday-special/2020-08-08/
LOCATION:Drifter’s\, 1617 Crystal Shores Drive\, Moneta\, VA\, 24121
ATTACH;FMTTYPE=image/jpeg:https://destinationbedfordva.com/wp-content/uploads/2020/07/Drifters-specials-2.jpg
END:VEVENT
BEGIN:VEVENT
DTSTART;TZID=America/New_York:20200808T130000
DTEND;TZID=America/New_York:20200808T160000
DTSTAMP:20260422T060253
CREATED:20200713T191129Z
LAST-MODIFIED:20200713T191129Z
UID:10048078-1596891600-1596902400@destinationbedfordva.com
SUMMARY:KEEPin' Up with J Bohn by Stella & Dot
DESCRIPTION:Come out and browse J Bohn’s women’s jewelry collection\, clothing line\, and other accessories waterfront at Drifter’s. \nJ Bohn is a native to Smith Mountain Lake\, VA. She offers a personal design + gifting service through her women’s clothing and accessories brand KEEPin’ Up with J Bohn by Stella & Dot. \nIn addition to running her own business\, she is a Lifestyle Blogger\, Social Media Partner\, Smith Mountain Lake Ambassador\, and volunteer. She enjoys life at the lake\, traveling\, food\, fitness\, fashion\, and living & loving like Jesus.
URL:https://destinationbedfordva.com/event/keepin-up-with-j-bohn-by-stella-dot/2020-08-08/
LOCATION:Drifter’s\, 1617 Crystal Shores Drive\, Moneta\, VA\, 24121
ATTACH;FMTTYPE=image/jpeg:https://destinationbedfordva.com/wp-content/uploads/2020/07/drifters-6.jpg
END:VEVENT
BEGIN:VEVENT
DTSTART;TZID=America/New_York:20200808T140000
DTEND;TZID=America/New_York:20200808T180000
DTSTAMP:20260422T060253
CREATED:20200701T133857Z
LAST-MODIFIED:20200701T133857Z
UID:10048002-1596895200-1596909600@destinationbedfordva.com
SUMMARY:Tate Tuck Live at Drifter's
DESCRIPTION:Enjoy live music on the waterfront at Drifter’s with Tate Tuck as he brings a mix of genres like bluegrass\, folk\, blues\, country\, rock\, r&b\, and even a little rap!
URL:https://destinationbedfordva.com/event/tate-tuck-live-at-drifters/2020-08-08/
LOCATION:VA
ATTACH;FMTTYPE=image/jpeg:https://destinationbedfordva.com/wp-content/uploads/2020/07/Tate-Tuck.jpg
END:VEVENT
END:VCALENDAR