BEGIN:VCALENDAR
VERSION:2.0
PRODID:-//Destination Bedford - ECPv6.8.3//NONSGML v1.0//EN
CALSCALE:GREGORIAN
METHOD:PUBLISH
X-WR-CALNAME:Destination Bedford
X-ORIGINAL-URL:https://destinationbedfordva.com
X-WR-CALDESC:Events for Destination Bedford
REFRESH-INTERVAL;VALUE=DURATION:PT1H
X-Robots-Tag:noindex
X-PUBLISHED-TTL:PT1H
BEGIN:VTIMEZONE
TZID:America/New_York
BEGIN:DAYLIGHT
TZOFFSETFROM:-0500
TZOFFSETTO:-0400
TZNAME:EDT
DTSTART:20200308T070000
END:DAYLIGHT
BEGIN:STANDARD
TZOFFSETFROM:-0400
TZOFFSETTO:-0500
TZNAME:EST
DTSTART:20201101T060000
END:STANDARD
END:VTIMEZONE
BEGIN:VEVENT
DTSTART;TZID=America/New_York:20200813T160000
DTEND;TZID=America/New_York:20200813T180000
DTSTAMP:20260421T133449
CREATED:20200713T190520Z
LAST-MODIFIED:20220909T204626Z
UID:10048072-1597334400-1597341600@destinationbedfordva.com
SUMMARY:Drifter's Thursday Specials
DESCRIPTION:Thursdays are about to be your favorite day of the week! From 4-6 pm pay 1/2 price for USDA prime burgers!
URL:https://destinationbedfordva.com/event/drifters-thursday-specials/2020-08-13/
LOCATION:Drifter’s\, 1617 Crystal Shores Drive\, Moneta\, VA\, 24121
ATTACH;FMTTYPE=image/jpeg:https://destinationbedfordva.com/wp-content/uploads/2020/07/drifters-specials-5.jpg
END:VEVENT
BEGIN:VEVENT
DTSTART;TZID=America/New_York:20200813T180000
DTEND;TZID=America/New_York:20200813T200000
DTSTAMP:20260421T133449
CREATED:20200720T155603Z
LAST-MODIFIED:20200720T155603Z
UID:10048151-1597341600-1597348800@destinationbedfordva.com
SUMMARY:Dare to be Beautiful Cruise
DESCRIPTION:Ladies\, enjoy an evening of self-care on the Virginia Dare on August 13\, 6-8 p.m.! Enjoy light refreshments and signature cocktails while you shop for jewelry\, accessories\, makeup and skincare and win DOOR PRIZES during the Dare to be Beautiful Cruise. Call 540-297-7100 to make a reservation\, or click here: https://rb.gy/spw5v7
URL:https://destinationbedfordva.com/event/dare-to-be-beautiful-cruise/
LOCATION:Virginia Dare Cruises and Marina\, 3619 Airport Road\, Moneta\, VA\, 24121\, United States
ATTACH;FMTTYPE=image/jpeg:https://destinationbedfordva.com/wp-content/uploads/2020/07/dare-to-be-beautiful.jpg
GEO:37.101667;-79.612228
X-APPLE-STRUCTURED-LOCATION;VALUE=URI;X-ADDRESS=Virginia Dare Cruises and Marina 3619 Airport Road Moneta VA 24121 United States;X-APPLE-RADIUS=500;X-TITLE=3619 Airport Road:geo:-79.612228,37.101667
END:VEVENT
END:VCALENDAR