BEGIN:VCALENDAR
VERSION:2.0
PRODID:-//Destination Bedford - ECPv6.8.3//NONSGML v1.0//EN
CALSCALE:GREGORIAN
METHOD:PUBLISH
X-ORIGINAL-URL:https://destinationbedfordva.com
X-WR-CALDESC:Events for Destination Bedford
REFRESH-INTERVAL;VALUE=DURATION:PT1H
X-Robots-Tag:noindex
X-PUBLISHED-TTL:PT1H
BEGIN:VTIMEZONE
TZID:America/New_York
BEGIN:DAYLIGHT
TZOFFSETFROM:-0500
TZOFFSETTO:-0400
TZNAME:EDT
DTSTART:20200308T070000
END:DAYLIGHT
BEGIN:STANDARD
TZOFFSETFROM:-0400
TZOFFSETTO:-0500
TZNAME:EST
DTSTART:20201101T060000
END:STANDARD
END:VTIMEZONE
BEGIN:VEVENT
DTSTART;TZID=America/New_York:20200814T160000
DTEND;TZID=America/New_York:20200814T180000
DTSTAMP:20260421T062011
CREATED:20200710T184629Z
LAST-MODIFIED:20200710T191442Z
UID:10048036-1597420800-1597428000@destinationbedfordva.com
SUMMARY:Drifter's Friday Special
DESCRIPTION:Ain’t no thang but a 1/2 price bucket of chicken wings… at Drifter’s every Friday 4pm-6pm!
URL:https://destinationbedfordva.com/event/1-2-price-wing-buckets-at-drifters/2020-08-14/
LOCATION:Drifter’s\, 1617 Crystal Shores Drive\, Moneta\, VA\, 24121
ATTACH;FMTTYPE=image/jpeg:https://destinationbedfordva.com/wp-content/uploads/2020/07/wings-2.jpg
END:VEVENT
BEGIN:VEVENT
DTSTART;TZID=America/New_York:20200814T160000
DTEND;TZID=America/New_York:20200814T190000
DTSTAMP:20260421T062011
CREATED:20200713T191129Z
LAST-MODIFIED:20200713T191129Z
UID:10048079-1597420800-1597431600@destinationbedfordva.com
SUMMARY:KEEPin' Up with J Bohn by Stella & Dot
DESCRIPTION:Come out and browse J Bohn’s women’s jewelry collection\, clothing line\, and other accessories waterfront at Drifter’s. \nJ Bohn is a native to Smith Mountain Lake\, VA. She offers a personal design + gifting service through her women’s clothing and accessories brand KEEPin’ Up with J Bohn by Stella & Dot. \nIn addition to running her own business\, she is a Lifestyle Blogger\, Social Media Partner\, Smith Mountain Lake Ambassador\, and volunteer. She enjoys life at the lake\, traveling\, food\, fitness\, fashion\, and living & loving like Jesus.
URL:https://destinationbedfordva.com/event/keepin-up-with-j-bohn-by-stella-dot/2020-08-14/
LOCATION:Drifter’s\, 1617 Crystal Shores Drive\, Moneta\, VA\, 24121
ATTACH;FMTTYPE=image/jpeg:https://destinationbedfordva.com/wp-content/uploads/2020/07/drifters-6.jpg
END:VEVENT
END:VCALENDAR