BEGIN:VCALENDAR
VERSION:2.0
PRODID:-//Destination Bedford - ECPv6.8.3//NONSGML v1.0//EN
CALSCALE:GREGORIAN
METHOD:PUBLISH
X-WR-CALNAME:Destination Bedford
X-ORIGINAL-URL:https://destinationbedfordva.com
X-WR-CALDESC:Events for Destination Bedford
REFRESH-INTERVAL;VALUE=DURATION:PT1H
X-Robots-Tag:noindex
X-PUBLISHED-TTL:PT1H
BEGIN:VTIMEZONE
TZID:America/New_York
BEGIN:DAYLIGHT
TZOFFSETFROM:-0500
TZOFFSETTO:-0400
TZNAME:EDT
DTSTART:20200308T070000
END:DAYLIGHT
BEGIN:STANDARD
TZOFFSETFROM:-0400
TZOFFSETTO:-0500
TZNAME:EST
DTSTART:20201101T060000
END:STANDARD
END:VTIMEZONE
BEGIN:VEVENT
DTSTART;TZID=America/New_York:20200821T110000
DTEND;TZID=America/New_York:20200821T140000
DTSTAMP:20260420T130414
CREATED:20220928T201057Z
LAST-MODIFIED:20220928T201057Z
UID:10047962-1598007600-1598018400@destinationbedfordva.com
SUMMARY:8th Annual National Juried Exhibition
DESCRIPTION:This exhibit at the Bower Center for the Arts has historically seen artworks in numerous media- painting\, drawing\, print-making\, collage\, photography\, sculpture\, mosaics\, fiber art\, fabric\, stained and fused glass\, and more. \nWe invite you to visit this exciting national exhibit in its 8th year. Pick up a People’s Choice Ballot to vote for your favorite piece\, and enjoy an engaging Art Scavenger Hunt through the exhibit\, fun for all ages.  \nThe Bower Center is open Wednesdays & Fridays 11 a.m. – 2 p.m. and Saturdays 11 a.m. – 3 p.m. Other times by appointment.
URL:https://destinationbedfordva.com/event/8th-annual-national-juried-exhibition/2020-08-21/
LOCATION:Bower Center for the Arts\, 305 North Bridge Street\, Bedford\, VA\, 24523\, United States
ATTACH;FMTTYPE=image/jpeg:https://destinationbedfordva.com/wp-content/uploads/2020/05/8th-Annual-National-Juried-Exhibition.jpg
GEO:37.3365706;-79.5229491
X-APPLE-STRUCTURED-LOCATION;VALUE=URI;X-ADDRESS=Bower Center for the Arts 305 North Bridge Street Bedford VA 24523 United States;X-APPLE-RADIUS=500;X-TITLE=305 North Bridge Street:geo:-79.5229491,37.3365706
END:VEVENT
BEGIN:VEVENT
DTSTART;TZID=America/New_York:20200821T160000
DTEND;TZID=America/New_York:20200821T180000
DTSTAMP:20260420T130414
CREATED:20200710T184629Z
LAST-MODIFIED:20200710T191442Z
UID:10048037-1598025600-1598032800@destinationbedfordva.com
SUMMARY:Drifter's Friday Special
DESCRIPTION:Ain’t no thang but a 1/2 price bucket of chicken wings… at Drifter’s every Friday 4pm-6pm!
URL:https://destinationbedfordva.com/event/1-2-price-wing-buckets-at-drifters/2020-08-21/
LOCATION:Drifter’s\, 1617 Crystal Shores Drive\, Moneta\, VA\, 24121
ATTACH;FMTTYPE=image/jpeg:https://destinationbedfordva.com/wp-content/uploads/2020/07/wings-2.jpg
END:VEVENT
END:VCALENDAR