BEGIN:VCALENDAR
VERSION:2.0
PRODID:-//Destination Bedford - ECPv6.8.3//NONSGML v1.0//EN
CALSCALE:GREGORIAN
METHOD:PUBLISH
X-ORIGINAL-URL:https://destinationbedfordva.com
X-WR-CALDESC:Events for Destination Bedford
REFRESH-INTERVAL;VALUE=DURATION:PT1H
X-Robots-Tag:noindex
X-PUBLISHED-TTL:PT1H
BEGIN:VTIMEZONE
TZID:America/New_York
BEGIN:DAYLIGHT
TZOFFSETFROM:-0500
TZOFFSETTO:-0400
TZNAME:EDT
DTSTART:20200308T070000
END:DAYLIGHT
BEGIN:STANDARD
TZOFFSETFROM:-0400
TZOFFSETTO:-0500
TZNAME:EST
DTSTART:20201101T060000
END:STANDARD
END:VTIMEZONE
BEGIN:VEVENT
DTSTART;TZID=America/New_York:20201226T080000
DTEND;TZID=America/New_York:20201226T120000
DTSTAMP:20260420T210301
CREATED:20160602T195440Z
LAST-MODIFIED:20160602T195440Z
UID:10046191-1608969600-1608984000@destinationbedfordva.com
SUMMARY:Forest Farmers Market
DESCRIPTION:Virginia Grown Produce\, meats\, honey\, flowers along with breads for locals to enjoy.   The market is open the last week in April until the last week in Oct.  Please come and enjoy the local food from our area.
URL:https://destinationbedfordva.com/event/forest-farmers-market/2020-12-26/
LOCATION:Forest Farmers Market\, 15583 Forest Road\, Forest\, VA\, 24523\, United States
GEO:37.3649641;-79.2850156
X-APPLE-STRUCTURED-LOCATION;VALUE=URI;X-ADDRESS=Forest Farmers Market 15583 Forest Road Forest VA 24523 United States;X-APPLE-RADIUS=500;X-TITLE=15583 Forest Road:geo:-79.2850156,37.3649641
END:VEVENT
BEGIN:VEVENT
DTSTART;TZID=America/New_York:20201226T090000
DTEND;TZID=America/New_York:20201226T170000
DTSTAMP:20260420T210301
CREATED:20201007T141726Z
LAST-MODIFIED:20201102T195228Z
UID:10048315-1608973200-1609002000@destinationbedfordva.com
SUMMARY:Festival of Trees
DESCRIPTION:Festival of Trees at the Bedford Area Welcome Center is an annual event that takes place around the end of November through the first week of January. “Christmas Through The Decades” is the theme for this year. The event will feature trees that are decorated by local businesses and organizations. Visitors are encouraged to come by the Welcome Center and vote for their favorite tree(s) for only $1.00/vote. At the conclusion of the event\, all proceeds will benefit the charitable organizations designated by the businesses.  There are no winners and no losers of this event\, everyone has an equal opportunity to raise money for their selected charity and they will keep whatever amount they raise. The Festival of Trees is a festive family friendly event to celebrate the season while helping causes important to the community.
URL:https://destinationbedfordva.com/event/festival-of-trees-4/2020-12-26/
LOCATION:Bedford Area Welcome Center\, 816 Burks Hill Road\, Bedford\, VA\, 24523\, United States
ATTACH;FMTTYPE=image/png:https://destinationbedfordva.com/wp-content/uploads/2020/10/Christmas-through-the-decades-logo.png
GEO:37.3252279;-79.5316948
X-APPLE-STRUCTURED-LOCATION;VALUE=URI;X-ADDRESS=Bedford Area Welcome Center 816 Burks Hill Road Bedford VA 24523 United States;X-APPLE-RADIUS=500;X-TITLE=816 Burks Hill Road:geo:-79.5316948,37.3252279
END:VEVENT
BEGIN:VEVENT
DTSTART;TZID=America/New_York:20201226T100000
DTEND;TZID=America/New_York:20201226T170000
DTSTAMP:20260420T210301
CREATED:20201123T212100Z
LAST-MODIFIED:20201204T180810Z
UID:10048420-1608976800-1609002000@destinationbedfordva.com
SUMMARY:Train Exhibit
DESCRIPTION:Come enjoy the trains and get in the Christmas spirit! Perfect for the whole family. All it costs to see the trains and the museum is only $5 for adults and kids are free.\n\n \n\n 
URL:https://destinationbedfordva.com/event/train-exhibit-2/2020-12-26/
LOCATION:Bedford Museum and Genealogical Library\, 201 East Main Street\, Bedford\, VA\, 24523\, United States
ATTACH;FMTTYPE=image/jpeg:https://destinationbedfordva.com/wp-content/uploads/2020/11/train.jpg
GEO:37.3341734;-79.5218999
X-APPLE-STRUCTURED-LOCATION;VALUE=URI;X-ADDRESS=Bedford Museum and Genealogical Library 201 East Main Street Bedford VA 24523 United States;X-APPLE-RADIUS=500;X-TITLE=201 East Main Street:geo:-79.5218999,37.3341734
END:VEVENT
BEGIN:VEVENT
DTSTART;TZID=America/New_York:20201226T110000
DTEND;TZID=America/New_York:20201226T123000
DTSTAMP:20260420T210301
CREATED:20201016T181430Z
LAST-MODIFIED:20201016T181430Z
UID:10048336-1608980400-1608985800@destinationbedfordva.com
SUMMARY:Cowboy Christmas
DESCRIPTION:Celebrate the holiday season in the true cowboy spirit. Go for a wonderful trail ride\, decorate an evergreen tree with edible ornaments for the wildlife\, and enjoy a true “Cowboy” dinner at the Inn. This full day of activities is sure to be enjoyed by all.  \nCost is $66/person.
URL:https://destinationbedfordva.com/event/cowboy-christmas-2/2020-12-26/
LOCATION:Reba Farm Inn and Saddle Soar Equitainment\, 1099 Reba Farm Lane\, Bedford\, VA\, 24523\, United States
ATTACH;FMTTYPE=image/jpeg:https://destinationbedfordva.com/wp-content/uploads/2020/10/Saddle-Soar.jpg
GEO:37.409982;-79.636243
X-APPLE-STRUCTURED-LOCATION;VALUE=URI;X-ADDRESS=Reba Farm Inn and Saddle Soar Equitainment 1099 Reba Farm Lane Bedford VA 24523 United States;X-APPLE-RADIUS=500;X-TITLE=1099 Reba Farm Lane:geo:-79.636243,37.409982
END:VEVENT
BEGIN:VEVENT
DTSTART;TZID=America/New_York:20201226T110000
DTEND;TZID=America/New_York:20201226T150000
DTSTAMP:20260420T210301
CREATED:20220928T201248Z
LAST-MODIFIED:20220928T201248Z
UID:10048433-1608980400-1608994800@destinationbedfordva.com
SUMMARY:Colored Pencil Exhibit at Bower Center
DESCRIPTION:Come visit this free exhibit or click here to see it virtually. \nJennifer Phillips Carpenter\, originally from Bridgewater VA\, has over 35 years of experience working with colored pencil. Her interest in art was encouraged throughout her youth and she graduated from Bridgewater College with a BA in art. \nFrustration when trying painting during her college years lead to her independent colored pencil study in 1986 … she had found her niche! In 1990 she became a charter member of the Colored Pencil Society of America. \nJennifer uses the finest\, most permanent and light-fast colored pencils in the world to create her works of art\, but like most colored pencil artists\, got her start with Prismacolors and still uses them on occasion. No solvents are used; multiple layers of color are applied to achieve the desired effect. As many as 15-20 layers may be required. 
URL:https://destinationbedfordva.com/event/colored-pencil-exhibit/2020-12-26/
LOCATION:Bower Center for the Arts\, 309 North Bridge Street\, Bedford\, VA\, United States
ATTACH;FMTTYPE=image/jpeg:https://destinationbedfordva.com/wp-content/uploads/2020/09/bower-5.jpg
GEO:37.336317;-79.522795
X-APPLE-STRUCTURED-LOCATION;VALUE=URI;X-ADDRESS=Bower Center for the Arts 309 North Bridge Street Bedford VA United States;X-APPLE-RADIUS=500;X-TITLE=309 North Bridge Street:geo:-79.522795,37.336317
END:VEVENT
END:VCALENDAR