BEGIN:VCALENDAR
VERSION:2.0
PRODID:-//Destination Bedford - ECPv6.8.3//NONSGML v1.0//EN
CALSCALE:GREGORIAN
METHOD:PUBLISH
X-ORIGINAL-URL:https://destinationbedfordva.com
X-WR-CALDESC:Events for Destination Bedford
REFRESH-INTERVAL;VALUE=DURATION:PT1H
X-Robots-Tag:noindex
X-PUBLISHED-TTL:PT1H
BEGIN:VTIMEZONE
TZID:America/New_York
BEGIN:DAYLIGHT
TZOFFSETFROM:-0500
TZOFFSETTO:-0400
TZNAME:EDT
DTSTART:20210314T070000
END:DAYLIGHT
BEGIN:STANDARD
TZOFFSETFROM:-0400
TZOFFSETTO:-0500
TZNAME:EST
DTSTART:20211107T060000
END:STANDARD
END:VTIMEZONE
BEGIN:VEVENT
DTSTART;TZID=America/New_York:20210106T110000
DTEND;TZID=America/New_York:20210106T150000
DTSTAMP:20260423T105027
CREATED:20201223T192701Z
LAST-MODIFIED:20201230T150007Z
UID:10048430-1609930800-1609945200@destinationbedfordva.com
SUMMARY:Colored Pencil Exhibit at Bower Center
DESCRIPTION:Come visit this free exhibit or click here to see it virtually. \nJennifer Phillips Carpenter\, originally from Bridgewater VA\, has over 35 years of experience working with colored pencil. Her interest in art was encouraged throughout her youth and she graduated from Bridgewater College with a BA in art. \nFrustration when trying painting during her college years lead to her independent colored pencil study in 1986 … she had found her niche! In 1990 she became a charter member of the Colored Pencil Society of America. \nJennifer uses the finest\, most permanent and light-fast colored pencils in the world to create her works of art\, but like most colored pencil artists\, got her start with Prismacolors and still uses them on occasion. No solvents are used; multiple layers of color are applied to achieve the desired effect. As many as 15-20 layers may be required. 
URL:https://destinationbedfordva.com/event/colored-pencil-exhibit/2021-01-06/
LOCATION:Bower Center for the Arts\, 309 North Bridge Street\, Bedford\, VA\, United States
ATTACH;FMTTYPE=image/jpeg:https://destinationbedfordva.com/wp-content/uploads/2020/09/bower-5.jpg
GEO:37.336317;-79.522795
X-APPLE-STRUCTURED-LOCATION;VALUE=URI;X-ADDRESS=Bower Center for the Arts 309 North Bridge Street Bedford VA United States;X-APPLE-RADIUS=500;X-TITLE=309 North Bridge Street:geo:-79.522795,37.336317
END:VEVENT
END:VCALENDAR