BEGIN:VCALENDAR
VERSION:2.0
PRODID:-//Destination Bedford - ECPv6.8.3//NONSGML v1.0//EN
CALSCALE:GREGORIAN
METHOD:PUBLISH
X-ORIGINAL-URL:https://destinationbedfordva.com
X-WR-CALDESC:Events for Destination Bedford
REFRESH-INTERVAL;VALUE=DURATION:PT1H
X-Robots-Tag:noindex
X-PUBLISHED-TTL:PT1H
BEGIN:VTIMEZONE
TZID:America/New_York
BEGIN:DAYLIGHT
TZOFFSETFROM:-0500
TZOFFSETTO:-0400
TZNAME:EDT
DTSTART:20210314T070000
END:DAYLIGHT
BEGIN:STANDARD
TZOFFSETFROM:-0400
TZOFFSETTO:-0500
TZNAME:EST
DTSTART:20211107T060000
END:STANDARD
END:VTIMEZONE
BEGIN:VEVENT
DTSTART;TZID=America/New_York:20210115T080000
DTEND;TZID=America/New_York:20210115T130000
DTSTAMP:20260425T145502
CREATED:20210112T145923Z
LAST-MODIFIED:20210112T190647Z
UID:10048522-1610697600-1610715600@destinationbedfordva.com
SUMMARY:Nomad Coffee Truck at the Welcome Center
DESCRIPTION:This will be Nomad’s first time at the Welcome Center! Enjoy great warm coffee on a cold winter day! Choose from coffees\, lattes\, teas\, hot chocolate\, and a specialty drink menu! Stop in the Welcome Center to see all of the wonderful things that Bedford has to offer! 
URL:https://destinationbedfordva.com/event/food-truck-the-welcome-center-3/
LOCATION:Bedford Area Welcome Center\, 816 Burks Hill Road\, Bedford\, VA\, 24523\, United States
ATTACH;FMTTYPE=image/jpeg:https://destinationbedfordva.com/wp-content/uploads/2021/01/nomad-coffee.jpg
GEO:37.3252279;-79.5316948
X-APPLE-STRUCTURED-LOCATION;VALUE=URI;X-ADDRESS=Bedford Area Welcome Center 816 Burks Hill Road Bedford VA 24523 United States;X-APPLE-RADIUS=500;X-TITLE=816 Burks Hill Road:geo:-79.5316948,37.3252279
END:VEVENT
BEGIN:VEVENT
DTSTART;TZID=America/New_York:20210115T110000
DTEND;TZID=America/New_York:20210115T150000
DTSTAMP:20260425T145502
CREATED:20220928T201248Z
LAST-MODIFIED:20220928T201248Z
UID:10048441-1610708400-1610722800@destinationbedfordva.com
SUMMARY:Colored Pencil Exhibit at Bower Center
DESCRIPTION:Come visit this free exhibit or click here to see it virtually. \nJennifer Phillips Carpenter\, originally from Bridgewater VA\, has over 35 years of experience working with colored pencil. Her interest in art was encouraged throughout her youth and she graduated from Bridgewater College with a BA in art. \nFrustration when trying painting during her college years lead to her independent colored pencil study in 1986 … she had found her niche! In 1990 she became a charter member of the Colored Pencil Society of America. \nJennifer uses the finest\, most permanent and light-fast colored pencils in the world to create her works of art\, but like most colored pencil artists\, got her start with Prismacolors and still uses them on occasion. No solvents are used; multiple layers of color are applied to achieve the desired effect. As many as 15-20 layers may be required. 
URL:https://destinationbedfordva.com/event/colored-pencil-exhibit/2021-01-15/
LOCATION:Bower Center for the Arts\, 309 North Bridge Street\, Bedford\, VA\, United States
ATTACH;FMTTYPE=image/jpeg:https://destinationbedfordva.com/wp-content/uploads/2020/09/bower-5.jpg
GEO:37.336317;-79.522795
X-APPLE-STRUCTURED-LOCATION;VALUE=URI;X-ADDRESS=Bower Center for the Arts 309 North Bridge Street Bedford VA United States;X-APPLE-RADIUS=500;X-TITLE=309 North Bridge Street:geo:-79.522795,37.336317
END:VEVENT
BEGIN:VEVENT
DTSTART;TZID=America/New_York:20210115T190000
DTEND;TZID=America/New_York:20210115T200000
DTSTAMP:20260425T145502
CREATED:20200331T165150Z
LAST-MODIFIED:20220909T204505Z
UID:10047821-1610737200-1610740800@destinationbedfordva.com
SUMMARY:Ricky's Bluegrass Connection "Virtual" Jam!
DESCRIPTION:Come listen live and jam along to some good bluegrass music with on Ricky’s Bluegrass Connection Facebook Page  on Friday evenings at 7pm! \nIf you want to drop a donation in their tip bucket you can do so by using this link Paypal.Me/RickyBluegrass.
URL:https://destinationbedfordva.com/event/rickys-virtual-jam/2021-01-15/
LOCATION:Virtual Live on Ricky’s Bluegrass Connection Facebook Page
ATTACH;FMTTYPE=image/jpeg:https://destinationbedfordva.com/wp-content/uploads/2020/03/Rickys-Virtual.jpg
END:VEVENT
END:VCALENDAR