BEGIN:VCALENDAR
VERSION:2.0
PRODID:-//Destination Bedford - ECPv6.8.3//NONSGML v1.0//EN
CALSCALE:GREGORIAN
METHOD:PUBLISH
X-ORIGINAL-URL:https://destinationbedfordva.com
X-WR-CALDESC:Events for Destination Bedford
REFRESH-INTERVAL;VALUE=DURATION:PT1H
X-Robots-Tag:noindex
X-PUBLISHED-TTL:PT1H
BEGIN:VTIMEZONE
TZID:America/New_York
BEGIN:DAYLIGHT
TZOFFSETFROM:-0500
TZOFFSETTO:-0400
TZNAME:EDT
DTSTART:20210314T070000
END:DAYLIGHT
BEGIN:STANDARD
TZOFFSETFROM:-0400
TZOFFSETTO:-0500
TZNAME:EST
DTSTART:20211107T060000
END:STANDARD
END:VTIMEZONE
BEGIN:VEVENT
DTSTART;TZID=America/New_York:20210221T120000
DTEND;TZID=America/New_York:20210221T150000
DTSTAMP:20260425T173604
CREATED:20210122T203707Z
LAST-MODIFIED:20210219T185826Z
UID:10048526-1613908800-1613919600@destinationbedfordva.com
SUMMARY:Intro to Fly Fishing and Fly Casting Clinic
DESCRIPTION:Come to Liberty Lake Park for an in depth look into; rods\, reels\, lines\, leaders\, tippets\, flies\, knots and proper fly casting techniques. This is the perfect class for a beginner fly fisher that wants to get into the sport or anyone wanting to expand their fly fishing knowledge and casting ability!\n\n\n$95 per person\, lunch and beverages are included.\n\n\nEmail davisstanleyflyfishing@gmail.com or call 540-875-9094 to sign up!
URL:https://destinationbedfordva.com/event/intro-to-fly-fishing-and-fly-casting-clinic/
LOCATION:Liberty Lake Park\, 939 Burks Hill Road\, Bedford\, VA\, 24523\, United States
ATTACH;FMTTYPE=image/jpeg:https://destinationbedfordva.com/wp-content/uploads/2021/01/fly-fishing-2.jpg
GEO:37.3146908;-79.5331863
X-APPLE-STRUCTURED-LOCATION;VALUE=URI;X-ADDRESS=Liberty Lake Park 939 Burks Hill Road Bedford VA 24523 United States;X-APPLE-RADIUS=500;X-TITLE=939 Burks Hill Road:geo:-79.5331863,37.3146908
END:VEVENT
BEGIN:VEVENT
DTSTART;TZID=America/New_York:20210221T133000
DTEND;TZID=America/New_York:20210221T170000
DTSTAMP:20260425T173604
CREATED:20210111T144829Z
LAST-MODIFIED:20210219T163644Z
UID:10048466-1613914200-1613926800@destinationbedfordva.com
SUMMARY:Mountain Cross Race Series #3
DESCRIPTION:Keep your legs spinning again this year with the Winter Mountain Cross Race Series. Come on out and join in on the racing\, fun\, food\, prizes and friends! \nEnjoy good times with the Bedford Trails Winter Mountain Cross Race Series! Limited spots are available and there is a high chance of this filling up! Sign up today!\nhttps://bedfordtrails.wordpress.com/bedfordmountaincross/
URL:https://destinationbedfordva.com/event/mountain-cross-race-series/
LOCATION:New London Tech Trails\, 1257 Meade Rd.\, Forest\, VA\, 24551
ATTACH;FMTTYPE=image/jpeg:https://destinationbedfordva.com/wp-content/uploads/2021/01/mountain-bike-1-1.jpg
END:VEVENT
BEGIN:VEVENT
DTSTART;TZID=America/New_York:20210221T160000
DTEND;TZID=America/New_York:20210221T190000
DTSTAMP:20260425T173604
CREATED:20210219T212125Z
LAST-MODIFIED:20210219T213519Z
UID:10048543-1613923200-1613934000@destinationbedfordva.com
SUMMARY:Live music @ The Dam Grill
DESCRIPTION:Come enjoy live music by Jodie Davis and Dave Owens at The Dam Grill! \n$5 cover charge.\n 
URL:https://destinationbedfordva.com/event/12731/
LOCATION:The Dam Grill\, 6724 White House Road\, Huddleston\, VA\, 24104\, United States
ATTACH;FMTTYPE=image/jpeg:https://destinationbedfordva.com/wp-content/uploads/2021/02/Jodie-Davis-and-Dave-Owens.jpg
END:VEVENT
END:VCALENDAR