BEGIN:VCALENDAR
VERSION:2.0
PRODID:-//Destination Bedford - ECPv6.8.3//NONSGML v1.0//EN
CALSCALE:GREGORIAN
METHOD:PUBLISH
X-ORIGINAL-URL:https://destinationbedfordva.com
X-WR-CALDESC:Events for Destination Bedford
REFRESH-INTERVAL;VALUE=DURATION:PT1H
X-Robots-Tag:noindex
X-PUBLISHED-TTL:PT1H
BEGIN:VTIMEZONE
TZID:America/New_York
BEGIN:DAYLIGHT
TZOFFSETFROM:-0500
TZOFFSETTO:-0400
TZNAME:EDT
DTSTART:20210314T070000
END:DAYLIGHT
BEGIN:STANDARD
TZOFFSETFROM:-0400
TZOFFSETTO:-0500
TZNAME:EST
DTSTART:20211107T060000
END:STANDARD
END:VTIMEZONE
BEGIN:VEVENT
DTSTART;TZID=America/New_York:20210721T090000
DTEND;TZID=America/New_York:20210721T180000
DTSTAMP:20260424T171745
CREATED:20210715T183628Z
LAST-MODIFIED:20210715T183812Z
UID:10048896-1626858000-1626890400@destinationbedfordva.com
SUMMARY:Peaks and Pieces Quilt Guild show
DESCRIPTION:Come enjoy the 24th Annual Peaks and Pieces Quilt Guild show at the Bedford Central Library. Stop by during library hours from now thru Saturday\, July 24th to take an up close look at the amazing craftsmanship of these beautiful quilts! Be sure to take a minute to vote on your favorites. 
URL:https://destinationbedfordva.com/event/peaks-and-pieces-quilt-guild-show/2021-07-21/
LOCATION:Bedford Public Library\, 305 North Bridge Street\, Bedford\, VA\, 24523\, United States
ATTACH;FMTTYPE=image/jpeg:https://destinationbedfordva.com/wp-content/uploads/2021/07/quilt-show.jpg
GEO:37.3362531;-79.5228245
X-APPLE-STRUCTURED-LOCATION;VALUE=URI;X-ADDRESS=Bedford Public Library 305 North Bridge Street Bedford VA 24523 United States;X-APPLE-RADIUS=500;X-TITLE=305 North Bridge Street:geo:-79.5228245,37.3362531
END:VEVENT
BEGIN:VEVENT
DTSTART;TZID=America/New_York:20210721T110000
DTEND;TZID=America/New_York:20210721T150000
DTSTAMP:20260424T171745
CREATED:20210630T165113Z
LAST-MODIFIED:20210630T165412Z
UID:10048859-1626865200-1626879600@destinationbedfordva.com
SUMMARY:2nd Biennial Fiber Arts National Juried Exhibition
DESCRIPTION:Come see this exciting exhibit at the Bower Center! This exhibit includes all forms of fiber art: functional\, wearable\, and fine art\, original in concept and design\, and must not have been created in a class/workshop\, or from a kit\, or been in a previous juried exhibit at Bower Center. Gallery admission is free!
URL:https://destinationbedfordva.com/event/2nd-biennial-fiber-arts-national-juried-exhibition/2021-07-21/
LOCATION:Bower Center for the Arts\, 309 North Bridge Street\, Bedford\, VA\, United States
ATTACH;FMTTYPE=image/jpeg:https://destinationbedfordva.com/wp-content/uploads/2021/06/Bower-Center-Fiber-Art.jpg
GEO:37.336317;-79.522795
X-APPLE-STRUCTURED-LOCATION;VALUE=URI;X-ADDRESS=Bower Center for the Arts 309 North Bridge Street Bedford VA United States;X-APPLE-RADIUS=500;X-TITLE=309 North Bridge Street:geo:-79.522795,37.336317
END:VEVENT
END:VCALENDAR