BEGIN:VCALENDAR
VERSION:2.0
PRODID:-//Destination Bedford - ECPv6.8.3//NONSGML v1.0//EN
CALSCALE:GREGORIAN
METHOD:PUBLISH
X-WR-CALNAME:Destination Bedford
X-ORIGINAL-URL:https://destinationbedfordva.com
X-WR-CALDESC:Events for Destination Bedford
REFRESH-INTERVAL;VALUE=DURATION:PT1H
X-Robots-Tag:noindex
X-PUBLISHED-TTL:PT1H
BEGIN:VTIMEZONE
TZID:America/New_York
BEGIN:DAYLIGHT
TZOFFSETFROM:-0500
TZOFFSETTO:-0400
TZNAME:EDT
DTSTART:20210314T070000
END:DAYLIGHT
BEGIN:STANDARD
TZOFFSETFROM:-0400
TZOFFSETTO:-0500
TZNAME:EST
DTSTART:20211107T060000
END:STANDARD
END:VTIMEZONE
BEGIN:VEVENT
DTSTART;TZID=America/New_York:20210912T110000
DTEND;TZID=America/New_York:20210912T180000
DTSTAMP:20260419T233439
CREATED:20220928T201546Z
LAST-MODIFIED:20220928T201546Z
UID:10049084-1631444400-1631469600@destinationbedfordva.com
SUMMARY:Layman Family Farms
DESCRIPTION:From the famous 10 acre corn maze\, to the largest pumpkin patch in the area\, there’s something exciting for kids of all ages! Admission fees apply. Click here for more information!
URL:https://destinationbedfordva.com/event/layman-family-farms-2/2021-09-12/
LOCATION:Layman Family Farms\, 1815 Mountain View Church Road\, Montvale\, VA\, 24122\, United States
ATTACH;FMTTYPE=image/jpeg:https://destinationbedfordva.com/wp-content/uploads/2021/09/Layman-2021.jpg
GEO:37.374828;-79.7377107
X-APPLE-STRUCTURED-LOCATION;VALUE=URI;X-ADDRESS=Layman Family Farms 1815 Mountain View Church Road Montvale VA 24122 United States;X-APPLE-RADIUS=500;X-TITLE=1815 Mountain View Church Road:geo:-79.7377107,37.374828
END:VEVENT
BEGIN:VEVENT
DTSTART;TZID=America/New_York:20210912T140000
DTEND;TZID=America/New_York:20210912T163000
DTSTAMP:20260419T233439
CREATED:20210901T204203Z
LAST-MODIFIED:20210901T204333Z
UID:10049022-1631455200-1631464200@destinationbedfordva.com
SUMMARY:Little Town Players
DESCRIPTION:Little Town Players presents “Postmortem” written by Ken Ludwig and directed by David Walton.\nWarning: Adult Content\nSeptember 10\, 11\, 17\, 18 – 7:30 PM\nSeptember 12\, 19 – 2:00 PM\nTickets – $18 adults; $12 for ages 12 and under. You may reserve tickets by calling 540-586-5881. Tickets can also be purchased at the door.\n 
URL:https://destinationbedfordva.com/event/little-town-players-3/2021-09-12/
LOCATION:Little Town Players\, 931 Ashland Avenue\, Bedford\, VA\, 24523\, United States
ATTACH;FMTTYPE=image/png:https://destinationbedfordva.com/wp-content/uploads/2021/09/Little-Town-Players.png
GEO:37.3434782;-79.5351962
X-APPLE-STRUCTURED-LOCATION;VALUE=URI;X-ADDRESS=Little Town Players 931 Ashland Avenue Bedford VA 24523 United States;X-APPLE-RADIUS=500;X-TITLE=931 Ashland Avenue:geo:-79.5351962,37.3434782
END:VEVENT
END:VCALENDAR