BEGIN:VCALENDAR
VERSION:2.0
PRODID:-//Destination Bedford - ECPv6.8.3//NONSGML v1.0//EN
CALSCALE:GREGORIAN
METHOD:PUBLISH
X-WR-CALNAME:Destination Bedford
X-ORIGINAL-URL:https://destinationbedfordva.com
X-WR-CALDESC:Events for Destination Bedford
REFRESH-INTERVAL;VALUE=DURATION:PT1H
X-Robots-Tag:noindex
X-PUBLISHED-TTL:PT1H
BEGIN:VTIMEZONE
TZID:America/New_York
BEGIN:DAYLIGHT
TZOFFSETFROM:-0500
TZOFFSETTO:-0400
TZNAME:EDT
DTSTART:20210314T070000
END:DAYLIGHT
BEGIN:STANDARD
TZOFFSETFROM:-0400
TZOFFSETTO:-0500
TZNAME:EST
DTSTART:20211107T060000
END:STANDARD
END:VTIMEZONE
BEGIN:VEVENT
DTSTART;TZID=America/New_York:20210924T090000
DTEND;TZID=America/New_York:20210924T120000
DTSTAMP:20260422T031801
CREATED:20210112T144938Z
LAST-MODIFIED:20210507T141313Z
UID:10048510-1632474000-1632484800@destinationbedfordva.com
SUMMARY:Bedford Farmer's Market
DESCRIPTION:Come enjoy this great farmers market every Friday and second Saturday of the month! You will find fresh produce\, veggies\, artisan crafts and several more Bedford grown products! Food trucks will also be on site!  \n 
URL:https://destinationbedfordva.com/event/bedford-farmers-market-4-2021-04-10/2021-09-24/
LOCATION:Bedford Farmers Market\, Washington and Center Streets\, Bedford\, VA\, 24523\, United States
ATTACH;FMTTYPE=image/jpeg:https://destinationbedfordva.com/wp-content/uploads/2021/01/Bedford-Farmer.jpg
GEO:37.3337321;-79.5252117
X-APPLE-STRUCTURED-LOCATION;VALUE=URI;X-ADDRESS=Bedford Farmers Market Washington and Center Streets Bedford VA 24523 United States;X-APPLE-RADIUS=500;X-TITLE=Washington and Center Streets:geo:-79.5252117,37.3337321
END:VEVENT
BEGIN:VEVENT
DTSTART;TZID=America/New_York:20210924T110000
DTEND;TZID=America/New_York:20210924T150000
DTSTAMP:20260422T031801
CREATED:20210826T151314Z
LAST-MODIFIED:20210826T151725Z
UID:10048977-1632481200-1632495600@destinationbedfordva.com
SUMMARY:Through the LENS Photography Exhibit
DESCRIPTION:Come see this first ever judged photography exhibit at the Bower Center! People\, animals\, landscape or cityscape\, action or still-life\, documentary\, humorous or sentimental\, realistic or abstract … It’s all included in this awesome new exhibit! \nGallery admission is free!
URL:https://destinationbedfordva.com/event/exhibit-at-the-bower-center-through-the-lens/2021-09-24/
LOCATION:Bower Center for the Arts\, 309 North Bridge Street\, Bedford\, VA\, United States
ATTACH;FMTTYPE=image/png:https://destinationbedfordva.com/wp-content/uploads/2021/08/through-the-lens.png
GEO:37.336317;-79.522795
X-APPLE-STRUCTURED-LOCATION;VALUE=URI;X-ADDRESS=Bower Center for the Arts 309 North Bridge Street Bedford VA United States;X-APPLE-RADIUS=500;X-TITLE=309 North Bridge Street:geo:-79.522795,37.336317
END:VEVENT
BEGIN:VEVENT
DTSTART;TZID=America/New_York:20210924T110000
DTEND;TZID=America/New_York:20210924T230000
DTSTAMP:20260422T031801
CREATED:20210825T141750Z
LAST-MODIFIED:20210825T141750Z
UID:10048949-1632481200-1632524400@destinationbedfordva.com
SUMMARY:Mountain Run Jam
DESCRIPTION:Mountain Run Farm\, located in Sedalia\, VA\, is a family farm on a path of healing land and people. This festival includes live music\, workshops\, hikes and healing activities! For more information click here. 
URL:https://destinationbedfordva.com/event/mountain-run-jam-2/2021-09-24/
LOCATION:Mountain Run Farm\, 1228 Charlemont Rd\, Big Island\, VA\, 24526\, United States
ATTACH;FMTTYPE=image/png:https://destinationbedfordva.com/wp-content/uploads/2021/08/MRJ-Poster-21-002.png
END:VEVENT
BEGIN:VEVENT
DTSTART;TZID=America/New_York:20210924T173000
DTEND;TZID=America/New_York:20210924T203000
DTSTAMP:20260422T031801
CREATED:20210909T210114Z
LAST-MODIFIED:20210909T210114Z
UID:10049092-1632504600-1632515400@destinationbedfordva.com
SUMMARY:Jazz in the Park
DESCRIPTION:Bedford County Parks and Recreation will be hosting the Jazz Ensemble from the Liberty University School of Music on Friday September 24th at 5:30 for Jazz in the Park! Admission is free and Munsey’s Smoke Shack will be on site with BBQ for sale.
URL:https://destinationbedfordva.com/event/jazz-in-the-park-2/
LOCATION:Falling Creek Park\, 1257 County Farm Road\, Bedford\, VA\, 24523\, United States
ATTACH;FMTTYPE=image/png:https://destinationbedfordva.com/wp-content/uploads/2021/09/jazz-in-the-park-2.png
GEO:37.305294;-79.501901
X-APPLE-STRUCTURED-LOCATION;VALUE=URI;X-ADDRESS=Falling Creek Park 1257 County Farm Road Bedford VA 24523 United States;X-APPLE-RADIUS=500;X-TITLE=1257 County Farm Road:geo:-79.501901,37.305294
END:VEVENT
END:VCALENDAR