BEGIN:VCALENDAR
VERSION:2.0
PRODID:-//Destination Bedford - ECPv6.8.3//NONSGML v1.0//EN
CALSCALE:GREGORIAN
METHOD:PUBLISH
X-ORIGINAL-URL:https://destinationbedfordva.com
X-WR-CALDESC:Events for Destination Bedford
REFRESH-INTERVAL;VALUE=DURATION:PT1H
X-Robots-Tag:noindex
X-PUBLISHED-TTL:PT1H
BEGIN:VTIMEZONE
TZID:America/New_York
BEGIN:DAYLIGHT
TZOFFSETFROM:-0500
TZOFFSETTO:-0400
TZNAME:EDT
DTSTART:20210314T070000
END:DAYLIGHT
BEGIN:STANDARD
TZOFFSETFROM:-0400
TZOFFSETTO:-0500
TZNAME:EST
DTSTART:20211107T060000
END:STANDARD
END:VTIMEZONE
BEGIN:VEVENT
DTSTART;TZID=America/New_York:20210926T080000
DTEND;TZID=America/New_York:20210926T190000
DTSTAMP:20260422T045109
CREATED:20210825T141750Z
LAST-MODIFIED:20210825T141750Z
UID:10048951-1632643200-1632682800@destinationbedfordva.com
SUMMARY:Mountain Run Jam
DESCRIPTION:Mountain Run Farm\, located in Sedalia\, VA\, is a family farm on a path of healing land and people. This festival includes live music\, workshops\, hikes and healing activities! For more information click here. 
URL:https://destinationbedfordva.com/event/mountain-run-jam-2/2021-09-26/
LOCATION:Mountain Run Farm\, 1228 Charlemont Rd\, Big Island\, VA\, 24526\, United States
ATTACH;FMTTYPE=image/png:https://destinationbedfordva.com/wp-content/uploads/2021/08/MRJ-Poster-21-002.png
END:VEVENT
BEGIN:VEVENT
DTSTART;TZID=America/New_York:20210926T110000
DTEND;TZID=America/New_York:20210926T180000
DTSTAMP:20260422T045109
CREATED:20220928T201546Z
LAST-MODIFIED:20220928T201546Z
UID:10049086-1632654000-1632679200@destinationbedfordva.com
SUMMARY:Layman Family Farms
DESCRIPTION:From the famous 10 acre corn maze\, to the largest pumpkin patch in the area\, there’s something exciting for kids of all ages! Admission fees apply. Click here for more information!
URL:https://destinationbedfordva.com/event/layman-family-farms-2/2021-09-26/
LOCATION:Layman Family Farms\, 1815 Mountain View Church Road\, Montvale\, VA\, 24122\, United States
ATTACH;FMTTYPE=image/jpeg:https://destinationbedfordva.com/wp-content/uploads/2021/09/Layman-2021.jpg
GEO:37.374828;-79.7377107
X-APPLE-STRUCTURED-LOCATION;VALUE=URI;X-ADDRESS=Layman Family Farms 1815 Mountain View Church Road Montvale VA 24122 United States;X-APPLE-RADIUS=500;X-TITLE=1815 Mountain View Church Road:geo:-79.7377107,37.374828
END:VEVENT
END:VCALENDAR