BEGIN:VCALENDAR
VERSION:2.0
PRODID:-//Destination Bedford - ECPv6.8.3//NONSGML v1.0//EN
CALSCALE:GREGORIAN
METHOD:PUBLISH
X-WR-CALNAME:Destination Bedford
X-ORIGINAL-URL:https://destinationbedfordva.com
X-WR-CALDESC:Events for Destination Bedford
REFRESH-INTERVAL;VALUE=DURATION:PT1H
X-Robots-Tag:noindex
X-PUBLISHED-TTL:PT1H
BEGIN:VTIMEZONE
TZID:America/New_York
BEGIN:DAYLIGHT
TZOFFSETFROM:-0500
TZOFFSETTO:-0400
TZNAME:EDT
DTSTART:20210314T070000
END:DAYLIGHT
BEGIN:STANDARD
TZOFFSETFROM:-0400
TZOFFSETTO:-0500
TZNAME:EST
DTSTART:20211107T060000
END:STANDARD
END:VTIMEZONE
BEGIN:VEVENT
DTSTART;TZID=America/New_York:20210930T100000
DTEND;TZID=America/New_York:20210930T160000
DTSTAMP:20260423T132811
CREATED:20210930T174017Z
LAST-MODIFIED:20210930T174017Z
UID:10049141-1632996000-1633017600@destinationbedfordva.com
SUMMARY:Bedford Chamber Christmas Holiday Market
DESCRIPTION:Come celebrate the beginning of the holiday season as the Bedford Area Chamber of Commerce presents it’s 2021 Christmas Holiday Market on the Farm.\nFeaturing over 75 artisans and crafters\, food trucks\, live entertainment and the jolly ole man himself!\nEarly Bird shoppers are welcome at 9am for a minimal fee of $5 which will be donated to charity. 
URL:https://destinationbedfordva.com/event/bedford-chamber-christmas-holiday-market/
LOCATION:Cedar Oaks Farm
ATTACH;FMTTYPE=image/jpeg:https://destinationbedfordva.com/wp-content/uploads/2021/09/holiday-market-2021-2.jpg
END:VEVENT
END:VCALENDAR