BEGIN:VCALENDAR
VERSION:2.0
PRODID:-//Destination Bedford - ECPv6.8.3//NONSGML v1.0//EN
CALSCALE:GREGORIAN
METHOD:PUBLISH
X-ORIGINAL-URL:https://destinationbedfordva.com
X-WR-CALDESC:Events for Destination Bedford
REFRESH-INTERVAL;VALUE=DURATION:PT1H
X-Robots-Tag:noindex
X-PUBLISHED-TTL:PT1H
BEGIN:VTIMEZONE
TZID:America/New_York
BEGIN:DAYLIGHT
TZOFFSETFROM:-0500
TZOFFSETTO:-0400
TZNAME:EDT
DTSTART:20210314T070000
END:DAYLIGHT
BEGIN:STANDARD
TZOFFSETFROM:-0400
TZOFFSETTO:-0500
TZNAME:EST
DTSTART:20211107T060000
END:STANDARD
END:VTIMEZONE
BEGIN:VEVENT
DTSTART;TZID=America/New_York:20211001T090000
DTEND;TZID=America/New_York:20211001T120000
DTSTAMP:20260423T134407
CREATED:20210112T144938Z
LAST-MODIFIED:20210507T141313Z
UID:10048511-1633078800-1633089600@destinationbedfordva.com
SUMMARY:Bedford Farmer's Market
DESCRIPTION:Come enjoy this great farmers market every Friday and second Saturday of the month! You will find fresh produce\, veggies\, artisan crafts and several more Bedford grown products! Food trucks will also be on site!  \n 
URL:https://destinationbedfordva.com/event/bedford-farmers-market-4-2021-04-10/2021-10-01/
LOCATION:Bedford Farmers Market\, Washington and Center Streets\, Bedford\, VA\, 24523\, United States
ATTACH;FMTTYPE=image/jpeg:https://destinationbedfordva.com/wp-content/uploads/2021/01/Bedford-Farmer.jpg
GEO:37.3337321;-79.5252117
X-APPLE-STRUCTURED-LOCATION;VALUE=URI;X-ADDRESS=Bedford Farmers Market Washington and Center Streets Bedford VA 24523 United States;X-APPLE-RADIUS=500;X-TITLE=Washington and Center Streets:geo:-79.5252117,37.3337321
END:VEVENT
BEGIN:VEVENT
DTSTART;TZID=America/New_York:20211001T190000
DTEND;TZID=America/New_York:20211001T220000
DTSTAMP:20260423T134407
CREATED:20210610T190758Z
LAST-MODIFIED:20210930T155018Z
UID:10048789-1633114800-1633125600@destinationbedfordva.com
SUMMARY:Friday Night Jam
DESCRIPTION:Come to the parking lot at Ricky’s for some great social distancing fun! Music is played\, laughter is heard ringing through the space\, and everyone treats you like family. Bluegrass and mountain music\, old time\, and even a dash of tunes you’d never expect\, are on display to anyone wanting to join in or just enjoy.  Jam beings at 7pm! FREE event\, but donations are welcome.
URL:https://destinationbedfordva.com/event/friday-night-jam-2021-07-09/2021-10-01/
LOCATION:Ricky’s Bluegrass Connection
ATTACH;FMTTYPE=image/jpeg:https://destinationbedfordva.com/wp-content/uploads/2019/10/rickys-bluegrass.jpg
END:VEVENT
BEGIN:VEVENT
DTSTART;TZID=America/New_York:20211001T190000
DTEND;TZID=America/New_York:20211001T220000
DTSTAMP:20260423T134407
CREATED:20210830T145621Z
LAST-MODIFIED:20220909T203505Z
UID:10049012-1633114800-1633125600@destinationbedfordva.com
SUMMARY:Live Music @ The Dam  Grill
DESCRIPTION:Come to the Dam Grill for some great food\, a few cold ones and listen to some of your favorite tunes! \n$5 cover charge\nClick here to see who is playing this week! 
URL:https://destinationbedfordva.com/event/live-music-the-dam-grill-10/2021-10-01/
LOCATION:The Dam Grill\, 6724 White House Road\, Huddleston\, VA\, 24104\, United States
ATTACH;FMTTYPE=image/jpeg:https://destinationbedfordva.com/wp-content/uploads/2021/08/Dam-Grill-live-music.jpg
END:VEVENT
END:VCALENDAR