BEGIN:VCALENDAR
VERSION:2.0
PRODID:-//Destination Bedford - ECPv6.8.3//NONSGML v1.0//EN
CALSCALE:GREGORIAN
METHOD:PUBLISH
X-ORIGINAL-URL:https://destinationbedfordva.com
X-WR-CALDESC:Events for Destination Bedford
REFRESH-INTERVAL;VALUE=DURATION:PT1H
X-Robots-Tag:noindex
X-PUBLISHED-TTL:PT1H
BEGIN:VTIMEZONE
TZID:America/New_York
BEGIN:DAYLIGHT
TZOFFSETFROM:-0500
TZOFFSETTO:-0400
TZNAME:EDT
DTSTART:20210314T070000
END:DAYLIGHT
BEGIN:STANDARD
TZOFFSETFROM:-0400
TZOFFSETTO:-0500
TZNAME:EST
DTSTART:20211107T060000
END:STANDARD
END:VTIMEZONE
BEGIN:VEVENT
DTSTART;TZID=America/New_York:20211002T080000
DTEND;TZID=America/New_York:20211002T120000
DTSTAMP:20260423T213621
CREATED:20160602T195440Z
LAST-MODIFIED:20160602T195440Z
UID:10046231-1633161600-1633176000@destinationbedfordva.com
SUMMARY:Forest Farmers Market
DESCRIPTION:Virginia Grown Produce\, meats\, honey\, flowers along with breads for locals to enjoy.   The market is open the last week in April until the last week in Oct.  Please come and enjoy the local food from our area.
URL:https://destinationbedfordva.com/event/forest-farmers-market/2021-10-02/
LOCATION:Forest Farmers Market\, 15583 Forest Road\, Forest\, VA\, 24523\, United States
GEO:37.3649641;-79.2850156
X-APPLE-STRUCTURED-LOCATION;VALUE=URI;X-ADDRESS=Forest Farmers Market 15583 Forest Road Forest VA 24523 United States;X-APPLE-RADIUS=500;X-TITLE=15583 Forest Road:geo:-79.2850156,37.3649641
END:VEVENT
BEGIN:VEVENT
DTSTART;TZID=America/New_York:20211002T080000
DTEND;TZID=America/New_York:20211002T120000
DTSTAMP:20260423T213621
CREATED:20200313T202426Z
LAST-MODIFIED:20210430T211753Z
UID:10047815-1633161600-1633176000@destinationbedfordva.com
SUMMARY:Forest Farmer's Market
DESCRIPTION:Come to the Forest Farmer’s Market every Saturday for locally grown and produced fresh meat\, vegtables\, fruit\, bread\, craft vendors and so much more! 
URL:https://destinationbedfordva.com/event/forest-farmers-market-6/2021-10-02/
LOCATION:Forest Farmers Market\, 15583 Forest Road\, Forest\, VA\, 24523\, United States
ATTACH;FMTTYPE=image/jpeg:https://destinationbedfordva.com/wp-content/uploads/2020/03/forest-famrers-maket-2021.jpg
ORGANIZER;CN="Forest Farmers Market":MAILTO:forestfarmersmarket221@gmail.com
GEO:37.3649641;-79.2850156
X-APPLE-STRUCTURED-LOCATION;VALUE=URI;X-ADDRESS=Forest Farmers Market 15583 Forest Road Forest VA 24523 United States;X-APPLE-RADIUS=500;X-TITLE=15583 Forest Road:geo:-79.2850156,37.3649641
END:VEVENT
BEGIN:VEVENT
DTSTART;TZID=America/New_York:20211002T080000
DTEND;TZID=America/New_York:20211002T180000
DTSTAMP:20260423T213621
CREATED:20210929T163246Z
LAST-MODIFIED:20210929T163246Z
UID:10049095-1633161600-1633197600@destinationbedfordva.com
SUMMARY:Apple Harvest Month
DESCRIPTION:Celebrate Apple Harvest Month at Gross’ Orchard! Each weekend there will be different events and fun activities for the whole family! Click here for a full list of what’s happening each weekend! 
URL:https://destinationbedfordva.com/event/apple-harvest-month/2021-10-02/
LOCATION:Gross Orchards\, 6817 Wheats Valley Road\, Bedford\, VA\, 24523\, United States
ATTACH;FMTTYPE=image/jpeg:https://destinationbedfordva.com/wp-content/uploads/2019/06/gross-country-store.jpg
GEO:37.427682;-79.555247
X-APPLE-STRUCTURED-LOCATION;VALUE=URI;X-ADDRESS=Gross Orchards 6817 Wheats Valley Road Bedford VA 24523 United States;X-APPLE-RADIUS=500;X-TITLE=6817 Wheats Valley Road:geo:-79.555247,37.427682
END:VEVENT
BEGIN:VEVENT
DTSTART;TZID=America/New_York:20211002T100000
DTEND;TZID=America/New_York:20211002T140000
DTSTAMP:20260423T213621
CREATED:20210527T203815Z
LAST-MODIFIED:20210923T152620Z
UID:10048708-1633168800-1633183200@destinationbedfordva.com
SUMMARY:Smith Mountain Lake Farmers Market
DESCRIPTION:Vittone Farms is a happy host to the SML Farmers Market every Saturday morning. Come purchase your local food\, produce\, arts\, and crafts\, during your visit to Smith Mountain Lake. The last market for 2021 will be November 20th.  \n 
URL:https://destinationbedfordva.com/event/smith-mountain-lake-farmers-market/2021-10-02/
LOCATION:Vittone Farms\, 1696 White House Rd.\, Moneta\, VA\, 24121\, United States
ATTACH;FMTTYPE=image/jpeg:https://destinationbedfordva.com/wp-content/uploads/2021/05/SML-Farmers-Market-Vittone-Farms-pic-2021-002-002.jpg
END:VEVENT
BEGIN:VEVENT
DTSTART;TZID=America/New_York:20211002T100000
DTEND;TZID=America/New_York:20211002T160000
DTSTAMP:20260423T213621
CREATED:20210823T142246Z
LAST-MODIFIED:20220909T203343Z
UID:10048942-1633168800-1633190400@destinationbedfordva.com
SUMMARY:Open Farm Days
DESCRIPTION:Come to Lottie J Farm for the 2nd Annual Open Farm Days! Pumpkin patch\, hay pyramid\, corn pit\, barnyard with miniature donkeys\, goats\, alpacas\, pigs and chickens\, shop in the new farm store\, and enjoy fresh\, homemade goodies from The Happy Hen food trailer. Cost is $5 per person\, ages 3 and under are free. 
URL:https://destinationbedfordva.com/event/open-farm-days-2/2021-10-02/
LOCATION:Lottie J Farm\, 4787 Patterson Mill Road\, Bedford\, VA\, 24523\, United States
ATTACH;FMTTYPE=image/jpeg:https://destinationbedfordva.com/wp-content/uploads/2021/08/Open-farm-days-5-scaled.jpg
END:VEVENT
BEGIN:VEVENT
DTSTART;TZID=America/New_York:20211002T100000
DTEND;TZID=America/New_York:20211002T180000
DTSTAMP:20260423T213621
CREATED:20210909T152930Z
LAST-MODIFIED:20210930T210512Z
UID:10049079-1633168800-1633197600@destinationbedfordva.com
SUMMARY:Layman Family Farms
DESCRIPTION:From the famous 10 acre corn maze\, to the largest pumpkin patch in the area\, there’s something exciting for kids of all ages! Admission fees apply. Click here for more information!
URL:https://destinationbedfordva.com/event/layman-family-farms-2/2021-10-02/
LOCATION:Layman Family Farms\, 1815 Mountain View Church Road\, Montvale\, VA\, 24122\, United States
ATTACH;FMTTYPE=image/jpeg:https://destinationbedfordva.com/wp-content/uploads/2021/09/Layman-2021.jpg
GEO:37.374828;-79.7377107
X-APPLE-STRUCTURED-LOCATION;VALUE=URI;X-ADDRESS=Layman Family Farms 1815 Mountain View Church Road Montvale VA 24122 United States;X-APPLE-RADIUS=500;X-TITLE=1815 Mountain View Church Road:geo:-79.7377107,37.374828
END:VEVENT
BEGIN:VEVENT
DTSTART;TZID=America/New_York:20211002T110000
DTEND;TZID=America/New_York:20211002T120000
DTSTAMP:20260423T213621
CREATED:20190129T204051Z
LAST-MODIFIED:20190129T204051Z
UID:10046958-1633172400-1633176000@destinationbedfordva.com
SUMMARY:Saturday Story Time
DESCRIPTION:Saturday Story Time @ Bedford Central Library\nJoin us on the 1st Saturday of every month at 11:00 AM (unless the library is closed) for a new program filled with fun stories\, songs\, crafts and more! For children ages 0-5.
URL:https://destinationbedfordva.com/event/saturday-story-time/2021-10-02/
LOCATION:Bedford Public Library\, 305 North Bridge Street\, Bedford\, VA\, 24523\, United States
GEO:37.3362531;-79.5228245
X-APPLE-STRUCTURED-LOCATION;VALUE=URI;X-ADDRESS=Bedford Public Library 305 North Bridge Street Bedford VA 24523 United States;X-APPLE-RADIUS=500;X-TITLE=305 North Bridge Street:geo:-79.5228245,37.3362531
END:VEVENT
BEGIN:VEVENT
DTSTART;TZID=America/New_York:20211002T200000
DTEND;TZID=America/New_York:20211002T230000
DTSTAMP:20260423T213621
CREATED:20210930T171411Z
LAST-MODIFIED:20210930T171411Z
UID:10049137-1633204800-1633215600@destinationbedfordva.com
SUMMARY:Live Music at the Bedford Moose Lodge
DESCRIPTION:Come enjoy live music by Fuzzy Logic at this concert/dance! Open to the public. Tickets $15 at the door!
URL:https://destinationbedfordva.com/event/live-music-at-the-bedford-moose-lodge/
LOCATION:Bedford Moose Lodge\, 2986 West Lynchburg Salem Turnpike\, Bedford\, VA\, 24523\, United States
ATTACH;FMTTYPE=image/jpeg:https://destinationbedfordva.com/wp-content/uploads/2021/09/fuzzy-logic.jpg
GEO:37.347221;-79.591745
X-APPLE-STRUCTURED-LOCATION;VALUE=URI;X-ADDRESS=Bedford Moose Lodge 2986 West Lynchburg Salem Turnpike Bedford VA 24523 United States;X-APPLE-RADIUS=500;X-TITLE=2986 West Lynchburg Salem Turnpike:geo:-79.591745,37.347221
END:VEVENT
END:VCALENDAR