BEGIN:VCALENDAR
VERSION:2.0
PRODID:-//Destination Bedford - ECPv6.8.3//NONSGML v1.0//EN
CALSCALE:GREGORIAN
METHOD:PUBLISH
X-WR-CALNAME:Destination Bedford
X-ORIGINAL-URL:https://destinationbedfordva.com
X-WR-CALDESC:Events for Destination Bedford
REFRESH-INTERVAL;VALUE=DURATION:PT1H
X-Robots-Tag:noindex
X-PUBLISHED-TTL:PT1H
BEGIN:VTIMEZONE
TZID:America/New_York
BEGIN:DAYLIGHT
TZOFFSETFROM:-0500
TZOFFSETTO:-0400
TZNAME:EDT
DTSTART:20210314T070000
END:DAYLIGHT
BEGIN:STANDARD
TZOFFSETFROM:-0400
TZOFFSETTO:-0500
TZNAME:EST
DTSTART:20211107T060000
END:STANDARD
END:VTIMEZONE
BEGIN:VEVENT
DTSTART;TZID=America/New_York:20211003T110000
DTEND;TZID=America/New_York:20211003T180000
DTSTAMP:20260423T230923
CREATED:20220928T201546Z
LAST-MODIFIED:20220928T201546Z
UID:10049087-1633258800-1633284000@destinationbedfordva.com
SUMMARY:Layman Family Farms
DESCRIPTION:From the famous 10 acre corn maze\, to the largest pumpkin patch in the area\, there’s something exciting for kids of all ages! Admission fees apply. Click here for more information!
URL:https://destinationbedfordva.com/event/layman-family-farms-2/2021-10-03/
LOCATION:Layman Family Farms\, 1815 Mountain View Church Road\, Montvale\, VA\, 24122\, United States
ATTACH;FMTTYPE=image/jpeg:https://destinationbedfordva.com/wp-content/uploads/2021/09/Layman-2021.jpg
GEO:37.374828;-79.7377107
X-APPLE-STRUCTURED-LOCATION;VALUE=URI;X-ADDRESS=Layman Family Farms 1815 Mountain View Church Road Montvale VA 24122 United States;X-APPLE-RADIUS=500;X-TITLE=1815 Mountain View Church Road:geo:-79.7377107,37.374828
END:VEVENT
END:VCALENDAR