BEGIN:VCALENDAR
VERSION:2.0
PRODID:-//Destination Bedford - ECPv6.8.3//NONSGML v1.0//EN
CALSCALE:GREGORIAN
METHOD:PUBLISH
X-ORIGINAL-URL:https://destinationbedfordva.com
X-WR-CALDESC:Events for Destination Bedford
REFRESH-INTERVAL;VALUE=DURATION:PT1H
X-Robots-Tag:noindex
X-PUBLISHED-TTL:PT1H
BEGIN:VTIMEZONE
TZID:America/New_York
BEGIN:DAYLIGHT
TZOFFSETFROM:-0500
TZOFFSETTO:-0400
TZNAME:EDT
DTSTART:20210314T070000
END:DAYLIGHT
BEGIN:STANDARD
TZOFFSETFROM:-0400
TZOFFSETTO:-0500
TZNAME:EST
DTSTART:20211107T060000
END:STANDARD
END:VTIMEZONE
BEGIN:VEVENT
DTSTART;TZID=America/New_York:20211007T110000
DTEND;TZID=America/New_York:20211007T150000
DTSTAMP:20260424T172129
CREATED:20210930T154758Z
LAST-MODIFIED:20210930T154758Z
UID:10049102-1633604400-1633618800@destinationbedfordva.com
SUMMARY:Exhibit at the Bower Center
DESCRIPTION:This exhibit includes 2-D and 3-D mosaics using various materials by members of BRMA (Blue Ridge Mosaic Artists) . There will also be a few micromosaics and information about the history of micromosaics\, a display of a few works in progress that will include different materials and tools used in creating mosaics\, and a description of different mosaics classes that are offered at Bower Center. Gallery Admission is free. 
URL:https://destinationbedfordva.com/event/exhibit-at-the-bower-center/2021-10-07/
LOCATION:Bower Center for the Arts\, 309 North Bridge Street\, Bedford\, VA\, United States
ATTACH;FMTTYPE=image/jpeg:https://destinationbedfordva.com/wp-content/uploads/2021/09/Cavanaugh-Karen_North-by-Northwest_w-frame_IMG_0099_4x4-1024x1024-1.jpg
GEO:37.336317;-79.522795
X-APPLE-STRUCTURED-LOCATION;VALUE=URI;X-ADDRESS=Bower Center for the Arts 309 North Bridge Street Bedford VA United States;X-APPLE-RADIUS=500;X-TITLE=309 North Bridge Street:geo:-79.522795,37.336317
END:VEVENT
BEGIN:VEVENT
DTSTART;TZID=America/New_York:20211007T120000
DTEND;TZID=America/New_York:20211007T130000
DTSTAMP:20260424T172129
CREATED:20210930T162519Z
LAST-MODIFIED:20210930T162519Z
UID:10049131-1633608000-1633611600@destinationbedfordva.com
SUMMARY:Virtual Lunchbox Lecture
DESCRIPTION:Free Program Available Through Facebook Live and YouTube\n\n\n\nNational D-Day Memorial Director of Education John Long will mark the 80th anniversary of the sinking of the Reuben James\, a maritime tragedy that nearly launched the US into World War II six weeks before Pearl Harbor. Learn more about this hidden history and the undeclared naval war that the US and Nazi Germany fought for months before open hostilities began.
URL:https://destinationbedfordva.com/event/virtual-lunchbox-lecture-4/
LOCATION:Virtual Live by the National D-Day Memorial
ATTACH;FMTTYPE=image/jpeg:https://destinationbedfordva.com/wp-content/uploads/2021/01/Lunchbox-6-3-1.jpg
END:VEVENT
END:VCALENDAR