BEGIN:VCALENDAR
VERSION:2.0
PRODID:-//Destination Bedford - ECPv6.8.3//NONSGML v1.0//EN
CALSCALE:GREGORIAN
METHOD:PUBLISH
X-ORIGINAL-URL:https://destinationbedfordva.com
X-WR-CALDESC:Events for Destination Bedford
REFRESH-INTERVAL;VALUE=DURATION:PT1H
X-Robots-Tag:noindex
X-PUBLISHED-TTL:PT1H
BEGIN:VTIMEZONE
TZID:America/New_York
BEGIN:DAYLIGHT
TZOFFSETFROM:-0500
TZOFFSETTO:-0400
TZNAME:EDT
DTSTART:20210314T070000
END:DAYLIGHT
BEGIN:STANDARD
TZOFFSETFROM:-0400
TZOFFSETTO:-0500
TZNAME:EST
DTSTART:20211107T060000
END:STANDARD
END:VTIMEZONE
BEGIN:VEVENT
DTSTART;TZID=America/New_York:20211008T103000
DTEND;TZID=America/New_York:20211008T153000
DTSTAMP:20260425T193335
CREATED:20210930T170235Z
LAST-MODIFIED:20210930T170235Z
UID:10049136-1633689000-1633707000@destinationbedfordva.com
SUMMARY:Day Camp at Claytor Nature Center
DESCRIPTION:The Navigating Nature program will help your child foster a sense of environment awareness and build valuable outdoors skills. Throughout this day-long program\, they will teach students how to identify sources of water and build makeshift survival filters\, how to build a warm and water-resistant shelter\, how to read a compass and make a map\, and how to gather appropriate tinder material for building a fire. The day will conclude with a survival challenge game where children put their skills to the test. The survival challenge will require teamwork\, planning\, and creativity and is sure to be a memorable experience!\nThe program will take place at several locations along the trail system. Activities and content are geared towards children ages 8-12.\nFor more information on what to expect\, safety protocols\, or how to register\, check out their calendar/registration page here: https://lynchburg.libcal.com/event/8184193\nCost is $40 per child.\n 
URL:https://destinationbedfordva.com/event/day-camp-at-claytor-nature-center/
LOCATION:Claytor Nature Center\, 1844 Woods Road\, Bedford\, VA\, 24523\, United States
ATTACH;FMTTYPE=image/jpeg:https://destinationbedfordva.com/wp-content/uploads/2021/09/242471981_4514559928600115_6361214725473727291_n.jpg
GEO:37.38965;-79.539128
X-APPLE-STRUCTURED-LOCATION;VALUE=URI;X-ADDRESS=Claytor Nature Center 1844 Woods Road Bedford VA 24523 United States;X-APPLE-RADIUS=500;X-TITLE=1844 Woods Road:geo:-79.539128,37.38965
END:VEVENT
BEGIN:VEVENT
DTSTART;TZID=America/New_York:20211008T110000
DTEND;TZID=America/New_York:20211008T150000
DTSTAMP:20260425T193335
CREATED:20210930T154758Z
LAST-MODIFIED:20210930T154758Z
UID:10049103-1633690800-1633705200@destinationbedfordva.com
SUMMARY:Exhibit at the Bower Center
DESCRIPTION:This exhibit includes 2-D and 3-D mosaics using various materials by members of BRMA (Blue Ridge Mosaic Artists) . There will also be a few micromosaics and information about the history of micromosaics\, a display of a few works in progress that will include different materials and tools used in creating mosaics\, and a description of different mosaics classes that are offered at Bower Center. Gallery Admission is free. 
URL:https://destinationbedfordva.com/event/exhibit-at-the-bower-center/2021-10-08/
LOCATION:Bower Center for the Arts\, 309 North Bridge Street\, Bedford\, VA\, United States
ATTACH;FMTTYPE=image/jpeg:https://destinationbedfordva.com/wp-content/uploads/2021/09/Cavanaugh-Karen_North-by-Northwest_w-frame_IMG_0099_4x4-1024x1024-1.jpg
GEO:37.336317;-79.522795
X-APPLE-STRUCTURED-LOCATION;VALUE=URI;X-ADDRESS=Bower Center for the Arts 309 North Bridge Street Bedford VA United States;X-APPLE-RADIUS=500;X-TITLE=309 North Bridge Street:geo:-79.522795,37.336317
END:VEVENT
BEGIN:VEVENT
DTSTART;TZID=America/New_York:20211008T110000
DTEND;TZID=America/New_York:20211008T150000
DTSTAMP:20260425T193335
CREATED:20210930T165214Z
LAST-MODIFIED:20210930T165214Z
UID:10049134-1633690800-1633705200@destinationbedfordva.com
SUMMARY:Archaeology Behind the Scenes Tours
DESCRIPTION:An amateur archaeologist\, Thomas Jefferson would surely be fascinated by the more than 300\,000 artifacts found on the Poplar Forest grounds since 1986. Join Poplar Forest’s archaeologists for a 90-minute walking tour focused on the latest archaeological dig sites and discoveries on the plantation\, including a rare up-close look at some of the artifacts in the Poplar Forest Archaeology Lab. Admission is $20 in advance\, $25 at the door; reservations are encouraged as spots on the tour are limited. \nTickets
URL:https://destinationbedfordva.com/event/archaeology-behind-the-scenes-tours-4/2021-10-08/
LOCATION:Thomas Jefferson’s Poplar Forest\, 687 Poplar Forest Dr.\, Forest\, VA\, 24551\, United States
ATTACH;FMTTYPE=image/jpeg:https://destinationbedfordva.com/wp-content/uploads/2021/09/239590495_10158452750020949_7545609395241621780_n.jpg
GEO:37.3589053;-79.2680641
X-APPLE-STRUCTURED-LOCATION;VALUE=URI;X-ADDRESS=Thomas Jefferson’s Poplar Forest 687 Poplar Forest Dr. Forest VA 24551 United States;X-APPLE-RADIUS=500;X-TITLE=687 Poplar Forest Dr.:geo:-79.2680641,37.3589053
END:VEVENT
BEGIN:VEVENT
DTSTART;TZID=America/New_York:20211008T170000
DTEND;TZID=America/New_York:20211008T190000
DTSTAMP:20260425T193335
CREATED:20211001T184716Z
LAST-MODIFIED:20211001T184725Z
UID:10049142-1633712400-1633719600@destinationbedfordva.com
SUMMARY:Bower Center 15th Anniversary Reception
DESCRIPTION:Come celebrate the opening of the new exhibits and the 15th Anniversary of the Bower Center for the Arts! Refreshments will be available\, including a cash bar with beer and wine. You won’t want to miss the amazing celebratory gifts\, prizes and fun activities. Special Bower Center anniversary t-shirts will be available for purchase. \nThis reception will be your first chance to view all of the beautiful Reimagined Doors which will be available in the online auction! This fundraiser celebrates 15 years opening doors to creativity!  The auction will be available for viewing online October 8 – November 14 and bidding will take place from November 7-14! For more information\, click here. 
URL:https://destinationbedfordva.com/event/bower-center-15th-anniversary-reception/
LOCATION:Bower Center for the Arts\, 309 North Bridge Street\, Bedford\, VA\, United States
ATTACH;FMTTYPE=image/jpeg:https://destinationbedfordva.com/wp-content/uploads/2020/09/bower-5.jpg
GEO:37.336317;-79.522795
X-APPLE-STRUCTURED-LOCATION;VALUE=URI;X-ADDRESS=Bower Center for the Arts 309 North Bridge Street Bedford VA United States;X-APPLE-RADIUS=500;X-TITLE=309 North Bridge Street:geo:-79.522795,37.336317
END:VEVENT
END:VCALENDAR