BEGIN:VCALENDAR
VERSION:2.0
PRODID:-//Destination Bedford - ECPv6.8.3//NONSGML v1.0//EN
CALSCALE:GREGORIAN
METHOD:PUBLISH
X-WR-CALNAME:Destination Bedford
X-ORIGINAL-URL:https://destinationbedfordva.com
X-WR-CALDESC:Events for Destination Bedford
REFRESH-INTERVAL;VALUE=DURATION:PT1H
X-Robots-Tag:noindex
X-PUBLISHED-TTL:PT1H
BEGIN:VTIMEZONE
TZID:America/New_York
BEGIN:DAYLIGHT
TZOFFSETFROM:-0500
TZOFFSETTO:-0400
TZNAME:EDT
DTSTART:20210314T070000
END:DAYLIGHT
BEGIN:STANDARD
TZOFFSETFROM:-0400
TZOFFSETTO:-0500
TZNAME:EST
DTSTART:20211107T060000
END:STANDARD
END:VTIMEZONE
BEGIN:VEVENT
DTSTART;TZID=America/New_York:20211109T110000
DTEND;TZID=America/New_York:20211109T150000
DTSTAMP:20260423T182950
CREATED:20210930T154758Z
LAST-MODIFIED:20210930T154758Z
UID:10049125-1636455600-1636470000@destinationbedfordva.com
SUMMARY:Exhibit at the Bower Center
DESCRIPTION:This exhibit includes 2-D and 3-D mosaics using various materials by members of BRMA (Blue Ridge Mosaic Artists) . There will also be a few micromosaics and information about the history of micromosaics\, a display of a few works in progress that will include different materials and tools used in creating mosaics\, and a description of different mosaics classes that are offered at Bower Center. Gallery Admission is free. 
URL:https://destinationbedfordva.com/event/exhibit-at-the-bower-center/2021-11-09/
LOCATION:Bower Center for the Arts\, 309 North Bridge Street\, Bedford\, VA\, United States
ATTACH;FMTTYPE=image/jpeg:https://destinationbedfordva.com/wp-content/uploads/2021/09/Cavanaugh-Karen_North-by-Northwest_w-frame_IMG_0099_4x4-1024x1024-1.jpg
GEO:37.336317;-79.522795
X-APPLE-STRUCTURED-LOCATION;VALUE=URI;X-ADDRESS=Bower Center for the Arts 309 North Bridge Street Bedford VA United States;X-APPLE-RADIUS=500;X-TITLE=309 North Bridge Street:geo:-79.522795,37.336317
END:VEVENT
END:VCALENDAR