BEGIN:VCALENDAR
VERSION:2.0
PRODID:-//Destination Bedford - ECPv6.8.3//NONSGML v1.0//EN
CALSCALE:GREGORIAN
METHOD:PUBLISH
X-ORIGINAL-URL:https://destinationbedfordva.com
X-WR-CALDESC:Events for Destination Bedford
REFRESH-INTERVAL;VALUE=DURATION:PT1H
X-Robots-Tag:noindex
X-PUBLISHED-TTL:PT1H
BEGIN:VTIMEZONE
TZID:America/New_York
BEGIN:DAYLIGHT
TZOFFSETFROM:-0500
TZOFFSETTO:-0400
TZNAME:EDT
DTSTART:20230312T070000
END:DAYLIGHT
BEGIN:STANDARD
TZOFFSETFROM:-0400
TZOFFSETTO:-0500
TZNAME:EST
DTSTART:20231105T060000
END:STANDARD
END:VTIMEZONE
BEGIN:VEVENT
DTSTART;TZID=America/New_York:20230331T100000
DTEND;TZID=America/New_York:20230331T150000
DTSTAMP:20260419T141753
CREATED:20230303T215027Z
LAST-MODIFIED:20230303T215027Z
UID:10051630-1680256800-1680274800@destinationbedfordva.com
SUMMARY:Homeschool Day
DESCRIPTION:Come to the National D-Day Memorial for Homeschool Day! \nAt Homeschool Day\, students and their families will participate in special tours\, programs\, and demonstrations from the Memorial and community partners to learn more about D-Day and what it took to claim victory.\nEach ticket includes admission to the Memorial for duration of the event\, an artifact-based educational program and guided tour\, and access to activities and displays.\nAdmission is $6 for adults and children 6 and older (free for children under 6). Space is limited and guided tour times will sell out. Self-guided tours also available. Ticket sales end on Friday\, March 24 at 11:59 PM. If you have not purchased your tickets by this deadline\, you may use a general admission ticket to gain entry to the Memorial on March 31. If space is still available\, those with general admission tickets may register for the Homeschool Day artifact-based program and guided tour on site on March 31. General admission tickets can be purchased online or at the Memorial.\nIn the event of cancellation\, no refunds will be given. Instead\, ticket funds will be processed as anonymous donations in support of the National D-Day Memorial.
URL:https://destinationbedfordva.com/event/homeschool-day-3/
LOCATION:National D-Day Memorial\, 3 Overlord Circle\, Bedford\, VA\, United States
ATTACH;FMTTYPE=image/jpeg:https://destinationbedfordva.com/wp-content/uploads/2023/03/homeschool-day-2023.jpg
GEO:37.3277294;-79.5346964
X-APPLE-STRUCTURED-LOCATION;VALUE=URI;X-ADDRESS=National D-Day Memorial 3 Overlord Circle Bedford VA United States;X-APPLE-RADIUS=500;X-TITLE=3 Overlord Circle:geo:-79.5346964,37.3277294
END:VEVENT
BEGIN:VEVENT
DTSTART;TZID=America/New_York:20230331T110000
DTEND;TZID=America/New_York:20230331T220000
DTSTAMP:20260419T141753
CREATED:20221220T193738Z
LAST-MODIFIED:20230504T171650Z
UID:10051358-1680260400-1680300000@destinationbedfordva.com
SUMMARY:ElectricCoArt Exhibit
DESCRIPTION:Featured artist Michael Milton has been dubbed a working man’s artist. Based in Roanoke\, VA\, his choice of subject is inspired by his Blue Ridge roots. His landscapes are a retreat from the technological world. Milton’s work will be on exhibit through May 15. Gallery admission is free.
URL:https://destinationbedfordva.com/event/electriccoart-exhibit-3-2/2023-03-31/
LOCATION:ElectricCoArt\, 207 East Depot Street\, Bedford\, VA\, United States
ATTACH;FMTTYPE=image/jpeg:https://destinationbedfordva.com/wp-content/uploads/2022/12/ECA.jpg
GEO:37.335291;-79.522402
X-APPLE-STRUCTURED-LOCATION;VALUE=URI;X-ADDRESS=ElectricCoArt 207 East Depot Street Bedford VA United States;X-APPLE-RADIUS=500;X-TITLE=207 East Depot Street:geo:-79.522402,37.335291
END:VEVENT
END:VCALENDAR