BEGIN:VCALENDAR
VERSION:2.0
PRODID:-//Destination Bedford - ECPv6.8.3//NONSGML v1.0//EN
CALSCALE:GREGORIAN
METHOD:PUBLISH
X-WR-CALNAME:Destination Bedford
X-ORIGINAL-URL:https://destinationbedfordva.com
X-WR-CALDESC:Events for Destination Bedford
REFRESH-INTERVAL;VALUE=DURATION:PT1H
X-Robots-Tag:noindex
X-PUBLISHED-TTL:PT1H
BEGIN:VTIMEZONE
TZID:America/New_York
BEGIN:DAYLIGHT
TZOFFSETFROM:-0500
TZOFFSETTO:-0400
TZNAME:EDT
DTSTART:20230312T070000
END:DAYLIGHT
BEGIN:STANDARD
TZOFFSETFROM:-0400
TZOFFSETTO:-0500
TZNAME:EST
DTSTART:20231105T060000
END:STANDARD
END:VTIMEZONE
BEGIN:VEVENT
DTSTART;TZID=America/New_York:20230408T080000
DTEND;TZID=America/New_York:20230408T180000
DTSTAMP:20260419T184631
CREATED:20230328T143147Z
LAST-MODIFIED:20230421T202742Z
UID:10051709-1680940800-1680976800@destinationbedfordva.com
SUMMARY:Gross’ Orchard Apple Blossom Month
DESCRIPTION:April is designated as Apple Blossom Month. Make plans to come enjoy these special events every Saturday as they celebrate Spring in Apple Valley. They will begin the month with an Easter Egg Hunt on April 1st. The orchard will be open daily except Sunday. 
URL:https://destinationbedfordva.com/event/gross-orchard-apple-blossom-month/2023-04-08/
LOCATION:Gross Orchards\, 6817 Wheats Valley Road\, Bedford\, VA\, 24523\, United States
ATTACH;FMTTYPE=image/jpeg:https://destinationbedfordva.com/wp-content/uploads/2023/03/gross-6.jpg
GEO:37.427682;-79.555247
X-APPLE-STRUCTURED-LOCATION;VALUE=URI;X-ADDRESS=Gross Orchards 6817 Wheats Valley Road Bedford VA 24523 United States;X-APPLE-RADIUS=500;X-TITLE=6817 Wheats Valley Road:geo:-79.555247,37.427682
END:VEVENT
BEGIN:VEVENT
DTSTART;TZID=America/New_York:20230408T100000
DTEND;TZID=America/New_York:20230408T200000
DTSTAMP:20260419T184631
CREATED:20230329T193820Z
LAST-MODIFIED:20230329T193820Z
UID:10051767-1680948000-1680984000@destinationbedfordva.com
SUMMARY:Lizard Ridge Farm Spring Festival
DESCRIPTION:Learn about sustainable agricultural\, food security\, and industrial hemp production. Live music\, vendors\, food\, and growing classes!\n \nLizard Ridge Farm Spring Festival Schedule\n \n10-open gate\n10:30 class ( living soil\, ways to build your dirt)\n11-11:30 Bubba acoustic\n11:30-12 class (grow your own: having a garden or food plot.\n12-12:30 class (heirloom tomato cultivation and propagation)\n12:30-1 class (weeds: food not foes)\n1-2 Russ Pawlas acoustic\n2-2:30 class (natural fertilizers and microorganisms for soil health)\n2:30-3:30 Smarty McFly\n3:30-4:30 class (spotlight on sustainable agriculture: industrial hemp cultivation and processing)\n4:30-5:30 HoBoJac\n6-7 HoBoJac\n7-7:45 closing remarks and sunset\nClasses include: Living Soil\, Growing a Garden or Food Plot\, Heirloom Tomato Growing\, Weeds – Food not Foes\, Make your own Fertilizer\, Industrial Hemp Production.\nFree Admission
URL:https://destinationbedfordva.com/event/lizard-ridge-farm-spring-festival/
LOCATION:Lizard Ridge Farm\, 1575 Lizard Ridge Road\, Bedford\, VA\, 24523\, United States
ATTACH;FMTTYPE=image/jpeg:https://destinationbedfordva.com/wp-content/uploads/2023/03/lizzard.jpg
END:VEVENT
BEGIN:VEVENT
DTSTART;TZID=America/New_York:20230408T110000
DTEND;TZID=America/New_York:20230408T220000
DTSTAMP:20260419T184631
CREATED:20221220T193738Z
LAST-MODIFIED:20230504T171650Z
UID:10051363-1680951600-1680991200@destinationbedfordva.com
SUMMARY:ElectricCoArt Exhibit
DESCRIPTION:Featured artist Michael Milton has been dubbed a working man’s artist. Based in Roanoke\, VA\, his choice of subject is inspired by his Blue Ridge roots. His landscapes are a retreat from the technological world. Milton’s work will be on exhibit through May 15. Gallery admission is free.
URL:https://destinationbedfordva.com/event/electriccoart-exhibit-3-2/2023-04-08/
LOCATION:ElectricCoArt\, 207 East Depot Street\, Bedford\, VA\, United States
ATTACH;FMTTYPE=image/jpeg:https://destinationbedfordva.com/wp-content/uploads/2022/12/ECA.jpg
GEO:37.335291;-79.522402
X-APPLE-STRUCTURED-LOCATION;VALUE=URI;X-ADDRESS=ElectricCoArt 207 East Depot Street Bedford VA United States;X-APPLE-RADIUS=500;X-TITLE=207 East Depot Street:geo:-79.522402,37.335291
END:VEVENT
BEGIN:VEVENT
DTSTART;TZID=America/New_York:20230408T130000
DTEND;TZID=America/New_York:20230408T153000
DTSTAMP:20260419T184631
CREATED:20230404T201436Z
LAST-MODIFIED:20230404T201436Z
UID:10051769-1680958800-1680967800@destinationbedfordva.com
SUMMARY:Easter Extravaganza
DESCRIPTION:Spring has sprung at Smith Mountain Lake State Park! Come see the Easter Bunny and bring your own basket to the Discovery Center for an Easter egg hunt. There will be over 1\,500 eggs to find. If you find one of the “golden” eggs\, bring it to the interpreter to receive a special prize. Enjoy hands-on crafts\, hay wagon rides\, and more! Free event.
URL:https://destinationbedfordva.com/event/easter-extravaganza/
LOCATION:Smith Mountain Lake State Park\, 1235 State Park Road\, Huddleston\, VA\, United States
ATTACH;FMTTYPE=image/jpeg:https://destinationbedfordva.com/wp-content/uploads/2023/04/SML-egg-hunt.jpg
GEO:37.091391;-79.593034
X-APPLE-STRUCTURED-LOCATION;VALUE=URI;X-ADDRESS=Smith Mountain Lake State Park 1235 State Park Road Huddleston VA United States;X-APPLE-RADIUS=500;X-TITLE=1235 State Park Road:geo:-79.593034,37.091391
END:VEVENT
BEGIN:VEVENT
DTSTART;TZID=America/New_York:20230408T190000
DTEND;TZID=America/New_York:20230408T210000
DTSTAMP:20260419T184631
CREATED:20230117T201002Z
LAST-MODIFIED:20231108T182442Z
UID:10050637-1680980400-1680987600@destinationbedfordva.com
SUMMARY:Live Music @ Apocalypse Ale Works
DESCRIPTION:Come to Apocalypse Ale Works for great beer and live music.  For more information and to see who is playing each week\, click here. 
URL:https://destinationbedfordva.com/event/live-music-apocalypse-ale-works/2023-04-08/
LOCATION:Apocalypse Ale Works\, 1257 Burnbridge Road\, Forest\, VA\, 24551\, United States
ATTACH;FMTTYPE=image/jpeg:https://destinationbedfordva.com/wp-content/uploads/2023/01/beer-9.jpg
GEO:37.3622178;-79.2877024
X-APPLE-STRUCTURED-LOCATION;VALUE=URI;X-ADDRESS=Apocalypse Ale Works 1257 Burnbridge Road Forest VA 24551 United States;X-APPLE-RADIUS=500;X-TITLE=1257 Burnbridge Road:geo:-79.2877024,37.3622178
END:VEVENT
END:VCALENDAR