BEGIN:VCALENDAR
VERSION:2.0
PRODID:-//Destination Bedford - ECPv6.8.3//NONSGML v1.0//EN
CALSCALE:GREGORIAN
METHOD:PUBLISH
X-WR-CALNAME:Destination Bedford
X-ORIGINAL-URL:https://destinationbedfordva.com
X-WR-CALDESC:Events for Destination Bedford
REFRESH-INTERVAL;VALUE=DURATION:PT1H
X-Robots-Tag:noindex
X-PUBLISHED-TTL:PT1H
BEGIN:VTIMEZONE
TZID:America/New_York
BEGIN:DAYLIGHT
TZOFFSETFROM:-0500
TZOFFSETTO:-0400
TZNAME:EDT
DTSTART:20240310T070000
END:DAYLIGHT
BEGIN:STANDARD
TZOFFSETFROM:-0400
TZOFFSETTO:-0500
TZNAME:EST
DTSTART:20241103T060000
END:STANDARD
END:VTIMEZONE
BEGIN:VEVENT
DTSTART;TZID=America/New_York:20240511T080000
DTEND;TZID=America/New_York:20240511T120000
DTSTAMP:20260421T230220
CREATED:20240502T142949Z
LAST-MODIFIED:20240502T143429Z
UID:10054438-1715414400-1715428800@destinationbedfordva.com
SUMMARY:Forest Farmer's Market
DESCRIPTION:The Forest Farmer’s Market is held each Saturday morning behind the Forest Public Library.  The Market features farmers and artisans selling a variety of items including plants\, meats\, produce\, soaps\, lotions\, coffee\, baked goods and more!
URL:https://destinationbedfordva.com/event/forest-farmers-market-8/2024-05-11/
LOCATION:Forest Farmers Market\, 15583 Forest Road\, Forest\, VA\, 24523\, United States
ATTACH;FMTTYPE=image/jpeg:https://destinationbedfordva.com/wp-content/uploads/2024/05/Forest-FM.jpg
GEO:37.3649641;-79.2850156
X-APPLE-STRUCTURED-LOCATION;VALUE=URI;X-ADDRESS=Forest Farmers Market 15583 Forest Road Forest VA 24523 United States;X-APPLE-RADIUS=500;X-TITLE=15583 Forest Road:geo:-79.2850156,37.3649641
END:VEVENT
BEGIN:VEVENT
DTSTART;TZID=America/New_York:20240511T100000
DTEND;TZID=America/New_York:20240511T140000
DTSTAMP:20260421T230221
CREATED:20240318T204315Z
LAST-MODIFIED:20240318T204315Z
UID:10054363-1715421600-1715436000@destinationbedfordva.com
SUMMARY:Emerson Creek Pottery Spring Market & Pottery Outlet Sale
DESCRIPTION:This Emerson Creek event will be a great way to support local vendors and shop for unique items and gifts for friends\, family\, and yourself.\nMake plans to spend the day with us in the beautiful countryside of Bedford!
URL:https://destinationbedfordva.com/event/emerson-creek-pottery-spring-market-pottery-outlet-sale/
LOCATION:Emerson Creek Pottery\, 1068 Pottery Ln.
ATTACH;FMTTYPE=image/jpeg:https://destinationbedfordva.com/wp-content/uploads/2024/03/Emerson-Creek-Pottery.jpg
END:VEVENT
BEGIN:VEVENT
DTSTART;TZID=America/New_York:20240511T110000
DTEND;TZID=America/New_York:20240511T150000
DTSTAMP:20260421T230221
CREATED:20240510T164236Z
LAST-MODIFIED:20240515T193641Z
UID:10054862-1715425200-1715439600@destinationbedfordva.com
SUMMARY:Bower Center Exhibit
DESCRIPTION:Come to the Bower Center for the Arts for the 12th Annual National Juried Exhibition!  \nGallery admission is free.  Click here for more information. 
URL:https://destinationbedfordva.com/event/bower-center-exhibit-2-3/2024-05-11/
LOCATION:Bower Center for the Arts\, 309 North Bridge Street\, Bedford\, VA\, United States
ATTACH;FMTTYPE=image/png:https://destinationbedfordva.com/wp-content/uploads/2023/04/Bower-Center-for-the-Arts.png
GEO:37.336317;-79.522795
X-APPLE-STRUCTURED-LOCATION;VALUE=URI;X-ADDRESS=Bower Center for the Arts 309 North Bridge Street Bedford VA United States;X-APPLE-RADIUS=500;X-TITLE=309 North Bridge Street:geo:-79.522795,37.336317
END:VEVENT
BEGIN:VEVENT
DTSTART;TZID=America/New_York:20240511T110000
DTEND;TZID=America/New_York:20240511T170000
DTSTAMP:20260421T230221
CREATED:20240423T143458Z
LAST-MODIFIED:20240423T143458Z
UID:10054386-1715425200-1715446800@destinationbedfordva.com
SUMMARY:May Faire: Vintage Artisan Market at Harvest Moon Marketplace
DESCRIPTION:Wine\, Flowers\, delicious food\, Mead & Wine tastings\, baked goods\, lots of great vendors\, LIVE music\, ice cream bar\, fantastic Tavern\, and so much more!\nThis will be a fantastic event on Saturday of Mother’s Day weekend! 
URL:https://destinationbedfordva.com/event/may-faire-vintage-artisan-market-at-harvest-moon-marketplace/
LOCATION:Harvest Moon Marketplace\, 14917 Moneta Rd\, Moneta\, VA\, 24121\, United States
ATTACH;FMTTYPE=image/jpeg:https://destinationbedfordva.com/wp-content/uploads/2024/04/Harvest-Moon-May-Fair.jpg
END:VEVENT
BEGIN:VEVENT
DTSTART;TZID=America/New_York:20240511T110000
DTEND;TZID=America/New_York:20240511T180000
DTSTAMP:20260421T230221
CREATED:20240109T173309Z
LAST-MODIFIED:20240507T132454Z
UID:10054110-1715425200-1715450400@destinationbedfordva.com
SUMMARY:Arts & Draft Festival
DESCRIPTION:Come do some Mothers Day shopping from local craft vendors and artisans\, enjoy regionally sourced craft beverages\, local musicians\, food\, kid’s activities\, crafts\, and demonstrations involving wood working\, blacksmithing\, pottery\, weaving\, and more! Co-sponsored by the Bedford Women’s Club and Bedford Outdoor Adventures! \nMothers Day Market – Local Artists – Inflatables + Foam Party\nLocal Food Trucks – Regional Ales – Kid’s Activities + Crafts\nLocal Musicians – Demonstrations – Workshops & More!\nThe market will include items like pottery\, jewelry\, honey\, clothing\, art prints\, baby/kid toys and clothes\, candles\, soap\, dolls\, bags\, wreaths\, stickers\, pins\, and much more; all handmade by local crafters!\nFree Admission! \n \n \n \n 
URL:https://destinationbedfordva.com/event/arts-draft-festival/
LOCATION:Falling Creek Park\, 1257 County Farm Road\, Bedford\, VA\, 24523\, United States
ATTACH;FMTTYPE=image/jpeg:https://destinationbedfordva.com/wp-content/uploads/2024/01/arts-and-draft-festival.jpg
GEO:37.305294;-79.501901
X-APPLE-STRUCTURED-LOCATION;VALUE=URI;X-ADDRESS=Falling Creek Park 1257 County Farm Road Bedford VA 24523 United States;X-APPLE-RADIUS=500;X-TITLE=1257 County Farm Road:geo:-79.501901,37.305294
END:VEVENT
BEGIN:VEVENT
DTSTART;TZID=America/New_York:20240511T140000
DTEND;TZID=America/New_York:20240511T170000
DTSTAMP:20260421T230221
CREATED:20240502T184615Z
LAST-MODIFIED:20240502T184615Z
UID:10054558-1715436000-1715446800@destinationbedfordva.com
SUMMARY:Live Music at Beale's Beer:  Haze & Dacey
DESCRIPTION:Come out and enjoy Haze & Dacey\, an Indie Folk duo delighting audiences with great original songs and off-the-beaten-track covers. \nExpect folk songs\, upbeat acoustic rock\, rollicking alt-country…but mostly\, expect the unexpected!
URL:https://destinationbedfordva.com/event/live-music-at-beales-beer-haze-dacey/
LOCATION:Beale’s Brewery\, 510 Grove Street\, Bedford\, VA\, 24523\, United States
ATTACH;FMTTYPE=image/jpeg:https://destinationbedfordva.com/wp-content/uploads/2024/05/Haze-Dacey.jpg
GEO:37.3356288;-79.5169923
X-APPLE-STRUCTURED-LOCATION;VALUE=URI;X-ADDRESS=Beale’s Brewery 510 Grove Street Bedford VA 24523 United States;X-APPLE-RADIUS=500;X-TITLE=510 Grove Street:geo:-79.5169923,37.3356288
END:VEVENT
BEGIN:VEVENT
DTSTART;TZID=America/New_York:20240511T190000
DTEND;TZID=America/New_York:20240511T220000
DTSTAMP:20260421T230221
CREATED:20240502T181040Z
LAST-MODIFIED:20240502T181040Z
UID:10054555-1715454000-1715464800@destinationbedfordva.com
SUMMARY:Von Darty Band at Glenwood Center
DESCRIPTION:Come enjoy some great music as we play some of your favorite music from today’s hits to the classics! You don’t want to miss out!
URL:https://destinationbedfordva.com/event/von-darty-band-at-glenwood-center/
LOCATION:The Glenwood Center\, 2074 Smith Mountain Lake Parkway\, Huddleston\, VA\, 24104\, United States
ATTACH;FMTTYPE=image/jpeg:https://destinationbedfordva.com/wp-content/uploads/2024/05/Von-Darty-Band.jpg
GEO:37.1784444;-79.4332473
X-APPLE-STRUCTURED-LOCATION;VALUE=URI;X-ADDRESS=The Glenwood Center 2074 Smith Mountain Lake Parkway Huddleston VA 24104 United States;X-APPLE-RADIUS=500;X-TITLE=2074 Smith Mountain Lake Parkway:geo:-79.4332473,37.1784444
END:VEVENT
BEGIN:VEVENT
DTSTART;TZID=America/New_York:20240511T193000
DTEND;TZID=America/New_York:20240511T210000
DTSTAMP:20260421T230221
CREATED:20240327T203013Z
LAST-MODIFIED:20240327T203013Z
UID:10054368-1715455800-1715461200@destinationbedfordva.com
SUMMARY:Bedford Community Orchestra Spring Concert
DESCRIPTION:Enjoy the sounds of a live orchestra concert with the Bedford Community Orchestra’s “View from Space” featuring music from Star Trek\, Star Wars\, Clair de Lune\, Moon River\, Glenn Miller’s Moonlight Serenade\, music from Apollo 13 and more!!!\nSuggested Donation $15/person\n 
URL:https://destinationbedfordva.com/event/bedford-community-orchestra-spring-concert-3/
LOCATION:Liberty High School\, 100 Liberty Minuteman Drive\, Bedford \, VA\, 24523\, United States
ATTACH;FMTTYPE=image/jpeg:https://destinationbedfordva.com/wp-content/uploads/2024/03/BCO.jpg
GEO:37.3722255;-79.4961976
X-APPLE-STRUCTURED-LOCATION;VALUE=URI;X-ADDRESS=Liberty High School 100 Liberty Minuteman Drive Bedford  VA 24523 United States;X-APPLE-RADIUS=500;X-TITLE=100 Liberty Minuteman Drive:geo:-79.4961976,37.3722255
END:VEVENT
END:VCALENDAR