BEGIN:VCALENDAR
VERSION:2.0
PRODID:-//Destination Bedford - ECPv6.8.3//NONSGML v1.0//EN
CALSCALE:GREGORIAN
METHOD:PUBLISH
X-ORIGINAL-URL:https://destinationbedfordva.com
X-WR-CALDESC:Events for Destination Bedford
REFRESH-INTERVAL;VALUE=DURATION:PT1H
X-Robots-Tag:noindex
X-PUBLISHED-TTL:PT1H
BEGIN:VTIMEZONE
TZID:America/New_York
BEGIN:DAYLIGHT
TZOFFSETFROM:-0500
TZOFFSETTO:-0400
TZNAME:EDT
DTSTART:20250309T070000
END:DAYLIGHT
BEGIN:STANDARD
TZOFFSETFROM:-0400
TZOFFSETTO:-0500
TZNAME:EST
DTSTART:20251102T060000
END:STANDARD
END:VTIMEZONE
BEGIN:VEVENT
DTSTART;TZID=America/New_York:20250118T100000
DTEND;TZID=America/New_York:20250118T170000
DTSTAMP:20260419T233640
CREATED:20250103T215732Z
LAST-MODIFIED:20250109T175057Z
UID:10058977-1737194400-1737219600@destinationbedfordva.com
SUMMARY:MTX Cross 2025
DESCRIPTION:Race 1 – https://www.bikereg.com/mtx-1\nRace 2 – https://www.bikereg.com/mtx-2\nWHAT IS Mountain Cross / MTX?\nThe “Mountain” part refers to many of the same aspects that you might encounter in a mountain bike race. There will be single track with rocks\, roots\, etc that will make up roughly 50% of the course. The other 50% of the course will consist of mixed surfaces such as grass paths\, gravel or pavement\, and double track dirt roads.\nThe “Cross” parts refers to the style of racing and variety of terrain the race combines with added elements of mountain biking and cyclocross. There may be barriers\, stairs\, or other obstacles that riders will have to navigate and as always\, good vibes! The races are short\, intense\, and loads of fun!\nWe have professional chip timing to get fast and reliable results! Beginners have 30 minutes to do as many laps as they can while the sport have 45 minutes and the experts have 60 minutes. We hold the tradition of letting people go out for the bonus lap if they make it in the timing zone before the clock hits 0! The winner is the person who does the most laps in the least amount of time.\nTiming is being handled by Jeremy Ramsey with MMG Endurance Sports! He host’s some great cycling events like the Buffalo River Gran Fondo\, the Wormhole\, SOTR\, and other races so be sure to check them out and support! https://www.mmgendurancesports.com/\nThis race embodies the Norwegian proverb that says\, “There is no bad weather\, only poor clothing choice.”\nWE RACE ANY WEATHER! That’s what makes Mountain Cross what it is! The course is highly dependent of weather conditions but are sure to be fun for all ages and skill levels! Laps are around 2 miles long.\n\n \nClick these links to register and for more information: Race 1 – https://www.bikereg.com/mtx-1 Race 2 – https://www.bikereg.com/mtx-2
URL:https://destinationbedfordva.com/event/mtx-cross-2025/2025-01-18/
LOCATION:Falling Creek Park\, 1257 County Farm Road\, Bedford\, VA\, 24523\, United States
ATTACH;FMTTYPE=image/jpeg:https://destinationbedfordva.com/wp-content/uploads/2025/01/MTX-2025.jpg
GEO:37.305294;-79.501901
X-APPLE-STRUCTURED-LOCATION;VALUE=URI;X-ADDRESS=Falling Creek Park 1257 County Farm Road Bedford VA 24523 United States;X-APPLE-RADIUS=500;X-TITLE=1257 County Farm Road:geo:-79.501901,37.305294
END:VEVENT
BEGIN:VEVENT
DTSTART;TZID=America/New_York:20250118T110000
DTEND;TZID=America/New_York:20250118T150000
DTSTAMP:20260419T233640
CREATED:20241216T203902Z
LAST-MODIFIED:20250226T154442Z
UID:10056107-1737198000-1737212400@destinationbedfordva.com
SUMMARY:Bower Center Exhibit
DESCRIPTION:The annual Curry/Bower exhibition is one of the largest exhibits all year\, and the artwork featured is mostly by regional artists of all skill levels. This stunning collection boasts a total of 194 works by 68 artists\, including the Youth Division entries.     \nGallery hours are 11-3\, Tuesday-Saturday.  Admission is free! All galleries will be open during the events on Friday night and Saturday afternoon. The gallery images from both the adult and youth exhibits are available online as well! \n 
URL:https://destinationbedfordva.com/event/bower-center-exhibit-2-3-2-2/2025-01-18/
LOCATION:Bower Center for the Arts\, 309 North Bridge Street\, Bedford\, VA\, United States
ATTACH;FMTTYPE=image/png:https://destinationbedfordva.com/wp-content/uploads/2023/04/Bower-Center-for-the-Arts.png
GEO:37.336317;-79.522795
X-APPLE-STRUCTURED-LOCATION;VALUE=URI;X-ADDRESS=Bower Center for the Arts 309 North Bridge Street Bedford VA United States;X-APPLE-RADIUS=500;X-TITLE=309 North Bridge Street:geo:-79.522795,37.336317
END:VEVENT
BEGIN:VEVENT
DTSTART;TZID=America/New_York:20250118T120000
DTEND;TZID=America/New_York:20250118T173000
DTSTAMP:20260419T233640
CREATED:20250115T211920Z
LAST-MODIFIED:20250115T211920Z
UID:10059198-1737201600-1737221400@destinationbedfordva.com
SUMMARY:Live Music at Harvest Moon
DESCRIPTION:C0me to Harvest Moon for live music by Dave Owens and enjoy beer\, wine\, meads\, ciders\, and non-alcoholic drinks\, along with delicious food and great shopping at the Marketplace. Free admission and free music!
URL:https://destinationbedfordva.com/event/live-music-at-harvest-moon-3/
LOCATION:Harvest Moon Marketplace\, 14917 Moneta Rd\, Moneta\, VA\, 24121\, United States
ATTACH;FMTTYPE=image/jpeg:https://destinationbedfordva.com/wp-content/uploads/2025/01/live-music-at-HM.jpg
END:VEVENT
BEGIN:VEVENT
DTSTART;TZID=America/New_York:20250118T190000
DTEND;TZID=America/New_York:20250118T220000
DTSTAMP:20260419T233640
CREATED:20250115T212325Z
LAST-MODIFIED:20250115T212325Z
UID:10059199-1737226800-1737237600@destinationbedfordva.com
SUMMARY:Live Music at New London Ruritan Club
DESCRIPTION:Family friendly community dance and live music by The Second Wind Band. Bring your own snacks and non-alcoholic drinks. $10/adult\, music 7-10pm. Hosted by Ruritan member volunteers.
URL:https://destinationbedfordva.com/event/live-music-at-new-london-ruritan-club/
LOCATION:New London Ruritan\, 12411 East Lynchburg Salem Turnpike\, Forest\, VA\, 24551\, United States
ATTACH;FMTTYPE=image/jpeg:https://destinationbedfordva.com/wp-content/uploads/2025/01/second-wind-band.jpg
GEO:37.30493;-79.304666
X-APPLE-STRUCTURED-LOCATION;VALUE=URI;X-ADDRESS=New London Ruritan 12411 East Lynchburg Salem Turnpike Forest VA 24551 United States;X-APPLE-RADIUS=500;X-TITLE=12411 East Lynchburg Salem Turnpike:geo:-79.304666,37.30493
END:VEVENT
END:VCALENDAR