BEGIN:VCALENDAR
VERSION:2.0
PRODID:-//Destination Bedford - ECPv6.8.3//NONSGML v1.0//EN
CALSCALE:GREGORIAN
METHOD:PUBLISH
X-WR-CALNAME:Destination Bedford
X-ORIGINAL-URL:https://destinationbedfordva.com
X-WR-CALDESC:Events for Destination Bedford
REFRESH-INTERVAL;VALUE=DURATION:PT1H
X-Robots-Tag:noindex
X-PUBLISHED-TTL:PT1H
BEGIN:VTIMEZONE
TZID:America/New_York
BEGIN:DAYLIGHT
TZOFFSETFROM:-0500
TZOFFSETTO:-0400
TZNAME:EDT
DTSTART:20250309T070000
END:DAYLIGHT
BEGIN:STANDARD
TZOFFSETFROM:-0400
TZOFFSETTO:-0500
TZNAME:EST
DTSTART:20251102T060000
END:STANDARD
END:VTIMEZONE
BEGIN:VEVENT
DTSTART;TZID=America/New_York:20250316T110000
DTEND;TZID=America/New_York:20250316T190000
DTSTAMP:20260420T174123
CREATED:20250312T171823Z
LAST-MODIFIED:20250312T171939Z
UID:10059342-1742122800-1742151600@destinationbedfordva.com
SUMMARY:Cousins Maine Lobster Truck
DESCRIPTION:Cousins Maine Lobster is visiting Bedford\nTreat yourself to one (or all) of their Maine Lobster treats at Bedford Area Welcome Center!!\nShare and be there!!\nSunday\, March 16\n11:00am – 7:00pm\n816 Burks Hill Rd\, Bedford\, VA 24523\n For contactless & ahead ordering download our mobile app: Cousins Maine Lobster.\nSet Virginia\, VA as the location\nThe app begins accepting orders at 11:00AM & only during truck operational hours at the location.\nEarn points with every order.\nIf you order at the truck\, make sure to have them scan the QR code.\nSee you there!\nPlease note that they do not accept cash at our truck. They accept all major Debit & Credit cards along with contactless payments.
URL:https://destinationbedfordva.com/event/cousins-maine-lobster-truck/
LOCATION:Bedford Area Welcome Center\, 816 Burks Hill Road\, Bedford\, VA\, 24523\, United States
ATTACH;FMTTYPE=image/jpeg:https://destinationbedfordva.com/wp-content/uploads/2025/03/Lobster-truck-2025.jpg
GEO:37.3252279;-79.5316948
X-APPLE-STRUCTURED-LOCATION;VALUE=URI;X-ADDRESS=Bedford Area Welcome Center 816 Burks Hill Road Bedford VA 24523 United States;X-APPLE-RADIUS=500;X-TITLE=816 Burks Hill Road:geo:-79.5316948,37.3252279
END:VEVENT
BEGIN:VEVENT
DTSTART;TZID=America/New_York:20250316T120000
DTEND;TZID=America/New_York:20250316T170000
DTSTAMP:20260420T174123
CREATED:20250312T162251Z
LAST-MODIFIED:20250312T162251Z
UID:10059341-1742126400-1742144400@destinationbedfordva.com
SUMMARY:St. Patrick's Day Party at the Meadery
DESCRIPTION:Live Celtic music by Cat & Banjo\, vendors\, tavern food and kids crafts! Free event. Click here for more information. 
URL:https://destinationbedfordva.com/event/st-patricks-day-party-at-the-meadery/
LOCATION:The Meadery at Graham Ordinary\, 8578 Peaks Rd\, Bedford\, Virginia\, 24523
ATTACH;FMTTYPE=image/jpeg:https://destinationbedfordva.com/wp-content/uploads/2025/03/st-patricks-day-2025.jpg
END:VEVENT
BEGIN:VEVENT
DTSTART;TZID=America/New_York:20250316T120000
DTEND;TZID=America/New_York:20250316T170000
DTSTAMP:20260420T174123
CREATED:20250313T153438Z
LAST-MODIFIED:20250320T194938Z
UID:10059353-1742126400-1742144400@destinationbedfordva.com
SUMMARY:Irish Tavern Days at Harvest Moon
DESCRIPTION:Irish Tavern days in March! Come listen authentic Irish music that begins St Paddy’s Day weekend with Root 2 Music! Then March 23rd again with Star City Ceili Band! In the Tavern and under the Pavilion! Free Admission!\n \nGet to Harvest Moon Marketplace with beers from some of the oldest breweries in Europe\, Scotland\, Ireland\, Belgium\, Germany and more\, plus award-winning wines\, awesome Meads\, ciders\, and more! Open 12-5 for live music! Also\, get some tasty Irish-themed Food!\nShop\, Eat\, Drink! Family-friendly environment. Experience Ireland at Harvest Moon Marketplace! 14917 Moneta Rd. Moneta\, VA at Smith Mountain Lake!
URL:https://destinationbedfordva.com/event/irish-tavern-days-at-harvest-moon/2025-03-16/
LOCATION:Harvest Moon Marketplace\, 14917 Moneta Rd\, Moneta\, VA\, 24121\, United States
ATTACH;FMTTYPE=image/jpeg:https://destinationbedfordva.com/wp-content/uploads/2025/03/irish-tavern-days.jpg
END:VEVENT
BEGIN:VEVENT
DTSTART;TZID=America/New_York:20250316T160000
DTEND;TZID=America/New_York:20250316T210000
DTSTAMP:20260420T174123
CREATED:20250313T154346Z
LAST-MODIFIED:20250313T154346Z
UID:10059357-1742140800-1742158800@destinationbedfordva.com
SUMMARY:St. Paddy's Weekend at Beale's
DESCRIPTION:Join Beale’s Brewery all weekend for St. Paddy’s Day fun! \nBEERS:\n– $2 off Rainbow Connection and Gold ALL WEEKEND\n– Porter Mountain Release on Friday\n– $5 Black and Tans on Saturday \nFOOD:\n– Smoked Pastrami on Rye\n– Bangers & Mash \nMUSIC: \n– Christian Quesenberry 1-4pm on Saturday
URL:https://destinationbedfordva.com/event/st-paddys-weekend-at-beales/2025-03-16/
LOCATION:Beale’s Brewery\, 510 Grove Street\, Bedford\, VA\, 24523\, United States
ATTACH;FMTTYPE=image/jpeg:https://destinationbedfordva.com/wp-content/uploads/2023/02/St.-Pattys-at-Beales.jpg
GEO:37.3356288;-79.5169923
X-APPLE-STRUCTURED-LOCATION;VALUE=URI;X-ADDRESS=Beale’s Brewery 510 Grove Street Bedford VA 24523 United States;X-APPLE-RADIUS=500;X-TITLE=510 Grove Street:geo:-79.5169923,37.3356288
END:VEVENT
END:VCALENDAR