BEGIN:VCALENDAR
VERSION:2.0
PRODID:-//Destination Bedford - ECPv6.8.3//NONSGML v1.0//EN
CALSCALE:GREGORIAN
METHOD:PUBLISH
X-ORIGINAL-URL:https://destinationbedfordva.com
X-WR-CALDESC:Events for Destination Bedford
REFRESH-INTERVAL;VALUE=DURATION:PT1H
X-Robots-Tag:noindex
X-PUBLISHED-TTL:PT1H
BEGIN:VTIMEZONE
TZID:America/New_York
BEGIN:DAYLIGHT
TZOFFSETFROM:-0500
TZOFFSETTO:-0400
TZNAME:EDT
DTSTART:20250309T070000
END:DAYLIGHT
BEGIN:STANDARD
TZOFFSETFROM:-0400
TZOFFSETTO:-0500
TZNAME:EST
DTSTART:20251102T060000
END:STANDARD
END:VTIMEZONE
BEGIN:VEVENT
DTSTART;TZID=America/New_York:20250418T103000
DTEND;TZID=America/New_York:20250418T140000
DTSTAMP:20260420T010735
CREATED:20250228T214652Z
LAST-MODIFIED:20250228T214652Z
UID:10059306-1744972200-1744984800@destinationbedfordva.com
SUMMARY:Bedford Chamber of Commerce Job Fair
DESCRIPTION:Hiring\, or looking for a job? Search no longer!\nFor the past 12 years\, the Bedford Area Chamber of Commerce has striven to create a healthy workforce for the Bedford area through organizing large public job fairs\, and in the age of digital recruitment\, bridging the gap between employers and job seekers is more important than ever.\nEmployers will be accepting resumes and conducting interviews\, and some will be hiring on the spot. Full-time\, part-time\, and seasonal positions will be offered. Last year\, 40+ actively hiring businesses exhibited\, representing a variety of industries in Bedford\, Roanoke\, Lynchburg\, and beyond.\nThe Spring Job Fair is free to job seekers. We will also offer on-site childcare\, a professional clothing closet\, food truck\, coffee\, giveaways\, and more!\nEmployers can secure a booth by registering on https://www.bedfordareachamber.com/2025jobfair/ by April 11.
URL:https://destinationbedfordva.com/event/bedford-chamber-of-commerce-job-fair/
LOCATION:Jefferson Forest Auditorium\, 1 Cavalier Circle\, Forest\, VA\, 24551\, United States
ATTACH;FMTTYPE=image/jpeg:https://destinationbedfordva.com/wp-content/uploads/2025/02/chamber-job-fair.jpg
GEO:37.3757418;-79.3035415
X-APPLE-STRUCTURED-LOCATION;VALUE=URI;X-ADDRESS=Jefferson Forest Auditorium 1 Cavalier Circle Forest VA 24551 United States;X-APPLE-RADIUS=500;X-TITLE=1 Cavalier Circle:geo:-79.3035415,37.3757418
END:VEVENT
BEGIN:VEVENT
DTSTART;TZID=America/New_York:20250418T110000
DTEND;TZID=America/New_York:20250418T150000
DTSTAMP:20260420T010735
CREATED:20211117T194934Z
LAST-MODIFIED:20250404T163715Z
UID:10059409-1744974000-1744988400@destinationbedfordva.com
SUMMARY:BCPS School Art Show
DESCRIPTION:The Bower Center for the Arts has partnered with the Bedford County Public Schools System to showcase the amazing artistic abilities of the youth in our community. Gallery admission is free.  \nApril 10th will be the reception that is open to the public from 5-6:30pm.  \n 
URL:https://destinationbedfordva.com/event/bcps-school-art-show-2/2025-04-18/
LOCATION:Bower Center for the Arts\, 309 North Bridge Street\, Bedford\, VA\, United States
ATTACH;FMTTYPE=image/png:https://destinationbedfordva.com/wp-content/uploads/2023/04/Bower-Center-for-the-Arts.png
GEO:37.336317;-79.522795
X-APPLE-STRUCTURED-LOCATION;VALUE=URI;X-ADDRESS=Bower Center for the Arts 309 North Bridge Street Bedford VA United States;X-APPLE-RADIUS=500;X-TITLE=309 North Bridge Street:geo:-79.522795,37.336317
END:VEVENT
BEGIN:VEVENT
DTSTART;TZID=America/New_York:20250418T163000
DTEND;TZID=America/New_York:20250418T193000
DTSTAMP:20260420T010735
CREATED:20240802T190702Z
LAST-MODIFIED:20250328T204708Z
UID:10059394-1744993800-1745004600@destinationbedfordva.com
SUMMARY:Live Music & Food Truck at Fables & Feathers
DESCRIPTION:Come to Fables and Feathers Winery for live music\, great wine and beautiful views! Some days there will also be food trucks on site.  Click here to see who is playing and which food truck will be on site! 
URL:https://destinationbedfordva.com/event/live-music-food-truck-at-fables-feathers/2025-04-18/
LOCATION:Fables & Feathers Winery\, 2117 Bruno Dr.\, Goodview\, VA\, 24095
ATTACH;FMTTYPE=image/jpeg:https://destinationbedfordva.com/wp-content/uploads/2021/05/Fables-and-Feathers-Vineyard-July-2022-NJ-002.jpg
END:VEVENT
BEGIN:VEVENT
DTSTART;TZID=America/New_York:20250418T180000
DTEND;TZID=America/New_York:20250418T220000
DTSTAMP:20260420T010735
CREATED:20250411T183224Z
LAST-MODIFIED:20250703T165922Z
UID:10059517-1744999200-1745013600@destinationbedfordva.com
SUMMARY:Forest Friday Cheers
DESCRIPTION: \nCome enjoy Forest Friday Cheers at Apocalypse Ale Works!\nKick back\, relax\, and enjoy a FREE family-friendly evening of live music\, food\, and fun every Friday! \n **Time:** 5:00 PM – 8:00 PM\n **Location:** Apocalypse Ale Works\nExpect:\n– **Live Music:** Click here to see who is playing each week!\n– **Bounce Zones:** Fun for the little ones with bouncy castles and kid-friendly activities.\n– **Beer & Refreshments:** Grab a cold one from Apocalypse Ale Works and enjoy their fantastic selection of local brews.\n– **Food by Bunker 42: Delicious eats to fuel your evening of fun and music.\n**All Ages Welcome** – Bring the whole family out for a night of great music\, tasty food\, and unforgettable memories.\n Let’s make this Friday a night to remember! See you at Apocalypse Ale Works! 
URL:https://destinationbedfordva.com/event/forest-friday-cheers-2/2025-04-18/
LOCATION:Apocalypse Ale Works\, 1257 Burnbridge Road\, Forest\, VA\, 24551\, United States
ATTACH;FMTTYPE=image/jpeg:https://destinationbedfordva.com/wp-content/uploads/2025/04/forest-fridays.jpg
GEO:37.3622178;-79.2877024
X-APPLE-STRUCTURED-LOCATION;VALUE=URI;X-ADDRESS=Apocalypse Ale Works 1257 Burnbridge Road Forest VA 24551 United States;X-APPLE-RADIUS=500;X-TITLE=1257 Burnbridge Road:geo:-79.2877024,37.3622178
END:VEVENT
BEGIN:VEVENT
DTSTART;TZID=America/New_York:20250418T190000
DTEND;TZID=America/New_York:20250418T220000
DTSTAMP:20260420T010735
CREATED:20250306T164433Z
LAST-MODIFIED:20250306T164512Z
UID:10059327-1745002800-1745013600@destinationbedfordva.com
SUMMARY:Live Music @ Apocalypse Ale Works
DESCRIPTION:Come to Apocalypse Ale Works for great beer and live music.  For more information and to see who is playing each week\, click here. Food by Bunker 42 Bar Bites will also be available for purchase! 
URL:https://destinationbedfordva.com/event/live-music-apocalypse-ale-works-2-2/2025-04-18/
LOCATION:Apocalypse Ale Works\, 1257 Burnbridge Road\, Forest\, VA\, 24551\, United States
ATTACH;FMTTYPE=image/jpeg:https://destinationbedfordva.com/wp-content/uploads/2023/01/beer-9.jpg
GEO:37.3622178;-79.2877024
X-APPLE-STRUCTURED-LOCATION;VALUE=URI;X-ADDRESS=Apocalypse Ale Works 1257 Burnbridge Road Forest VA 24551 United States;X-APPLE-RADIUS=500;X-TITLE=1257 Burnbridge Road:geo:-79.2877024,37.3622178
END:VEVENT
END:VCALENDAR