BEGIN:VCALENDAR
VERSION:2.0
PRODID:-//Destination Bedford - ECPv6.8.3//NONSGML v1.0//EN
CALSCALE:GREGORIAN
METHOD:PUBLISH
X-ORIGINAL-URL:https://destinationbedfordva.com
X-WR-CALDESC:Events for Destination Bedford
REFRESH-INTERVAL;VALUE=DURATION:PT1H
X-Robots-Tag:noindex
X-PUBLISHED-TTL:PT1H
BEGIN:VTIMEZONE
TZID:America/New_York
BEGIN:DAYLIGHT
TZOFFSETFROM:-0500
TZOFFSETTO:-0400
TZNAME:EDT
DTSTART:20250309T070000
END:DAYLIGHT
BEGIN:STANDARD
TZOFFSETFROM:-0400
TZOFFSETTO:-0500
TZNAME:EST
DTSTART:20251102T060000
END:STANDARD
END:VTIMEZONE
BEGIN:VEVENT
DTSTART;TZID=America/New_York:20250419T090000
DTEND;TZID=America/New_York:20250419T160000
DTSTAMP:20260420T130836
CREATED:20250411T183945Z
LAST-MODIFIED:20250411T183945Z
UID:10059541-1745053200-1745078400@destinationbedfordva.com
SUMMARY:Fiber Festival
DESCRIPTION:Join Stitch Witch of Bedford in the foothills of the beautiful Blue Ridge Mountains at Sedilia Center for a gathering of fiber friends! Enjoy yarn vendors\, ceramics\, fiber animals\, yarn trucks\, knit designers and more!
URL:https://destinationbedfordva.com/event/fiber-festival/
LOCATION:Sedalia Center\, 1108 Sedalia School Road\, Big Island\, VA\, 24526\, United States
ATTACH;FMTTYPE=image/jpeg:https://destinationbedfordva.com/wp-content/uploads/2025/04/sharp-top-fiber-festival.jpg
END:VEVENT
BEGIN:VEVENT
DTSTART;TZID=America/New_York:20250419T100000
DTEND;TZID=America/New_York:20250419T150000
DTSTAMP:20260420T130836
CREATED:20250128T213956Z
LAST-MODIFIED:20250128T213956Z
UID:10059208-1745056800-1745074800@destinationbedfordva.com
SUMMARY:Easter Egg Hunt & Ranch Day
DESCRIPTION:The Easter bunny will be hopping on over to the Ranch for pictures and fun! Come get your picture with the Easter Bunny!\nIn addition to the Easter Bunny there is more fun planned!!\nCome enjoy an Egg Hunt\, Unicorn meet & greet\, petting zoo\, bounce house\, kids play corral\, Easter crafts\, and more!\nAdmission: $5 Entry Fee – 3 & Under FREE\n****If you plan to participate in the Easter Egg Hunt please BRING YOUR OWN BASKET****\nThis year there will be 10\,000++ Eggs to ensure eggs for everyone!\n \nSaturday April 19th\, 2024\n10am – Gates Open\nPetting Zoo Open\nKids Corral Open\n11am – Easter Bunny Arrives\n12pm- Unicorn Arrives\n1pm- Easter Egg Hunt\n3pm- Gates Close
URL:https://destinationbedfordva.com/event/easter-egg-hunt-ranch-day-2/
LOCATION:Twin J Ranch\, 2478 Moneta Road\, Bedford\, VA\, 24523
ATTACH;FMTTYPE=image/jpeg:https://destinationbedfordva.com/wp-content/uploads/2025/01/Easter-egg-hunt-2025.jpg
END:VEVENT
BEGIN:VEVENT
DTSTART;TZID=America/New_York:20250419T100000
DTEND;TZID=America/New_York:20250419T180000
DTSTAMP:20260420T130836
CREATED:20250314T204935Z
LAST-MODIFIED:20250314T204935Z
UID:10059376-1745056800-1745085600@destinationbedfordva.com
SUMMARY:Virginia Flower Fest
DESCRIPTION:Step into a sea of 50\,000+ blooming tulips at this first ever Tulip Festival at Layman Family Farms! \nEnjoy breathtaking photo ops\, leisurely strolls through vibrant fields\, and a day filled with family-friendly farm fun. \nWhen: March 22nd – April 20th\nHours: Saturdays & Sundays\, 10 AM – 6 PM \nClick here to purchase tickets.
URL:https://destinationbedfordva.com/event/virginia-flower-fest/2025-04-19/
LOCATION:Layman Family Farms\, 1815 Mountain View Church Road\, Montvale\, VA\, 24122\, United States
ATTACH;FMTTYPE=image/jpeg:https://destinationbedfordva.com/wp-content/uploads/2025/03/virginia-flower-fest.jpg
GEO:37.374828;-79.7377107
X-APPLE-STRUCTURED-LOCATION;VALUE=URI;X-ADDRESS=Layman Family Farms 1815 Mountain View Church Road Montvale VA 24122 United States;X-APPLE-RADIUS=500;X-TITLE=1815 Mountain View Church Road:geo:-79.7377107,37.374828
END:VEVENT
BEGIN:VEVENT
DTSTART;TZID=America/New_York:20250419T103000
DTEND;TZID=America/New_York:20250419T120000
DTSTAMP:20260420T130836
CREATED:20250307T172041Z
LAST-MODIFIED:20250307T172041Z
UID:10059340-1745058600-1745064000@destinationbedfordva.com
SUMMARY:Easter Egg Hunt at Gross’ Orchard
DESCRIPTION:Come to Gross’ Orchard for an Easter Egg Hunt sponsored by Human Kind Foster Care!  \nClick here for more information. 
URL:https://destinationbedfordva.com/event/easter-egg-hunt-at-gross-orchard/
LOCATION:Gross Orchards\, 6817 Wheats Valley Road\, Bedford\, VA\, 24523\, United States
ATTACH;FMTTYPE=image/jpeg:https://destinationbedfordva.com/wp-content/uploads/2025/03/easter-egg-hunt-at-gross.jpg
GEO:37.427682;-79.555247
X-APPLE-STRUCTURED-LOCATION;VALUE=URI;X-ADDRESS=Gross Orchards 6817 Wheats Valley Road Bedford VA 24523 United States;X-APPLE-RADIUS=500;X-TITLE=6817 Wheats Valley Road:geo:-79.555247,37.427682
END:VEVENT
BEGIN:VEVENT
DTSTART;TZID=America/New_York:20250419T110000
DTEND;TZID=America/New_York:20250419T120000
DTSTAMP:20260420T130836
CREATED:20250312T204436Z
LAST-MODIFIED:20250312T204618Z
UID:10059348-1745060400-1745064000@destinationbedfordva.com
SUMMARY:Goat Yoga
DESCRIPTION:Immerse yourself in the peaceful surroundings of the sanctuary as you flow through yoga poses with adorable goats roaming around you. It’s the perfect opportunity to connect with nature\, unwind\, and have some fun with our furry friends.
URL:https://destinationbedfordva.com/event/goat-yoga/2025-04-19/
LOCATION:Woodpecker Hollow Farm\, 1911 Von Roy Rd.\, Bedford\, VA\, 24523\, United States
ATTACH;FMTTYPE=image/jpeg:https://destinationbedfordva.com/wp-content/uploads/2025/03/Goat-yoga.jpg
END:VEVENT
BEGIN:VEVENT
DTSTART;TZID=America/New_York:20250419T110000
DTEND;TZID=America/New_York:20250419T150000
DTSTAMP:20260420T130836
CREATED:20211117T194934Z
LAST-MODIFIED:20250404T163715Z
UID:10059410-1745060400-1745074800@destinationbedfordva.com
SUMMARY:BCPS School Art Show
DESCRIPTION:The Bower Center for the Arts has partnered with the Bedford County Public Schools System to showcase the amazing artistic abilities of the youth in our community. Gallery admission is free.  \nApril 10th will be the reception that is open to the public from 5-6:30pm.  \n 
URL:https://destinationbedfordva.com/event/bcps-school-art-show-2/2025-04-19/
LOCATION:Bower Center for the Arts\, 309 North Bridge Street\, Bedford\, VA\, United States
ATTACH;FMTTYPE=image/png:https://destinationbedfordva.com/wp-content/uploads/2023/04/Bower-Center-for-the-Arts.png
GEO:37.336317;-79.522795
X-APPLE-STRUCTURED-LOCATION;VALUE=URI;X-ADDRESS=Bower Center for the Arts 309 North Bridge Street Bedford VA United States;X-APPLE-RADIUS=500;X-TITLE=309 North Bridge Street:geo:-79.522795,37.336317
END:VEVENT
BEGIN:VEVENT
DTSTART;TZID=America/New_York:20250419T120000
DTEND;TZID=America/New_York:20250419T180000
DTSTAMP:20260420T130836
CREATED:20250407T191836Z
LAST-MODIFIED:20250407T191836Z
UID:10059506-1745064000-1745085600@destinationbedfordva.com
SUMMARY:World Weavers at the Meadery
DESCRIPTION:Come to the Meadery at Graham Ordinary to see the World Weavers and all of the magic that they bring!  \nClick here for more information for each event. 
URL:https://destinationbedfordva.com/event/world-weavers-at-the-meadery/2025-04-19/
LOCATION:The Meadery at Graham Ordinary\, 8578 Peaks Rd\, Bedford\, Virginia\, 24523
ATTACH;FMTTYPE=image/jpeg:https://destinationbedfordva.com/wp-content/uploads/2025/04/world-weavers.jpg
END:VEVENT
BEGIN:VEVENT
DTSTART;TZID=America/New_York:20250419T140000
DTEND;TZID=America/New_York:20250419T170000
DTSTAMP:20260420T130836
CREATED:20240802T190702Z
LAST-MODIFIED:20250328T204708Z
UID:10059395-1745071200-1745082000@destinationbedfordva.com
SUMMARY:Live Music & Food Truck at Fables & Feathers
DESCRIPTION:Come to Fables and Feathers Winery for live music\, great wine and beautiful views! Some days there will also be food trucks on site.  Click here to see who is playing and which food truck will be on site! 
URL:https://destinationbedfordva.com/event/live-music-food-truck-at-fables-feathers/2025-04-19/
LOCATION:Fables & Feathers Winery\, 2117 Bruno Dr.\, Goodview\, VA\, 24095
ATTACH;FMTTYPE=image/jpeg:https://destinationbedfordva.com/wp-content/uploads/2021/05/Fables-and-Feathers-Vineyard-July-2022-NJ-002.jpg
END:VEVENT
BEGIN:VEVENT
DTSTART;TZID=America/New_York:20250419T140000
DTEND;TZID=America/New_York:20250419T170000
DTSTAMP:20260420T130836
CREATED:20240816T141024Z
LAST-MODIFIED:20250416T205333Z
UID:10055656-1745071200-1745082000@destinationbedfordva.com
SUMMARY:Live Music at Beale's
DESCRIPTION:Come to Beale’s Brewery for live music by Brent Monster Band!  \n 
URL:https://destinationbedfordva.com/event/live-music-at-beales-5/
LOCATION:Beale’s Brewery\, 510 Grove Street\, Bedford\, VA\, 24523\, United States
ATTACH;FMTTYPE=image/jpeg:https://destinationbedfordva.com/wp-content/uploads/2020/03/beales-4.jpg
GEO:37.3356288;-79.5169923
X-APPLE-STRUCTURED-LOCATION;VALUE=URI;X-ADDRESS=Beale’s Brewery 510 Grove Street Bedford VA 24523 United States;X-APPLE-RADIUS=500;X-TITLE=510 Grove Street:geo:-79.5169923,37.3356288
END:VEVENT
BEGIN:VEVENT
DTSTART;TZID=America/New_York:20250419T190000
DTEND;TZID=America/New_York:20250419T220000
DTSTAMP:20260420T130836
CREATED:20250128T214617Z
LAST-MODIFIED:20250410T202324Z
UID:10059220-1745089200-1745100000@destinationbedfordva.com
SUMMARY:Live Music at New London Ruritan Club
DESCRIPTION:This is a family friendly community dance with live entertainers!! $10/adult\, doors open at 6:30pm\, music 7-10pm. Please bring your own snacks and non-alcoholic beverages. Supported by Ruritan volunteers.
URL:https://destinationbedfordva.com/event/live-music-at-new-london-ruritan-club-2/2025-04-19/
LOCATION:New London Ruritan\, 12411 East Lynchburg Salem Turnpike\, Forest\, VA\, 24551\, United States
ATTACH;FMTTYPE=image/jpeg:https://destinationbedfordva.com/wp-content/uploads/2025/01/live-music-at-new-london.jpg
GEO:37.30493;-79.304666
X-APPLE-STRUCTURED-LOCATION;VALUE=URI;X-ADDRESS=New London Ruritan 12411 East Lynchburg Salem Turnpike Forest VA 24551 United States;X-APPLE-RADIUS=500;X-TITLE=12411 East Lynchburg Salem Turnpike:geo:-79.304666,37.30493
END:VEVENT
BEGIN:VEVENT
DTSTART;TZID=America/New_York:20250419T193000
DTEND;TZID=America/New_York:20250419T230000
DTSTAMP:20260420T130836
CREATED:20250408T163113Z
LAST-MODIFIED:20250408T163113Z
UID:10059512-1745091000-1745103600@destinationbedfordva.com
SUMMARY:Spring Fling Salsa Social
DESCRIPTION:Whether you’ve never tried partner dancing before\, are an avid social dancer\, or are just looking for a fun date night with the significant other\, our Spring Fling Social Dance is the place to be! Details \n Fables & Feathers Winery\n Beginner Dance Lesson @7:30pm (No Partner Necessary! First-timers welcome)\n Social Dancing @8:00pm-10:30/11:00pm\n Wine flights\, glasses\, & bottles available for purchase.\n Draft Beer Available for purchase\nPizza Available for purchase\n Mix of Salsa\, Bachata\, and Merengue with several Zouk & Kiz songs sprinkled in throughout the night!!\n $10 Cover at the door\n21+ to drink. Free parking on premises. Message us with any further questions! 
URL:https://destinationbedfordva.com/event/spring-fling-salsa-social/
LOCATION:fables and feathers
ATTACH;FMTTYPE=image/jpeg:https://destinationbedfordva.com/wp-content/uploads/2025/04/salsa-dancing.jpg
END:VEVENT
END:VCALENDAR