BEGIN:VCALENDAR
VERSION:2.0
PRODID:-//Destination Bedford - ECPv6.8.3//NONSGML v1.0//EN
CALSCALE:GREGORIAN
METHOD:PUBLISH
X-WR-CALNAME:Destination Bedford
X-ORIGINAL-URL:https://destinationbedfordva.com
X-WR-CALDESC:Events for Destination Bedford
REFRESH-INTERVAL;VALUE=DURATION:PT1H
X-Robots-Tag:noindex
X-PUBLISHED-TTL:PT1H
BEGIN:VTIMEZONE
TZID:America/New_York
BEGIN:DAYLIGHT
TZOFFSETFROM:-0500
TZOFFSETTO:-0400
TZNAME:EDT
DTSTART:20250309T070000
END:DAYLIGHT
BEGIN:STANDARD
TZOFFSETFROM:-0400
TZOFFSETTO:-0500
TZNAME:EST
DTSTART:20251102T060000
END:STANDARD
END:VTIMEZONE
BEGIN:VEVENT
DTSTART;TZID=America/New_York:20250425T110000
DTEND;TZID=America/New_York:20250425T150000
DTSTAMP:20260419T202357
CREATED:20211117T194934Z
LAST-MODIFIED:20250404T163715Z
UID:10059414-1745578800-1745593200@destinationbedfordva.com
SUMMARY:BCPS School Art Show
DESCRIPTION:The Bower Center for the Arts has partnered with the Bedford County Public Schools System to showcase the amazing artistic abilities of the youth in our community. Gallery admission is free.  \nApril 10th will be the reception that is open to the public from 5-6:30pm.  \n 
URL:https://destinationbedfordva.com/event/bcps-school-art-show-2/2025-04-25/
LOCATION:Bower Center for the Arts\, 309 North Bridge Street\, Bedford\, VA\, United States
ATTACH;FMTTYPE=image/png:https://destinationbedfordva.com/wp-content/uploads/2023/04/Bower-Center-for-the-Arts.png
GEO:37.336317;-79.522795
X-APPLE-STRUCTURED-LOCATION;VALUE=URI;X-ADDRESS=Bower Center for the Arts 309 North Bridge Street Bedford VA United States;X-APPLE-RADIUS=500;X-TITLE=309 North Bridge Street:geo:-79.522795,37.336317
END:VEVENT
BEGIN:VEVENT
DTSTART;TZID=America/New_York:20250425T163000
DTEND;TZID=America/New_York:20250425T193000
DTSTAMP:20260419T202357
CREATED:20240802T190702Z
LAST-MODIFIED:20250328T204708Z
UID:10059396-1745598600-1745609400@destinationbedfordva.com
SUMMARY:Live Music & Food Truck at Fables & Feathers
DESCRIPTION:Come to Fables and Feathers Winery for live music\, great wine and beautiful views! Some days there will also be food trucks on site.  Click here to see who is playing and which food truck will be on site! 
URL:https://destinationbedfordva.com/event/live-music-food-truck-at-fables-feathers/2025-04-25/
LOCATION:Fables & Feathers Winery\, 2117 Bruno Dr.\, Goodview\, VA\, 24095
ATTACH;FMTTYPE=image/jpeg:https://destinationbedfordva.com/wp-content/uploads/2021/05/Fables-and-Feathers-Vineyard-July-2022-NJ-002.jpg
END:VEVENT
BEGIN:VEVENT
DTSTART;TZID=America/New_York:20250425T170000
DTEND;TZID=America/New_York:20250425T220000
DTSTAMP:20260419T202357
CREATED:20220211T195704Z
LAST-MODIFIED:20250408T140256Z
UID:10059509-1745600400-1745618400@destinationbedfordva.com
SUMMARY:Terrapin Mountain Earth Festival
DESCRIPTION:A full weekend of live music\, sustainability education\, and thoughtful ways to take care of the earth and each other. \nCamp under the stars at the foot of Terrapin Mountain to celebrate our Mother Earth at the Terrapin Mountain Earth Day Festival. \nLocal food vendors\, craft vendor market\, and camping all weekend! Get your tickets and make your reservations now! \n\n Camping – https://www.sedaliacenter.org/terrapin-mountain-earth…/\n\n\n Tickets – https://www.sedaliacenter.org/terrapin-mountain-earth-day-festival/#tickets\n\nTickets can also be purchased at the Welcome Center which is open everyday 9 a.m. to 5 p.m. Cash or check accepted for ticket purchases.
URL:https://destinationbedfordva.com/event/terrapin-mountain-earth-festival/
LOCATION:Sedalia Center\, 1108 Sedalia School Road\, Big Island\, VA\, 24526\, United States
ATTACH;FMTTYPE=image/jpeg:https://destinationbedfordva.com/wp-content/uploads/2022/02/terrapin-2023.jpg
END:VEVENT
BEGIN:VEVENT
DTSTART;TZID=America/New_York:20250425T180000
DTEND;TZID=America/New_York:20250425T220000
DTSTAMP:20260419T202357
CREATED:20250411T183224Z
LAST-MODIFIED:20250703T165922Z
UID:10059518-1745604000-1745618400@destinationbedfordva.com
SUMMARY:Forest Friday Cheers
DESCRIPTION: \nCome enjoy Forest Friday Cheers at Apocalypse Ale Works!\nKick back\, relax\, and enjoy a FREE family-friendly evening of live music\, food\, and fun every Friday! \n **Time:** 5:00 PM – 8:00 PM\n **Location:** Apocalypse Ale Works\nExpect:\n– **Live Music:** Click here to see who is playing each week!\n– **Bounce Zones:** Fun for the little ones with bouncy castles and kid-friendly activities.\n– **Beer & Refreshments:** Grab a cold one from Apocalypse Ale Works and enjoy their fantastic selection of local brews.\n– **Food by Bunker 42: Delicious eats to fuel your evening of fun and music.\n**All Ages Welcome** – Bring the whole family out for a night of great music\, tasty food\, and unforgettable memories.\n Let’s make this Friday a night to remember! See you at Apocalypse Ale Works! 
URL:https://destinationbedfordva.com/event/forest-friday-cheers-2/2025-04-25/
LOCATION:Apocalypse Ale Works\, 1257 Burnbridge Road\, Forest\, VA\, 24551\, United States
ATTACH;FMTTYPE=image/jpeg:https://destinationbedfordva.com/wp-content/uploads/2025/04/forest-fridays.jpg
GEO:37.3622178;-79.2877024
X-APPLE-STRUCTURED-LOCATION;VALUE=URI;X-ADDRESS=Apocalypse Ale Works 1257 Burnbridge Road Forest VA 24551 United States;X-APPLE-RADIUS=500;X-TITLE=1257 Burnbridge Road:geo:-79.2877024,37.3622178
END:VEVENT
BEGIN:VEVENT
DTSTART;TZID=America/New_York:20250425T190000
DTEND;TZID=America/New_York:20250425T220000
DTSTAMP:20260419T202357
CREATED:20250306T164433Z
LAST-MODIFIED:20250306T164512Z
UID:10059328-1745607600-1745618400@destinationbedfordva.com
SUMMARY:Live Music @ Apocalypse Ale Works
DESCRIPTION:Come to Apocalypse Ale Works for great beer and live music.  For more information and to see who is playing each week\, click here. Food by Bunker 42 Bar Bites will also be available for purchase! 
URL:https://destinationbedfordva.com/event/live-music-apocalypse-ale-works-2-2/2025-04-25/
LOCATION:Apocalypse Ale Works\, 1257 Burnbridge Road\, Forest\, VA\, 24551\, United States
ATTACH;FMTTYPE=image/jpeg:https://destinationbedfordva.com/wp-content/uploads/2023/01/beer-9.jpg
GEO:37.3622178;-79.2877024
X-APPLE-STRUCTURED-LOCATION;VALUE=URI;X-ADDRESS=Apocalypse Ale Works 1257 Burnbridge Road Forest VA 24551 United States;X-APPLE-RADIUS=500;X-TITLE=1257 Burnbridge Road:geo:-79.2877024,37.3622178
END:VEVENT
END:VCALENDAR