BEGIN:VCALENDAR
VERSION:2.0
PRODID:-//Destination Bedford - ECPv6.8.3//NONSGML v1.0//EN
CALSCALE:GREGORIAN
METHOD:PUBLISH
X-ORIGINAL-URL:https://destinationbedfordva.com
X-WR-CALDESC:Events for Destination Bedford
REFRESH-INTERVAL;VALUE=DURATION:PT1H
X-Robots-Tag:noindex
X-PUBLISHED-TTL:PT1H
BEGIN:VTIMEZONE
TZID:America/New_York
BEGIN:DAYLIGHT
TZOFFSETFROM:-0500
TZOFFSETTO:-0400
TZNAME:EDT
DTSTART:20250309T070000
END:DAYLIGHT
BEGIN:STANDARD
TZOFFSETFROM:-0400
TZOFFSETTO:-0500
TZNAME:EST
DTSTART:20251102T060000
END:STANDARD
END:VTIMEZONE
BEGIN:VEVENT
DTSTART;TZID=America/New_York:20250516T110000
DTEND;TZID=America/New_York:20250516T150000
DTSTAMP:20260420T113828
CREATED:20250501T183754Z
LAST-MODIFIED:20250613T140132Z
UID:10059589-1747393200-1747407600@destinationbedfordva.com
SUMMARY:Bower Center Exhibit
DESCRIPTION:Beginning on May 6\, the Bower Center for the Arts will host a dual exhibit in their galleries.  \nThe Braaten Gallery will feature the works of Kaye Lipscomb in her exhibit titled “Inside/Out.”  Lipscomb was awarded Best in Show in our National Juried Paper Arts Exhibition in 2022.  \nIn the Terrace Gallery\, they will have the exhibit “Limited Edition.” These works were completed by artists who are members of the Bower Center family.  This includes studio artists\, staff members\, Bower Center instructors\, board members\, and committee members . \n  \nA reception for these exhibits will be held on Friday\, June 13 at 5:00pm.  It is open to the public.  As always\, admission to the galleries are free!
URL:https://destinationbedfordva.com/event/bower-center-exhibit-4/2025-05-16/
LOCATION:Bower Center for the Arts\, 309 North Bridge Street\, Bedford\, VA\, United States
ATTACH;FMTTYPE=image/jpeg:https://destinationbedfordva.com/wp-content/uploads/2025/04/Bower-Center-exhibit-may-2025.jpg
GEO:37.336317;-79.522795
X-APPLE-STRUCTURED-LOCATION;VALUE=URI;X-ADDRESS=Bower Center for the Arts 309 North Bridge Street Bedford VA United States;X-APPLE-RADIUS=500;X-TITLE=309 North Bridge Street:geo:-79.522795,37.336317
END:VEVENT
BEGIN:VEVENT
DTSTART;TZID=America/New_York:20250516T180000
DTEND;TZID=America/New_York:20250516T220000
DTSTAMP:20260420T113828
CREATED:20250411T183224Z
LAST-MODIFIED:20250703T165922Z
UID:10059521-1747418400-1747432800@destinationbedfordva.com
SUMMARY:Forest Friday Cheers
DESCRIPTION: \nCome enjoy Forest Friday Cheers at Apocalypse Ale Works!\nKick back\, relax\, and enjoy a FREE family-friendly evening of live music\, food\, and fun every Friday! \n **Time:** 5:00 PM – 8:00 PM\n **Location:** Apocalypse Ale Works\nExpect:\n– **Live Music:** Click here to see who is playing each week!\n– **Bounce Zones:** Fun for the little ones with bouncy castles and kid-friendly activities.\n– **Beer & Refreshments:** Grab a cold one from Apocalypse Ale Works and enjoy their fantastic selection of local brews.\n– **Food by Bunker 42: Delicious eats to fuel your evening of fun and music.\n**All Ages Welcome** – Bring the whole family out for a night of great music\, tasty food\, and unforgettable memories.\n Let’s make this Friday a night to remember! See you at Apocalypse Ale Works! 
URL:https://destinationbedfordva.com/event/forest-friday-cheers-2/2025-05-16/
LOCATION:Apocalypse Ale Works\, 1257 Burnbridge Road\, Forest\, VA\, 24551\, United States
ATTACH;FMTTYPE=image/jpeg:https://destinationbedfordva.com/wp-content/uploads/2025/04/forest-fridays.jpg
GEO:37.3622178;-79.2877024
X-APPLE-STRUCTURED-LOCATION;VALUE=URI;X-ADDRESS=Apocalypse Ale Works 1257 Burnbridge Road Forest VA 24551 United States;X-APPLE-RADIUS=500;X-TITLE=1257 Burnbridge Road:geo:-79.2877024,37.3622178
END:VEVENT
BEGIN:VEVENT
DTSTART;TZID=America/New_York:20250516T190000
DTEND;TZID=America/New_York:20250516T220000
DTSTAMP:20260420T113828
CREATED:20250306T164433Z
LAST-MODIFIED:20250306T164512Z
UID:10059331-1747422000-1747432800@destinationbedfordva.com
SUMMARY:Live Music @ Apocalypse Ale Works
DESCRIPTION:Come to Apocalypse Ale Works for great beer and live music.  For more information and to see who is playing each week\, click here. Food by Bunker 42 Bar Bites will also be available for purchase! 
URL:https://destinationbedfordva.com/event/live-music-apocalypse-ale-works-2-2/2025-05-16/
LOCATION:Apocalypse Ale Works\, 1257 Burnbridge Road\, Forest\, VA\, 24551\, United States
ATTACH;FMTTYPE=image/jpeg:https://destinationbedfordva.com/wp-content/uploads/2023/01/beer-9.jpg
GEO:37.3622178;-79.2877024
X-APPLE-STRUCTURED-LOCATION;VALUE=URI;X-ADDRESS=Apocalypse Ale Works 1257 Burnbridge Road Forest VA 24551 United States;X-APPLE-RADIUS=500;X-TITLE=1257 Burnbridge Road:geo:-79.2877024,37.3622178
END:VEVENT
BEGIN:VEVENT
DTSTART;TZID=America/New_York:20250516T193000
DTEND;TZID=America/New_York:20250516T220000
DTSTAMP:20260420T113828
CREATED:20250502T200556Z
LAST-MODIFIED:20250502T200556Z
UID:10059628-1747423800-1747432800@destinationbedfordva.com
SUMMARY:Little Town Players “The Color Purple"
DESCRIPTION:Little Town Players has been performing live community theatre in Bedford for more than 45 years! \nDon’t miss their latest musical “The Color Purple.” \nPerformances are May 9\, 10\, 16 &  17 at 7:30pm \nSunday matinees –  May 11 & May 18 at 2:00pm \nDoors open 30 minutes before start time. \nSpecial Note: Because the theatre is a historical site\, restrooms are not in the same building. Restrooms are available just across the way in the Elks Home Main Building. \n\nClick here to purchase tickets. \n  \n 
URL:https://destinationbedfordva.com/event/little-town-players-the-color-purple/2025-05-16/
LOCATION:Little Town Players\, 931 Ashland Avenue\, Bedford\, VA\, 24523\, United States
ATTACH;FMTTYPE=image/jpeg:https://destinationbedfordva.com/wp-content/uploads/2025/05/The-color-purple.jpg
GEO:37.3434782;-79.5351962
X-APPLE-STRUCTURED-LOCATION;VALUE=URI;X-ADDRESS=Little Town Players 931 Ashland Avenue Bedford VA 24523 United States;X-APPLE-RADIUS=500;X-TITLE=931 Ashland Avenue:geo:-79.5351962,37.3434782
END:VEVENT
END:VCALENDAR